BEGIN:VCALENDAR
VERSION:2.0
PRODID:-//Hetrick-Martin Institute - ECPv6.15.20//NONSGML v1.0//EN
CALSCALE:GREGORIAN
METHOD:PUBLISH
X-WR-CALNAME:Hetrick-Martin Institute
X-ORIGINAL-URL:https://hmi.org
X-WR-CALDESC:Events for Hetrick-Martin Institute
REFRESH-INTERVAL;VALUE=DURATION:PT1H
X-Robots-Tag:noindex
X-PUBLISHED-TTL:PT1H
BEGIN:VTIMEZONE
TZID:America/New_York
BEGIN:DAYLIGHT
TZOFFSETFROM:-0500
TZOFFSETTO:-0400
TZNAME:EDT
DTSTART:20210314T070000
END:DAYLIGHT
BEGIN:STANDARD
TZOFFSETFROM:-0400
TZOFFSETTO:-0500
TZNAME:EST
DTSTART:20211107T060000
END:STANDARD
BEGIN:DAYLIGHT
TZOFFSETFROM:-0500
TZOFFSETTO:-0400
TZNAME:EDT
DTSTART:20220313T070000
END:DAYLIGHT
BEGIN:STANDARD
TZOFFSETFROM:-0400
TZOFFSETTO:-0500
TZNAME:EST
DTSTART:20221106T060000
END:STANDARD
BEGIN:DAYLIGHT
TZOFFSETFROM:-0500
TZOFFSETTO:-0400
TZNAME:EDT
DTSTART:20230312T070000
END:DAYLIGHT
BEGIN:STANDARD
TZOFFSETFROM:-0400
TZOFFSETTO:-0500
TZNAME:EST
DTSTART:20231105T060000
END:STANDARD
END:VTIMEZONE
BEGIN:VEVENT
DTSTART;TZID=America/New_York:20220503T123000
DTEND;TZID=America/New_York:20220503T133000
DTSTAMP:20260421T202805
CREATED:20220708T193037Z
LAST-MODIFIED:20220727T135034Z
UID:10000949-1651581000-1651584600@hmi.org
SUMMARY:Moving Toward Belonging - Part 3
DESCRIPTION:Leave this engaging session feeling more empowered to understand mental health within the next generation entering the workforce. Why? Because you’ve learned more about the history\, effects\, and impacts of mental health on our LGBTQIA+ young people. Now you can become an active participant and advocate for creating a more inclusive workplace for your workforce.  \n\n\n\nThrough breakout groups and round table discussions\, you will learn why the LGBTQIA+ community is disproportionately impacted by mental health conditions. How can your organization provide a safe and authentic environment for all people to bring their full authentic selves to work?
URL:https://hmi.org/event/moving-toward-belonging-part-3/
LOCATION:Virtual
CATEGORIES:Donor Events,Past Events
ATTACH;FMTTYPE=image/jpeg:https://hmi.org/wp-content/uploads/2022/07/279021421_358616012978954_7410531331840618580_n.jpg
END:VEVENT
BEGIN:VEVENT
DTSTART;TZID=America/New_York:20220419T123000
DTEND;TZID=America/New_York:20220419T133000
DTSTAMP:20260421T202805
CREATED:20220708T192039Z
LAST-MODIFIED:20220727T134833Z
UID:10000931-1650371400-1650375000@hmi.org
SUMMARY:Moving Toward Belonging - Part 2
DESCRIPTION:We learn about ourselves and enhance our organizations through listening to other people’s stories. Join us for this Fireside Chat to hear from a parent and child and how their journey impacts organizations\, workforce communities\, communities at-large\, and loved ones.  \n\n\n\nOrganizations know that supporting their employees is the way to create safe spaces and environments where employees can bring their full authentic selves to work. The LGBQ and TGNC journey is unique. Non-conforming identities within this community are sometimes visible and other times invisible. This Fireside Chat will allow you to hear the stories\, experience the transitions that happen within the workplace\, and determine ways to enhance your ability to connect with this community. How will your organization learn from your employees’ stories?
URL:https://hmi.org/event/moving-toward-belonging-part-2/
LOCATION:Virtual
CATEGORIES:Donor Events,Past Events
ATTACH;FMTTYPE=image/jpeg:https://hmi.org/wp-content/uploads/2022/07/278440705_10153394564724979_2886030290352391532_n.jpg
END:VEVENT
BEGIN:VEVENT
DTSTART;TZID=America/New_York:20220329T123000
DTEND;TZID=America/New_York:20220329T133000
DTSTAMP:20260421T202805
CREATED:20220708T193655Z
LAST-MODIFIED:20220727T135130Z
UID:10000951-1648557000-1648560600@hmi.org
SUMMARY:Moving Toward Belonging - Part 1
DESCRIPTION:A facilitated Zoom panel discussion between HMI staff members and HR professionals exploring the complexities that LGBTQIA+ young people face when entering the workplace. Through this experience organizations can learn valuable tools and insights to support recruiting\, onboarding and in boarding\, creating inclusive environments\, and strong retention strategies to create a diverse pipeline.  \n\n\n\nAccording to Gallup\, The percentage of U.S. adults who self-identify as lesbian\, gay\, bisexual\, transgender or something other than heterosexual has increased to a new high of 7.1%\, which is double the percentage from 2012\, when Gallup first measured it. In 2019\, the LGBTQIA+ population represented almost $3.7 trillion in market share buying power. \n\n\n\nThese statistics inform organizations that having a strong workforce where LGBTQIA+ employees are represented and feel safe allows the organization to be a true reflection of the marketplace they serve. How will you connect more deeply with your workforce and workplace to also connect more deeply with your marketplace?
URL:https://hmi.org/event/moving-toward-belonging-part-1/
LOCATION:Virtual
CATEGORIES:Donor Events,Past Events
ATTACH;FMTTYPE=image/png:https://hmi.org/wp-content/uploads/2022/07/277524953_10153391378719979_2225098775750061636_n.png
END:VEVENT
END:VCALENDAR