BEGIN:VCALENDAR
VERSION:2.0
PRODID:-//Hetrick-Martin Institute - ECPv6.15.20//NONSGML v1.0//EN
CALSCALE:GREGORIAN
METHOD:PUBLISH
X-ORIGINAL-URL:https://hmi.org
X-WR-CALDESC:Events for Hetrick-Martin Institute
REFRESH-INTERVAL;VALUE=DURATION:PT1H
X-Robots-Tag:noindex
X-PUBLISHED-TTL:PT1H
BEGIN:VTIMEZONE
TZID:America/New_York
BEGIN:DAYLIGHT
TZOFFSETFROM:-0500
TZOFFSETTO:-0400
TZNAME:EDT
DTSTART:20210314T070000
END:DAYLIGHT
BEGIN:STANDARD
TZOFFSETFROM:-0400
TZOFFSETTO:-0500
TZNAME:EST
DTSTART:20211107T060000
END:STANDARD
BEGIN:DAYLIGHT
TZOFFSETFROM:-0500
TZOFFSETTO:-0400
TZNAME:EDT
DTSTART:20220313T070000
END:DAYLIGHT
BEGIN:STANDARD
TZOFFSETFROM:-0400
TZOFFSETTO:-0500
TZNAME:EST
DTSTART:20221106T060000
END:STANDARD
BEGIN:DAYLIGHT
TZOFFSETFROM:-0500
TZOFFSETTO:-0400
TZNAME:EDT
DTSTART:20230312T070000
END:DAYLIGHT
BEGIN:STANDARD
TZOFFSETFROM:-0400
TZOFFSETTO:-0500
TZNAME:EST
DTSTART:20231105T060000
END:STANDARD
END:VTIMEZONE
BEGIN:VEVENT
DTSTART;TZID=America/New_York:20221201T080000
DTEND;TZID=America/New_York:20221201T170000
DTSTAMP:20260421T222655
CREATED:20221201T190644Z
LAST-MODIFIED:20221201T190645Z
UID:10001588-1669881600-1669914000@hmi.org
SUMMARY:Metamorphosis
DESCRIPTION:Join us Friday 12/1\, 8pm at NYU’s Black Box Theatre for “Metamorphosis” stories about struggle and transformation co-created by people who have participated in a storytelling workshop at HMI. \n\n\n \n\n\nReserve your ticket here: https://docs.google.com/forms/d/e/1FAIpQLSd8TTRteSPmAyxKh6cJ8gQPrsHpuwN2gsiKCeNx_x7zlwvADA/viewform
URL:https://hmi.org/event/metamorphosis/
LOCATION:NYU Black Box Theatre\, 82 Washington Square East\, New York\, 10003\, United States
CATEGORIES:Youth Events
ATTACH;FMTTYPE=image/png:https://hmi.org/wp-content/uploads/2022/12/Metamorphosis-flyer-scaled.png
END:VEVENT
END:VCALENDAR