BEGIN:VCALENDAR
VERSION:2.0
PRODID:-//Hetrick-Martin Institute - ECPv6.15.20//NONSGML v1.0//EN
CALSCALE:GREGORIAN
METHOD:PUBLISH
X-WR-CALNAME:Hetrick-Martin Institute
X-ORIGINAL-URL:https://hmi.org
X-WR-CALDESC:Events for Hetrick-Martin Institute
REFRESH-INTERVAL;VALUE=DURATION:PT1H
X-Robots-Tag:noindex
X-PUBLISHED-TTL:PT1H
BEGIN:VTIMEZONE
TZID:America/New_York
BEGIN:DAYLIGHT
TZOFFSETFROM:-0500
TZOFFSETTO:-0400
TZNAME:EDT
DTSTART:20220313T070000
END:DAYLIGHT
BEGIN:STANDARD
TZOFFSETFROM:-0400
TZOFFSETTO:-0500
TZNAME:EST
DTSTART:20221106T060000
END:STANDARD
BEGIN:DAYLIGHT
TZOFFSETFROM:-0500
TZOFFSETTO:-0400
TZNAME:EDT
DTSTART:20230312T070000
END:DAYLIGHT
BEGIN:STANDARD
TZOFFSETFROM:-0400
TZOFFSETTO:-0500
TZNAME:EST
DTSTART:20231105T060000
END:STANDARD
BEGIN:DAYLIGHT
TZOFFSETFROM:-0500
TZOFFSETTO:-0400
TZNAME:EDT
DTSTART:20240310T070000
END:DAYLIGHT
BEGIN:STANDARD
TZOFFSETFROM:-0400
TZOFFSETTO:-0500
TZNAME:EST
DTSTART:20241103T060000
END:STANDARD
END:VTIMEZONE
BEGIN:VEVENT
DTSTART;TZID=America/New_York:20230601T100000
DTEND;TZID=America/New_York:20230601T110000
DTSTAMP:20260422T013225
CREATED:20230523T005754Z
LAST-MODIFIED:20230523T005755Z
UID:10002421-1685613600-1685617200@hmi.org
SUMMARY:Barry's Run X Lift: Wainscott
DESCRIPTION:RUN X LIFT CLASSTHURSDAY\, JUNE 1\, 10:20 AMWAINSCOTT (HAMPTONS) \nBe ready for PRIDE and SUMMER by registering for one or more of these four Barry’s classes while supporting LGBTQIA+ youth. Barry’s is giving back to HMI through its Barry’s Cares program\, and money raised with go towards School’s Out. Secure your spot at hmi.org/barrys for classes between June 1-4. #hmipride #HMISchoolsOut #barryscares 
URL:https://hmi.org/event/barrys-run-x-lift-wainscott/
LOCATION:Barry’s Wainscott\, 352 Montauk Hwy\, Wainscott\, New York\, 11975\, United States
CATEGORIES:Partner Events
ATTACH;FMTTYPE=image/png:https://hmi.org/wp-content/uploads/2023/05/Barrys-Social-Promo.png
END:VEVENT
END:VCALENDAR