BEGIN:VCALENDAR
VERSION:2.0
PRODID:-//Hetrick-Martin Institute - ECPv6.15.20//NONSGML v1.0//EN
CALSCALE:GREGORIAN
METHOD:PUBLISH
X-WR-CALNAME:Hetrick-Martin Institute
X-ORIGINAL-URL:https://hmi.org
X-WR-CALDESC:Events for Hetrick-Martin Institute
REFRESH-INTERVAL;VALUE=DURATION:PT1H
X-Robots-Tag:noindex
X-PUBLISHED-TTL:PT1H
BEGIN:VTIMEZONE
TZID:America/New_York
BEGIN:DAYLIGHT
TZOFFSETFROM:-0500
TZOFFSETTO:-0400
TZNAME:EDT
DTSTART:20180311T070000
END:DAYLIGHT
BEGIN:STANDARD
TZOFFSETFROM:-0400
TZOFFSETTO:-0500
TZNAME:EST
DTSTART:20181104T060000
END:STANDARD
BEGIN:DAYLIGHT
TZOFFSETFROM:-0500
TZOFFSETTO:-0400
TZNAME:EDT
DTSTART:20190310T070000
END:DAYLIGHT
BEGIN:STANDARD
TZOFFSETFROM:-0400
TZOFFSETTO:-0500
TZNAME:EST
DTSTART:20191103T060000
END:STANDARD
BEGIN:DAYLIGHT
TZOFFSETFROM:-0500
TZOFFSETTO:-0400
TZNAME:EDT
DTSTART:20200308T070000
END:DAYLIGHT
BEGIN:STANDARD
TZOFFSETFROM:-0400
TZOFFSETTO:-0500
TZNAME:EST
DTSTART:20201101T060000
END:STANDARD
END:VTIMEZONE
BEGIN:VEVENT
DTSTART;TZID=America/New_York:20190608T180000
DTEND;TZID=America/New_York:20190608T223000
DTSTAMP:20260421T094145
CREATED:20190322T192537Z
LAST-MODIFIED:20220727T135505Z
UID:10000824-1560016800-1560033000@hmi.org
SUMMARY:School's Out 2019
DESCRIPTION:View Event Photos on Facebook(Courtesy of Rommel Demano/BFA.com and Andrew Werner) \n \nClick on image to access Facebook Album \n\nEVENT CO-CHAIRS \nBenjamin Dixon | Daniel Ennis | Rod Grozier \n  \nHOST COMMITTEE \n\n\n\n\n\nJoseph Altuzarra\nTracy Anderson\nSteven Beltrani\nShelly Brown\n\n\n\n\n\nLisa Cohen\nThom Filicia\nFernando Garcia\nJohn Glynn \n\n\n\n\n\nRyan Kaplan\nGarrett Neff\nJordan Ross\nSydney Sadick\n\n\n\n\n\nBrian Sawyer\nKevin Sharkey\nBill Wackermann\nPaul Weinstein \n\n\n\n\n\nCOCKTAILS \n6:00pm – 8:30pmHome of Lisa & James Cohen in East Hampton \nDINNER \n8:30pm – 10:30pmHome of Joe Hall & Martin Dagata on Further Lane \nby STK Steakhouse \n  \nSPONSORS & PARTNERS \n– CHAMPION SPONSOR – \n \n– GRADUATE SPONSORS – \n \n \n \n– DINNER PARTNER – \n \n– NATIONAL MEDIA SPONSOR – \n \n– WINE & SPIRITS PARTNERS – \n \n \n \n– SCHOLASTIC SPONSORS – \nWarnerMediaShoshi BuildersThe Mackay | Dixon TeamDomaine \n– UNIVERSITY SPONSORS – \nJoe Hall & Martin DagataJohnny V. \n– SCHOOL SPONSORS – \nRobby BrowneJohn CampanellaSam Rosenblatt & Mario D’AndreaMarcus Goodwin & Ryan KaplanMichael S. LorberThe Palm Restaurant \n– CLASS SPONSORS – \nAndrew Petronio & Andres AlumaBill ContenteMichael FernandezJohn Crocker & Charlie JohnstonJosh Rogers & Brayden McCarthyTravis Howe & Mario NieveraIlan RosenthalRobert StilinThomas TeepleKyle Glaeser & Andrew Yuder \n– PUPIL SPONSORS – \nAna BermudezTimothy BlaquiereJohn Bjornen & Cee Scott BrownJackie DeaneMallon FitzpatrickJoel Isaacs & Greg FloodMatthew HellerMonte Albers de Leon & Michael MeltzerRoss MoodyDavid Howard & Mike MurphyScott NewmanWilbur Pack\, Jr.Matthew Harris & Jonathan SiegelPeggy TannerDavid Traitel \n\nThe summer months are often difficult for our young people\, as schools are closed and resources remain scarce. The money that School’s Out raises each summer helps assure that HMI’s doors stay open throughout the year with hot meals and vital life-saving  every single day. We hope that you will join us this year as we celebrate summer and the future of our HMI youth at School’s Out 2019. \n\n\n\n\n \n\n\n\n\n\n \n\n\n\n\n\n \n\n\n\n\n\n \n\n\n\n\n\n\n\n \n\n\n\n\n\n \n\n\n\n\n\n \n\n\n\n\n\nLearn More\n\n\n\n  \n \n(Click image above to see photos from last year’s event) \nFor more information\, please contact Crystal Butler at cbutler@hmi.org.
URL:https://hmi.org/event/schools-out-2019/
LOCATION:Amagansett Square\, 154 Main Street\, Amagansett\, New York\, 11930\, United States
CATEGORIES:Donor Events
ATTACH;FMTTYPE=image/jpeg:https://hmi.org/wp-content/uploads/2019/03/Schools-Out-2019-Event-Header.jpg
END:VEVENT
END:VCALENDAR