BEGIN:VCALENDAR
VERSION:2.0
PRODID:-//Hetrick-Martin Institute - ECPv6.15.20//NONSGML v1.0//EN
CALSCALE:GREGORIAN
METHOD:PUBLISH
X-WR-CALNAME:Hetrick-Martin Institute
X-ORIGINAL-URL:https://hmi.org
X-WR-CALDESC:Events for Hetrick-Martin Institute
REFRESH-INTERVAL;VALUE=DURATION:PT1H
X-Robots-Tag:noindex
X-PUBLISHED-TTL:PT1H
BEGIN:VTIMEZONE
TZID:America/New_York
BEGIN:DAYLIGHT
TZOFFSETFROM:-0500
TZOFFSETTO:-0400
TZNAME:EDT
DTSTART:20220313T070000
END:DAYLIGHT
BEGIN:STANDARD
TZOFFSETFROM:-0400
TZOFFSETTO:-0500
TZNAME:EST
DTSTART:20221106T060000
END:STANDARD
BEGIN:DAYLIGHT
TZOFFSETFROM:-0500
TZOFFSETTO:-0400
TZNAME:EDT
DTSTART:20230312T070000
END:DAYLIGHT
BEGIN:STANDARD
TZOFFSETFROM:-0400
TZOFFSETTO:-0500
TZNAME:EST
DTSTART:20231105T060000
END:STANDARD
BEGIN:DAYLIGHT
TZOFFSETFROM:-0500
TZOFFSETTO:-0400
TZNAME:EDT
DTSTART:20240310T070000
END:DAYLIGHT
BEGIN:STANDARD
TZOFFSETFROM:-0400
TZOFFSETTO:-0500
TZNAME:EST
DTSTART:20241103T060000
END:STANDARD
END:VTIMEZONE
BEGIN:VEVENT
DTSTART;TZID=America/New_York:20230325T200000
DTEND;TZID=America/New_York:20230325T230000
DTSTAMP:20260421T214845
CREATED:20230228T183015Z
LAST-MODIFIED:20230228T184219Z
UID:10002242-1679774400-1679785200@hmi.org
SUMMARY:This Is Me presented by National Concerts
DESCRIPTION:50% of the proceeds of tickets sold at this link will go directly to HMI. Use the code HLF47 for a 50% discount. The code can be entered at the top of the page on the right-hand side. \nThis performance at Lincoln Center is the first-ever National High School Choral Festival\, specifically celebrating LGBTQIA+ and gender-expansive students and allies. \nThis collaboration will provide a welcoming\, open\, and safe space to make music together and celebrate the LGBTQIA+ community through music education. Choirs will collaborate with co-guest conductors and a professional artist-in-residence in rehearsals and a final performance at Lincoln Center. Choirs from all over the country create an unforgettable evening filled with luscious music and exciting visual projections. Audiences have never seen a choral concert like this before. \n  \n 
URL:https://hmi.org/event/this-is-me-presented-by-national-concerts/
LOCATION:Alice Tully Hall at Lincoln Center\, 1941 Broadway\, New York\, NY\, 10023\, United States
CATEGORIES:Corporate,Partner Events
ATTACH;FMTTYPE=image/jpeg:https://hmi.org/wp-content/uploads/2023/02/National-Concerts-Lincoln-Center-March-2023-scaled.jpg
END:VEVENT
END:VCALENDAR