BEGIN:VCALENDAR
VERSION:2.0
PRODID:-//Hetrick-Martin Institute - ECPv6.15.20//NONSGML v1.0//EN
CALSCALE:GREGORIAN
METHOD:PUBLISH
X-WR-CALNAME:Hetrick-Martin Institute
X-ORIGINAL-URL:https://hmi.org
X-WR-CALDESC:Events for Hetrick-Martin Institute
REFRESH-INTERVAL;VALUE=DURATION:PT1H
X-Robots-Tag:noindex
X-PUBLISHED-TTL:PT1H
BEGIN:VTIMEZONE
TZID:America/New_York
BEGIN:DAYLIGHT
TZOFFSETFROM:-0500
TZOFFSETTO:-0400
TZNAME:EDT
DTSTART:20220313T070000
END:DAYLIGHT
BEGIN:STANDARD
TZOFFSETFROM:-0400
TZOFFSETTO:-0500
TZNAME:EST
DTSTART:20221106T060000
END:STANDARD
BEGIN:DAYLIGHT
TZOFFSETFROM:-0500
TZOFFSETTO:-0400
TZNAME:EDT
DTSTART:20230312T070000
END:DAYLIGHT
BEGIN:STANDARD
TZOFFSETFROM:-0400
TZOFFSETTO:-0500
TZNAME:EST
DTSTART:20231105T060000
END:STANDARD
BEGIN:DAYLIGHT
TZOFFSETFROM:-0500
TZOFFSETTO:-0400
TZNAME:EDT
DTSTART:20240310T070000
END:DAYLIGHT
BEGIN:STANDARD
TZOFFSETFROM:-0400
TZOFFSETTO:-0500
TZNAME:EST
DTSTART:20241103T060000
END:STANDARD
END:VTIMEZONE
BEGIN:VTIMEZONE
TZID:America/New_York
BEGIN:DAYLIGHT
TZOFFSETFROM:-0500
TZOFFSETTO:-0400
TZNAME:EDT
DTSTART:20180311T070000
END:DAYLIGHT
BEGIN:STANDARD
TZOFFSETFROM:-0400
TZOFFSETTO:-0500
TZNAME:EST
DTSTART:20181104T060000
END:STANDARD
BEGIN:DAYLIGHT
TZOFFSETFROM:-0500
TZOFFSETTO:-0400
TZNAME:EDT
DTSTART:20190310T070000
END:DAYLIGHT
BEGIN:STANDARD
TZOFFSETFROM:-0400
TZOFFSETTO:-0500
TZNAME:EST
DTSTART:20191103T060000
END:STANDARD
BEGIN:DAYLIGHT
TZOFFSETFROM:-0500
TZOFFSETTO:-0400
TZNAME:EDT
DTSTART:20200308T070000
END:DAYLIGHT
BEGIN:STANDARD
TZOFFSETFROM:-0400
TZOFFSETTO:-0500
TZNAME:EST
DTSTART:20201101T060000
END:STANDARD
BEGIN:DAYLIGHT
TZOFFSETFROM:-0500
TZOFFSETTO:-0400
TZNAME:EDT
DTSTART:20210314T070000
END:DAYLIGHT
BEGIN:STANDARD
TZOFFSETFROM:-0400
TZOFFSETTO:-0500
TZNAME:EST
DTSTART:20211107T060000
END:STANDARD
BEGIN:DAYLIGHT
TZOFFSETFROM:-0500
TZOFFSETTO:-0400
TZNAME:EDT
DTSTART:20220313T070000
END:DAYLIGHT
BEGIN:STANDARD
TZOFFSETFROM:-0400
TZOFFSETTO:-0500
TZNAME:EST
DTSTART:20221106T060000
END:STANDARD
BEGIN:DAYLIGHT
TZOFFSETFROM:-0500
TZOFFSETTO:-0400
TZNAME:EDT
DTSTART:20230312T070000
END:DAYLIGHT
BEGIN:STANDARD
TZOFFSETFROM:-0400
TZOFFSETTO:-0500
TZNAME:EST
DTSTART:20231105T060000
END:STANDARD
BEGIN:DAYLIGHT
TZOFFSETFROM:-0500
TZOFFSETTO:-0400
TZNAME:EDT
DTSTART:20240310T070000
END:DAYLIGHT
BEGIN:STANDARD
TZOFFSETFROM:-0400
TZOFFSETTO:-0500
TZNAME:EST
DTSTART:20241103T060000
END:STANDARD
END:VTIMEZONE
BEGIN:VEVENT
DTSTART;TZID=America/New_York:20230625T090000
DTEND;TZID=America/New_York:20230625T160000
DTSTAMP:20260421T204029
CREATED:20230604T042939Z
LAST-MODIFIED:20230622T204023Z
UID:10002462-1687683600-1687708800@hmi.org
SUMMARY:NYC Pride!
DESCRIPTION:Sunday\, June 25th march with HMI at NYC Pride! 9am meetup at 2 Astor Place\, 3rd Floor.  Start the day with some breakfast\, decorate your free pride t-shirts and grab some pride swag!  We will get to the parade together you won’t want to miss Snookie Juicy on the mic and our awesome FLOAT! Lunch will be provided. Register here. Check out their website at https://www.nycpride.org/ ALL ARE WELCOME!
URL:https://hmi.org/event/nyc-pride-3/
LOCATION:Hetrick-Martin Institute 3rd Floor\, 2 Astor Place 3rd Floor\, New York\, NY\, 10003\, United States
CATEGORIES:Corporate,Youth Events
ATTACH;FMTTYPE=image/png:https://hmi.org/wp-content/uploads/2023/06/pride-nyc-5.31.23-scaled.png
ORGANIZER;CN="Jermaine Ellis":MAILTO:hmiyouth@hmi.org
END:VEVENT
BEGIN:VEVENT
DTSTART;TZID=America/New_York:20230623T153000
DTEND;TZID=America/New_York:20230623T193000
DTSTAMP:20260421T204029
CREATED:20230605T144821Z
LAST-MODIFIED:20230605T144824Z
UID:10002838-1687534200-1687548600@hmi.org
SUMMARY:Pride Pop Up Party!
DESCRIPTION:The much anticipated Pride Pop Up will be held on Friday\, June 23rd – doors open at 3:30pm.  Space is limited so it’s first come first serve.  Our Pop Up Shop – open at 4pm – will be filled with fabulous gifts donated by our corporate partners and donors!  Fuku is back again with some delicious sandwiches for dinner at 5pm!  And of course there will be performances\, music\, games\, photo booth\, and much much MORE!
URL:https://hmi.org/event/pride-pop-up-party/
LOCATION:Hetrick-Martin Institute 3rd Floor\, 2 Astor Place 3rd Floor\, New York\, NY\, 10003\, United States
CATEGORIES:Youth Events
ATTACH;FMTTYPE=image/png:https://hmi.org/wp-content/uploads/2023/06/Pride-Pop-Up-Shop-2023-FINAL-scaled.png
ORGANIZER;CN="Jermaine Ellis":MAILTO:hmiyouth@hmi.org
END:VEVENT
BEGIN:VEVENT
DTSTART;TZID=America/New_York:20230622T180000
DTEND;TZID=America/New_York:20230622T203000
DTSTAMP:20260421T204029
CREATED:20230605T015058Z
LAST-MODIFIED:20230605T015100Z
UID:10002837-1687456800-1687465800@hmi.org
SUMMARY:Damien Awards
DESCRIPTION:For all HMIYouth members and invitees!  THE DAMIEN AWARDS ARE BACK IN FULL FORCE! Come and join us in an Awards Celebration and Dinner with special guest performances in honor of the youth\, alumni and staff who have embodied and lived by the values and principles of Hetrick-Martin Institute.  Location to be announced.  Email hmiyouth@hmi.org for more information.
URL:https://hmi.org/event/damien-awards/
CATEGORIES:Youth Events
ATTACH;FMTTYPE=image/png:https://hmi.org/wp-content/uploads/2023/06/Damien-Awards-2023-FINAL-1.png
ORGANIZER;CN="Jermaine Ellis":MAILTO:hmiyouth@hmi.org
END:VEVENT
BEGIN:VEVENT
DTSTART;TZID=America/New_York:20230617T150000
DTEND;TZID=America/New_York:20230617T193000
DTSTAMP:20260421T204029
CREATED:20230127T214508Z
LAST-MODIFIED:20230607T004835Z
UID:10001606-1687014000-1687030200@hmi.org
SUMMARY:2023 Youth Pride Fest
DESCRIPTION:Don’t miss Youth Pridefest 2023 – Saturday June 17th\, 3pm!  A action packed street festival at 2 Astor Place between Broadway and Lafayette.  There will be carnival games\, health testing\, entertainment\, cash prizes\, free giveaways\, kiki ball\, free food\, and the music of Byrell The Great and the iconic Snookie Juicy Couture on the mic! ALL ARE WELCOME!  Click here for full flyer and kiki ball categories and prizes. email hmiyouth@hmi.org for more info!
URL:https://hmi.org/event/2023-youth-pride-fest/
CATEGORIES:Corporate,Youth Events
ATTACH;FMTTYPE=image/png:https://hmi.org/wp-content/uploads/2023/06/Youth-Pride-Fest-2023-a.png
ORGANIZER;CN="Jermaine Ellis":MAILTO:hmiyouth@hmi.org
END:VEVENT
BEGIN:VEVENT
DTSTART;TZID=America/New_York:20220626T090000
DTEND;TZID=America/New_York:20220626T170000
DTSTAMP:20260421T204029
CREATED:20220606T032033Z
LAST-MODIFIED:20220606T032035Z
UID:10000878-1656234000-1656262800@hmi.org
SUMMARY:NYC Pride
DESCRIPTION:Come march with us on June 26th! Parade Meetup: 9am\, 2 Astor Place\, 3rd Floor NY\, NY 10019. Breakfast\, lunch\, t-shirts\, swag and pride gear will be provided! Email hmiyouth@hmi.org
URL:https://hmi.org/event/nyc-pride-2/
CATEGORIES:Youth Events
ATTACH;FMTTYPE=image/jpeg:https://hmi.org/wp-content/uploads/2022/06/pride-nyc-6.2.22-1-scaled.jpg
ORGANIZER;CN="Jermaine Ellis":MAILTO:hmiyouth@hmi.org
END:VEVENT
BEGIN:VEVENT
DTSTART;TZID=America/New_York:20220624T160000
DTEND;TZID=America/New_York:20220624T190000
DTSTAMP:20260421T204029
CREATED:20220525T204342Z
LAST-MODIFIED:20220727T134947Z
UID:10000840-1656086400-1656097200@hmi.org
SUMMARY:Youth Age-Out Farewell with PRIDE
DESCRIPTION:VIP ROOM in celebration of you who aged out during quarantine or age out by June 24\, 2022. Commemorate your time at HMI with friends and staff as you begin your next chapter. \n\n\n\nGIFTS – SNACKS – RESOURCES
URL:https://hmi.org/event/youth-age-out-farewell-with-pride/
LOCATION:Hetrick-Martin Institute 3rd Floor\, 2 Astor Place 3rd Floor\, New York\, NY\, 10003\, United States
CATEGORIES:Youth Events
ORGANIZER;CN="Jermaine Ellis":MAILTO:hmiyouth@hmi.org
END:VEVENT
BEGIN:VEVENT
DTSTART;TZID=America/New_York:20220611T100000
DTEND;TZID=America/New_York:20220611T170000
DTSTAMP:20260421T204029
CREATED:20220604T194322Z
LAST-MODIFIED:20220604T195655Z
UID:10000861-1654941600-1654966800@hmi.org
SUMMARY:Brooklyn Pride
DESCRIPTION:Come march with us! Parade Meetup: June 11th 6pm\,156 Fifth Ave in front of the V-Spot (between Degraw and Douglas Streets) Email hmiyouth@hmi.org
URL:https://hmi.org/event/brooklyn-pride/
CATEGORIES:Youth Events
ATTACH;FMTTYPE=image/jpeg:https://hmi.org/wp-content/uploads/2022/06/pride-brooklyn-6.1.22-2-scaled.jpg
ORGANIZER;CN="Jermaine Ellis":MAILTO:hmiyouth@hmi.org
END:VEVENT
BEGIN:VEVENT
DTSTART;TZID=America/New_York:20220605T120000
DTEND;TZID=America/New_York:20220605T180000
DTSTAMP:20260421T204029
CREATED:20220531T170520Z
LAST-MODIFIED:20220727T134959Z
UID:10000860-1654430400-1654452000@hmi.org
SUMMARY:Queen's Pride
DESCRIPTION:Come march with us!  Parade Meetup: June 5th 11am\, 89th St x 37th Ave.  Festival on 75th St x 37th Road from 1:30- 6pm. Email hmiyouth@hmi.org
URL:https://hmi.org/event/queens-pride/
CATEGORIES:Youth Events
ORGANIZER;CN="Jermaine Ellis":MAILTO:hmiyouth@hmi.org
END:VEVENT
BEGIN:VEVENT
DTSTART;TZID=America/New_York:20200201T150000
DTEND;TZID=America/New_York:20200201T220000
DTSTAMP:20260421T204029
CREATED:20200102T221129Z
LAST-MODIFIED:20220727T135217Z
UID:10000837-1580569200-1580594400@hmi.org
SUMMARY:15th Annual HMI Awards Ball
DESCRIPTION:Hetrick-Martin Institute & The Kiki Coalition \npresents \nThe 15th Annual HMI Awards Ball – JUMANJI \nSaturday\, February 1st\, 2020New York University – Kimmel Center – 4th Floor60 Washington Square South\, New York\, NY 10012 \nDoors Open at 3:00PM SHARPLSS Starts at 4:00PM \n \nCATEGORIES FOR THE EVENING … \nGRAND PRIZEFemale Figure Performance As A House – MEOW !! – $500Tonight you will showcase the ferocity of a feline and the sisterhood of the Amigas Cheetahs. In a team of (4) female figures (drags\, fem queens or women)\, bring it as the Cheetah Girls in cheetah print attire. Your 10’s will be wildcat style meaning all (4) members will get 10’s together at the same time with pure rage. Battles will be rumble style. NO PRODUCTIONS. \nMINI GRAND #1Bizarre Commentator – $250Tonight is the season finale of The Masked Commentator and a champion will be crowned. Bring it in an animal head piece that conceals the face and a cohesive fashionable bizarre effect. (Think of The Masked Singer) \nMINI GRAND #2Big Boys/Girls Runway – $200The massive creatures of the jungle have no fear. The” Big Gurls” are storming and there’s a stampede on the runway. Bring it in all gray as a rhino or elephant. But don’t forget your horn head piece. \nNew Legendary Performance (2018/2019) – $$$Long gone are “The Kitten Days” of wearing all white for virgin vogue. Tonight as a new legend\, take it back and bring it in a white tiger print cat suit. Who’s mighty performance will ROAR above the others \nOTA Realness – $$$Come as the main villain of the original JUMANJI Van Pelt. Bring it in a hunters look. (NOTE: No real or fake weapons) \nOTA Runway – $$$Elevate the runway as one of the tallest elegant animals of the wild. Put your imagination to the test and bring an ovah giraffe print effect. \nBQ Vogue Fem – $$$Tonight we want to see performance!!! Whether it’s the soft slithers of cunt or the venomous stings of dramatics. Bring it in snake skin. \nRealness With A Twist – $$$“Maybe Next Year Try Again … If The Panel Don’t Give Tens.” Bring it as Alan who was trapped inside JUMANJI for 26 Years in a wild jungle man look. \nBest Dressed – $$$Just bring it in your best Awards Red Carpet look. Remember it’s winter fashion in JUMANJI so don’t forget your animalistic fur pieces. \nOTA Face – $$$The face girls have been known to serve many looks from wicked beauty to glamour to club kid. Tonight we want to see you as a chameleon in an iridescent effect.
URL:https://hmi.org/event/15th-annual-hmi-awards-ball/
LOCATION:NYU Kimmel Center\, 60 Washington Sq. South\, New York\, NY\, 10012\, United States
CATEGORIES:Youth Events
ORGANIZER;CN="Jermaine Ellis":MAILTO:hmiyouth@hmi.org
END:VEVENT
BEGIN:VEVENT
DTSTART;TZID=America/New_York:20190326T173000
DTEND;TZID=America/New_York:20190326T193000
DTSTAMP:20260421T204029
CREATED:20190316T201626Z
LAST-MODIFIED:20220727T135556Z
UID:10000819-1553621400-1553628600@hmi.org
SUMMARY:Movie Screening: The Immortal Life of Henrietta Lacks
DESCRIPTION:Join us for Women’s History Month Movie Screenings all month long! The March 26th weekly feature will  be The Immortal Life of Henrietta Lacks.
URL:https://hmi.org/event/movie-screening-the-immortal-life-of-henrietta-lacks/
LOCATION:Hetrick-Martin Institute 3rd Floor\, 2 Astor Place 3rd Floor\, New York\, NY\, 10003\, United States
CATEGORIES:Youth Events
ORGANIZER;CN="Jermaine Ellis":MAILTO:hmiyouth@hmi.org
END:VEVENT
BEGIN:VEVENT
DTSTART;TZID=America/New_York:20190319T173000
DTEND;TZID=America/New_York:20190319T193000
DTSTAMP:20260421T204029
CREATED:20190315T143714Z
LAST-MODIFIED:20220727T135433Z
UID:10000817-1553016600-1553023800@hmi.org
SUMMARY:Movie Screening: Selena
DESCRIPTION:Join us for Women’s History Month Movie Screenings all month long! The March 19th weekly feature will be Selena.
URL:https://hmi.org/event/movie-screening-selena/
LOCATION:Hetrick-Martin Institute 3rd Floor\, 2 Astor Place 3rd Floor\, New York\, NY\, 10003\, United States
CATEGORIES:Youth Events
ORGANIZER;CN="Jermaine Ellis":MAILTO:hmiyouth@hmi.org
END:VEVENT
END:VCALENDAR