BEGIN:VCALENDAR
VERSION:2.0
PRODID:-//Hetrick-Martin Institute - ECPv6.15.20//NONSGML v1.0//EN
CALSCALE:GREGORIAN
METHOD:PUBLISH
X-ORIGINAL-URL:https://hmi.org
X-WR-CALDESC:Events for Hetrick-Martin Institute
REFRESH-INTERVAL;VALUE=DURATION:PT1H
X-Robots-Tag:noindex
X-PUBLISHED-TTL:PT1H
BEGIN:VTIMEZONE
TZID:America/New_York
BEGIN:DAYLIGHT
TZOFFSETFROM:-0500
TZOFFSETTO:-0400
TZNAME:EDT
DTSTART:20270314T070000
END:DAYLIGHT
BEGIN:STANDARD
TZOFFSETFROM:-0400
TZOFFSETTO:-0500
TZNAME:EST
DTSTART:20271107T060000
END:STANDARD
BEGIN:DAYLIGHT
TZOFFSETFROM:-0500
TZOFFSETTO:-0400
TZNAME:EDT
DTSTART:20280312T070000
END:DAYLIGHT
BEGIN:STANDARD
TZOFFSETFROM:-0400
TZOFFSETTO:-0500
TZNAME:EST
DTSTART:20281105T060000
END:STANDARD
BEGIN:DAYLIGHT
TZOFFSETFROM:-0500
TZOFFSETTO:-0400
TZNAME:EDT
DTSTART:20290311T070000
END:DAYLIGHT
BEGIN:STANDARD
TZOFFSETFROM:-0400
TZOFFSETTO:-0500
TZNAME:EST
DTSTART:20291104T060000
END:STANDARD
END:VTIMEZONE
BEGIN:VEVENT
DTSTART;TZID=America/New_York:20280608T160000
DTEND;TZID=America/New_York:20280608T173000
DTSTAMP:20260424T071144
CREATED:20240203T030317Z
LAST-MODIFIED:20240203T030319Z
UID:10009871-1844092800-1844098200@hmi.org
SUMMARY:Get Psyched About Games
DESCRIPTION:Get Psyched: About Games!” is a safe space to discuss mental health and psychology through the medium of video games! We will play a game together and discuss themes relating to mental health/psychology that show up – meet in room 302!
URL:https://hmi.org/event/get-psyched-about-games-3/2028-06-08/
CATEGORIES:Youth Events
ATTACH;FMTTYPE=image/png:https://hmi.org/wp-content/uploads/2023/09/Get-Psyched-About-Games_9.1.23-1.png
END:VEVENT
BEGIN:VEVENT
DTSTART;TZID=America/New_York:20280613T160000
DTEND;TZID=America/New_York:20280613T173000
DTSTAMP:20260424T071144
CREATED:20240203T025622Z
LAST-MODIFIED:20240203T025624Z
UID:10009663-1844524800-1844530200@hmi.org
SUMMARY:Get Psyched About Games
DESCRIPTION:Get Psyched: About Games!” is a safe space to discuss mental health and psychology through the medium of video games! We will play a game together and discuss themes relating to mental health/psychology that show up – meet in room 302!
URL:https://hmi.org/event/get-psyched-about-games-2/2028-06-13/
CATEGORIES:Youth Events
ATTACH;FMTTYPE=image/png:https://hmi.org/wp-content/uploads/2023/09/Get-Psyched-About-Games_9.1.23-1.png
END:VEVENT
BEGIN:VEVENT
DTSTART;TZID=America/New_York:20280615T160000
DTEND;TZID=America/New_York:20280615T173000
DTSTAMP:20260424T071144
CREATED:20240203T030317Z
LAST-MODIFIED:20240203T030319Z
UID:10009872-1844697600-1844703000@hmi.org
SUMMARY:Get Psyched About Games
DESCRIPTION:Get Psyched: About Games!” is a safe space to discuss mental health and psychology through the medium of video games! We will play a game together and discuss themes relating to mental health/psychology that show up – meet in room 302!
URL:https://hmi.org/event/get-psyched-about-games-3/2028-06-15/
CATEGORIES:Youth Events
ATTACH;FMTTYPE=image/png:https://hmi.org/wp-content/uploads/2023/09/Get-Psyched-About-Games_9.1.23-1.png
END:VEVENT
BEGIN:VEVENT
DTSTART;TZID=America/New_York:20280620T160000
DTEND;TZID=America/New_York:20280620T173000
DTSTAMP:20260424T071144
CREATED:20240203T025622Z
LAST-MODIFIED:20240203T025624Z
UID:10009664-1845129600-1845135000@hmi.org
SUMMARY:Get Psyched About Games
DESCRIPTION:Get Psyched: About Games!” is a safe space to discuss mental health and psychology through the medium of video games! We will play a game together and discuss themes relating to mental health/psychology that show up – meet in room 302!
URL:https://hmi.org/event/get-psyched-about-games-2/2028-06-20/
CATEGORIES:Youth Events
ATTACH;FMTTYPE=image/png:https://hmi.org/wp-content/uploads/2023/09/Get-Psyched-About-Games_9.1.23-1.png
END:VEVENT
BEGIN:VEVENT
DTSTART;TZID=America/New_York:20280622T160000
DTEND;TZID=America/New_York:20280622T173000
DTSTAMP:20260424T071144
CREATED:20240203T030317Z
LAST-MODIFIED:20240203T030319Z
UID:10009873-1845302400-1845307800@hmi.org
SUMMARY:Get Psyched About Games
DESCRIPTION:Get Psyched: About Games!” is a safe space to discuss mental health and psychology through the medium of video games! We will play a game together and discuss themes relating to mental health/psychology that show up – meet in room 302!
URL:https://hmi.org/event/get-psyched-about-games-3/2028-06-22/
CATEGORIES:Youth Events
ATTACH;FMTTYPE=image/png:https://hmi.org/wp-content/uploads/2023/09/Get-Psyched-About-Games_9.1.23-1.png
END:VEVENT
BEGIN:VEVENT
DTSTART;TZID=America/New_York:20280627T160000
DTEND;TZID=America/New_York:20280627T173000
DTSTAMP:20260424T071144
CREATED:20240203T025622Z
LAST-MODIFIED:20240203T025624Z
UID:10009665-1845734400-1845739800@hmi.org
SUMMARY:Get Psyched About Games
DESCRIPTION:Get Psyched: About Games!” is a safe space to discuss mental health and psychology through the medium of video games! We will play a game together and discuss themes relating to mental health/psychology that show up – meet in room 302!
URL:https://hmi.org/event/get-psyched-about-games-2/2028-06-27/
CATEGORIES:Youth Events
ATTACH;FMTTYPE=image/png:https://hmi.org/wp-content/uploads/2023/09/Get-Psyched-About-Games_9.1.23-1.png
END:VEVENT
BEGIN:VEVENT
DTSTART;TZID=America/New_York:20280629T160000
DTEND;TZID=America/New_York:20280629T173000
DTSTAMP:20260424T071144
CREATED:20240203T030317Z
LAST-MODIFIED:20240203T030319Z
UID:10009874-1845907200-1845912600@hmi.org
SUMMARY:Get Psyched About Games
DESCRIPTION:Get Psyched: About Games!” is a safe space to discuss mental health and psychology through the medium of video games! We will play a game together and discuss themes relating to mental health/psychology that show up – meet in room 302!
URL:https://hmi.org/event/get-psyched-about-games-3/2028-06-29/
CATEGORIES:Youth Events
ATTACH;FMTTYPE=image/png:https://hmi.org/wp-content/uploads/2023/09/Get-Psyched-About-Games_9.1.23-1.png
END:VEVENT
BEGIN:VEVENT
DTSTART;TZID=America/New_York:20280704T160000
DTEND;TZID=America/New_York:20280704T173000
DTSTAMP:20260424T071144
CREATED:20240203T025622Z
LAST-MODIFIED:20240203T025624Z
UID:10009666-1846339200-1846344600@hmi.org
SUMMARY:Get Psyched About Games
DESCRIPTION:Get Psyched: About Games!” is a safe space to discuss mental health and psychology through the medium of video games! We will play a game together and discuss themes relating to mental health/psychology that show up – meet in room 302!
URL:https://hmi.org/event/get-psyched-about-games-2/2028-07-04/
CATEGORIES:Youth Events
ATTACH;FMTTYPE=image/png:https://hmi.org/wp-content/uploads/2023/09/Get-Psyched-About-Games_9.1.23-1.png
END:VEVENT
BEGIN:VEVENT
DTSTART;TZID=America/New_York:20280711T160000
DTEND;TZID=America/New_York:20280711T173000
DTSTAMP:20260424T071144
CREATED:20240203T025622Z
LAST-MODIFIED:20240203T025624Z
UID:10009667-1846944000-1846949400@hmi.org
SUMMARY:Get Psyched About Games
DESCRIPTION:Get Psyched: About Games!” is a safe space to discuss mental health and psychology through the medium of video games! We will play a game together and discuss themes relating to mental health/psychology that show up – meet in room 302!
URL:https://hmi.org/event/get-psyched-about-games-2/2028-07-11/
CATEGORIES:Youth Events
ATTACH;FMTTYPE=image/png:https://hmi.org/wp-content/uploads/2023/09/Get-Psyched-About-Games_9.1.23-1.png
END:VEVENT
BEGIN:VEVENT
DTSTART;TZID=America/New_York:20280713T160000
DTEND;TZID=America/New_York:20280713T173000
DTSTAMP:20260424T071144
CREATED:20240203T030317Z
LAST-MODIFIED:20240203T030319Z
UID:10009875-1847116800-1847122200@hmi.org
SUMMARY:Get Psyched About Games
DESCRIPTION:Get Psyched: About Games!” is a safe space to discuss mental health and psychology through the medium of video games! We will play a game together and discuss themes relating to mental health/psychology that show up – meet in room 302!
URL:https://hmi.org/event/get-psyched-about-games-3/2028-07-13/
CATEGORIES:Youth Events
ATTACH;FMTTYPE=image/png:https://hmi.org/wp-content/uploads/2023/09/Get-Psyched-About-Games_9.1.23-1.png
END:VEVENT
BEGIN:VEVENT
DTSTART;TZID=America/New_York:20280718T160000
DTEND;TZID=America/New_York:20280718T173000
DTSTAMP:20260424T071144
CREATED:20240203T025622Z
LAST-MODIFIED:20240203T025624Z
UID:10009668-1847548800-1847554200@hmi.org
SUMMARY:Get Psyched About Games
DESCRIPTION:Get Psyched: About Games!” is a safe space to discuss mental health and psychology through the medium of video games! We will play a game together and discuss themes relating to mental health/psychology that show up – meet in room 302!
URL:https://hmi.org/event/get-psyched-about-games-2/2028-07-18/
CATEGORIES:Youth Events
ATTACH;FMTTYPE=image/png:https://hmi.org/wp-content/uploads/2023/09/Get-Psyched-About-Games_9.1.23-1.png
END:VEVENT
BEGIN:VEVENT
DTSTART;TZID=America/New_York:20280720T160000
DTEND;TZID=America/New_York:20280720T173000
DTSTAMP:20260424T071144
CREATED:20240203T030317Z
LAST-MODIFIED:20240203T030319Z
UID:10009876-1847721600-1847727000@hmi.org
SUMMARY:Get Psyched About Games
DESCRIPTION:Get Psyched: About Games!” is a safe space to discuss mental health and psychology through the medium of video games! We will play a game together and discuss themes relating to mental health/psychology that show up – meet in room 302!
URL:https://hmi.org/event/get-psyched-about-games-3/2028-07-20/
CATEGORIES:Youth Events
ATTACH;FMTTYPE=image/png:https://hmi.org/wp-content/uploads/2023/09/Get-Psyched-About-Games_9.1.23-1.png
END:VEVENT
BEGIN:VEVENT
DTSTART;TZID=America/New_York:20280725T160000
DTEND;TZID=America/New_York:20280725T173000
DTSTAMP:20260424T071144
CREATED:20240203T025622Z
LAST-MODIFIED:20240203T025624Z
UID:10009669-1848153600-1848159000@hmi.org
SUMMARY:Get Psyched About Games
DESCRIPTION:Get Psyched: About Games!” is a safe space to discuss mental health and psychology through the medium of video games! We will play a game together and discuss themes relating to mental health/psychology that show up – meet in room 302!
URL:https://hmi.org/event/get-psyched-about-games-2/2028-07-25/
CATEGORIES:Youth Events
ATTACH;FMTTYPE=image/png:https://hmi.org/wp-content/uploads/2023/09/Get-Psyched-About-Games_9.1.23-1.png
END:VEVENT
BEGIN:VEVENT
DTSTART;TZID=America/New_York:20280727T160000
DTEND;TZID=America/New_York:20280727T173000
DTSTAMP:20260424T071144
CREATED:20240203T030317Z
LAST-MODIFIED:20240203T030319Z
UID:10009877-1848326400-1848331800@hmi.org
SUMMARY:Get Psyched About Games
DESCRIPTION:Get Psyched: About Games!” is a safe space to discuss mental health and psychology through the medium of video games! We will play a game together and discuss themes relating to mental health/psychology that show up – meet in room 302!
URL:https://hmi.org/event/get-psyched-about-games-3/2028-07-27/
CATEGORIES:Youth Events
ATTACH;FMTTYPE=image/png:https://hmi.org/wp-content/uploads/2023/09/Get-Psyched-About-Games_9.1.23-1.png
END:VEVENT
BEGIN:VEVENT
DTSTART;TZID=America/New_York:20280801T160000
DTEND;TZID=America/New_York:20280801T173000
DTSTAMP:20260424T071144
CREATED:20240203T025622Z
LAST-MODIFIED:20240203T025624Z
UID:10009670-1848758400-1848763800@hmi.org
SUMMARY:Get Psyched About Games
DESCRIPTION:Get Psyched: About Games!” is a safe space to discuss mental health and psychology through the medium of video games! We will play a game together and discuss themes relating to mental health/psychology that show up – meet in room 302!
URL:https://hmi.org/event/get-psyched-about-games-2/2028-08-01/
CATEGORIES:Youth Events
ATTACH;FMTTYPE=image/png:https://hmi.org/wp-content/uploads/2023/09/Get-Psyched-About-Games_9.1.23-1.png
END:VEVENT
BEGIN:VEVENT
DTSTART;TZID=America/New_York:20280808T160000
DTEND;TZID=America/New_York:20280808T173000
DTSTAMP:20260424T071144
CREATED:20240203T025622Z
LAST-MODIFIED:20240203T025624Z
UID:10009671-1849363200-1849368600@hmi.org
SUMMARY:Get Psyched About Games
DESCRIPTION:Get Psyched: About Games!” is a safe space to discuss mental health and psychology through the medium of video games! We will play a game together and discuss themes relating to mental health/psychology that show up – meet in room 302!
URL:https://hmi.org/event/get-psyched-about-games-2/2028-08-08/
CATEGORIES:Youth Events
ATTACH;FMTTYPE=image/png:https://hmi.org/wp-content/uploads/2023/09/Get-Psyched-About-Games_9.1.23-1.png
END:VEVENT
BEGIN:VEVENT
DTSTART;TZID=America/New_York:20280810T160000
DTEND;TZID=America/New_York:20280810T173000
DTSTAMP:20260424T071144
CREATED:20240203T030317Z
LAST-MODIFIED:20240203T030319Z
UID:10009878-1849536000-1849541400@hmi.org
SUMMARY:Get Psyched About Games
DESCRIPTION:Get Psyched: About Games!” is a safe space to discuss mental health and psychology through the medium of video games! We will play a game together and discuss themes relating to mental health/psychology that show up – meet in room 302!
URL:https://hmi.org/event/get-psyched-about-games-3/2028-08-10/
CATEGORIES:Youth Events
ATTACH;FMTTYPE=image/png:https://hmi.org/wp-content/uploads/2023/09/Get-Psyched-About-Games_9.1.23-1.png
END:VEVENT
BEGIN:VEVENT
DTSTART;TZID=America/New_York:20280815T160000
DTEND;TZID=America/New_York:20280815T173000
DTSTAMP:20260424T071144
CREATED:20240203T025622Z
LAST-MODIFIED:20240203T025624Z
UID:10009672-1849968000-1849973400@hmi.org
SUMMARY:Get Psyched About Games
DESCRIPTION:Get Psyched: About Games!” is a safe space to discuss mental health and psychology through the medium of video games! We will play a game together and discuss themes relating to mental health/psychology that show up – meet in room 302!
URL:https://hmi.org/event/get-psyched-about-games-2/2028-08-15/
CATEGORIES:Youth Events
ATTACH;FMTTYPE=image/png:https://hmi.org/wp-content/uploads/2023/09/Get-Psyched-About-Games_9.1.23-1.png
END:VEVENT
BEGIN:VEVENT
DTSTART;TZID=America/New_York:20280817T160000
DTEND;TZID=America/New_York:20280817T173000
DTSTAMP:20260424T071144
CREATED:20240203T030317Z
LAST-MODIFIED:20240203T030319Z
UID:10009879-1850140800-1850146200@hmi.org
SUMMARY:Get Psyched About Games
DESCRIPTION:Get Psyched: About Games!” is a safe space to discuss mental health and psychology through the medium of video games! We will play a game together and discuss themes relating to mental health/psychology that show up – meet in room 302!
URL:https://hmi.org/event/get-psyched-about-games-3/2028-08-17/
CATEGORIES:Youth Events
ATTACH;FMTTYPE=image/png:https://hmi.org/wp-content/uploads/2023/09/Get-Psyched-About-Games_9.1.23-1.png
END:VEVENT
BEGIN:VEVENT
DTSTART;TZID=America/New_York:20280822T160000
DTEND;TZID=America/New_York:20280822T173000
DTSTAMP:20260424T071144
CREATED:20240203T025622Z
LAST-MODIFIED:20240203T025624Z
UID:10009673-1850572800-1850578200@hmi.org
SUMMARY:Get Psyched About Games
DESCRIPTION:Get Psyched: About Games!” is a safe space to discuss mental health and psychology through the medium of video games! We will play a game together and discuss themes relating to mental health/psychology that show up – meet in room 302!
URL:https://hmi.org/event/get-psyched-about-games-2/2028-08-22/
CATEGORIES:Youth Events
ATTACH;FMTTYPE=image/png:https://hmi.org/wp-content/uploads/2023/09/Get-Psyched-About-Games_9.1.23-1.png
END:VEVENT
BEGIN:VEVENT
DTSTART;TZID=America/New_York:20280824T160000
DTEND;TZID=America/New_York:20280824T173000
DTSTAMP:20260424T071144
CREATED:20240203T030317Z
LAST-MODIFIED:20240203T030319Z
UID:10009880-1850745600-1850751000@hmi.org
SUMMARY:Get Psyched About Games
DESCRIPTION:Get Psyched: About Games!” is a safe space to discuss mental health and psychology through the medium of video games! We will play a game together and discuss themes relating to mental health/psychology that show up – meet in room 302!
URL:https://hmi.org/event/get-psyched-about-games-3/2028-08-24/
CATEGORIES:Youth Events
ATTACH;FMTTYPE=image/png:https://hmi.org/wp-content/uploads/2023/09/Get-Psyched-About-Games_9.1.23-1.png
END:VEVENT
BEGIN:VEVENT
DTSTART;TZID=America/New_York:20280829T160000
DTEND;TZID=America/New_York:20280829T173000
DTSTAMP:20260424T071144
CREATED:20240203T025622Z
LAST-MODIFIED:20240203T025624Z
UID:10009674-1851177600-1851183000@hmi.org
SUMMARY:Get Psyched About Games
DESCRIPTION:Get Psyched: About Games!” is a safe space to discuss mental health and psychology through the medium of video games! We will play a game together and discuss themes relating to mental health/psychology that show up – meet in room 302!
URL:https://hmi.org/event/get-psyched-about-games-2/2028-08-29/
CATEGORIES:Youth Events
ATTACH;FMTTYPE=image/png:https://hmi.org/wp-content/uploads/2023/09/Get-Psyched-About-Games_9.1.23-1.png
END:VEVENT
BEGIN:VEVENT
DTSTART;TZID=America/New_York:20280831T160000
DTEND;TZID=America/New_York:20280831T173000
DTSTAMP:20260424T071144
CREATED:20240203T030317Z
LAST-MODIFIED:20240203T030319Z
UID:10009881-1851350400-1851355800@hmi.org
SUMMARY:Get Psyched About Games
DESCRIPTION:Get Psyched: About Games!” is a safe space to discuss mental health and psychology through the medium of video games! We will play a game together and discuss themes relating to mental health/psychology that show up – meet in room 302!
URL:https://hmi.org/event/get-psyched-about-games-3/2028-08-31/
CATEGORIES:Youth Events
ATTACH;FMTTYPE=image/png:https://hmi.org/wp-content/uploads/2023/09/Get-Psyched-About-Games_9.1.23-1.png
END:VEVENT
BEGIN:VEVENT
DTSTART;TZID=America/New_York:20280905T160000
DTEND;TZID=America/New_York:20280905T173000
DTSTAMP:20260424T071145
CREATED:20240203T025622Z
LAST-MODIFIED:20240203T025624Z
UID:10009675-1851782400-1851787800@hmi.org
SUMMARY:Get Psyched About Games
DESCRIPTION:Get Psyched: About Games!” is a safe space to discuss mental health and psychology through the medium of video games! We will play a game together and discuss themes relating to mental health/psychology that show up – meet in room 302!
URL:https://hmi.org/event/get-psyched-about-games-2/2028-09-05/
CATEGORIES:Youth Events
ATTACH;FMTTYPE=image/png:https://hmi.org/wp-content/uploads/2023/09/Get-Psyched-About-Games_9.1.23-1.png
END:VEVENT
BEGIN:VEVENT
DTSTART;TZID=America/New_York:20280912T160000
DTEND;TZID=America/New_York:20280912T173000
DTSTAMP:20260424T071145
CREATED:20240203T025622Z
LAST-MODIFIED:20240203T025624Z
UID:10009676-1852387200-1852392600@hmi.org
SUMMARY:Get Psyched About Games
DESCRIPTION:Get Psyched: About Games!” is a safe space to discuss mental health and psychology through the medium of video games! We will play a game together and discuss themes relating to mental health/psychology that show up – meet in room 302!
URL:https://hmi.org/event/get-psyched-about-games-2/2028-09-12/
CATEGORIES:Youth Events
ATTACH;FMTTYPE=image/png:https://hmi.org/wp-content/uploads/2023/09/Get-Psyched-About-Games_9.1.23-1.png
END:VEVENT
BEGIN:VEVENT
DTSTART;TZID=America/New_York:20280914T160000
DTEND;TZID=America/New_York:20280914T173000
DTSTAMP:20260424T071145
CREATED:20240203T030317Z
LAST-MODIFIED:20240203T030319Z
UID:10009882-1852560000-1852565400@hmi.org
SUMMARY:Get Psyched About Games
DESCRIPTION:Get Psyched: About Games!” is a safe space to discuss mental health and psychology through the medium of video games! We will play a game together and discuss themes relating to mental health/psychology that show up – meet in room 302!
URL:https://hmi.org/event/get-psyched-about-games-3/2028-09-14/
CATEGORIES:Youth Events
ATTACH;FMTTYPE=image/png:https://hmi.org/wp-content/uploads/2023/09/Get-Psyched-About-Games_9.1.23-1.png
END:VEVENT
BEGIN:VEVENT
DTSTART;TZID=America/New_York:20280919T160000
DTEND;TZID=America/New_York:20280919T173000
DTSTAMP:20260424T071145
CREATED:20240203T025622Z
LAST-MODIFIED:20240203T025624Z
UID:10009677-1852992000-1852997400@hmi.org
SUMMARY:Get Psyched About Games
DESCRIPTION:Get Psyched: About Games!” is a safe space to discuss mental health and psychology through the medium of video games! We will play a game together and discuss themes relating to mental health/psychology that show up – meet in room 302!
URL:https://hmi.org/event/get-psyched-about-games-2/2028-09-19/
CATEGORIES:Youth Events
ATTACH;FMTTYPE=image/png:https://hmi.org/wp-content/uploads/2023/09/Get-Psyched-About-Games_9.1.23-1.png
END:VEVENT
BEGIN:VEVENT
DTSTART;TZID=America/New_York:20280921T160000
DTEND;TZID=America/New_York:20280921T173000
DTSTAMP:20260424T071145
CREATED:20240203T030317Z
LAST-MODIFIED:20240203T030319Z
UID:10009883-1853164800-1853170200@hmi.org
SUMMARY:Get Psyched About Games
DESCRIPTION:Get Psyched: About Games!” is a safe space to discuss mental health and psychology through the medium of video games! We will play a game together and discuss themes relating to mental health/psychology that show up – meet in room 302!
URL:https://hmi.org/event/get-psyched-about-games-3/2028-09-21/
CATEGORIES:Youth Events
ATTACH;FMTTYPE=image/png:https://hmi.org/wp-content/uploads/2023/09/Get-Psyched-About-Games_9.1.23-1.png
END:VEVENT
BEGIN:VEVENT
DTSTART;TZID=America/New_York:20280926T160000
DTEND;TZID=America/New_York:20280926T173000
DTSTAMP:20260424T071145
CREATED:20240203T025622Z
LAST-MODIFIED:20240203T025624Z
UID:10009678-1853596800-1853602200@hmi.org
SUMMARY:Get Psyched About Games
DESCRIPTION:Get Psyched: About Games!” is a safe space to discuss mental health and psychology through the medium of video games! We will play a game together and discuss themes relating to mental health/psychology that show up – meet in room 302!
URL:https://hmi.org/event/get-psyched-about-games-2/2028-09-26/
CATEGORIES:Youth Events
ATTACH;FMTTYPE=image/png:https://hmi.org/wp-content/uploads/2023/09/Get-Psyched-About-Games_9.1.23-1.png
END:VEVENT
BEGIN:VEVENT
DTSTART;TZID=America/New_York:20280928T160000
DTEND;TZID=America/New_York:20280928T173000
DTSTAMP:20260424T071145
CREATED:20240203T030317Z
LAST-MODIFIED:20240203T030319Z
UID:10009884-1853769600-1853775000@hmi.org
SUMMARY:Get Psyched About Games
DESCRIPTION:Get Psyched: About Games!” is a safe space to discuss mental health and psychology through the medium of video games! We will play a game together and discuss themes relating to mental health/psychology that show up – meet in room 302!
URL:https://hmi.org/event/get-psyched-about-games-3/2028-09-28/
CATEGORIES:Youth Events
ATTACH;FMTTYPE=image/png:https://hmi.org/wp-content/uploads/2023/09/Get-Psyched-About-Games_9.1.23-1.png
END:VEVENT
END:VCALENDAR