BEGIN:VCALENDAR
VERSION:2.0
PRODID:-//Hetrick-Martin Institute - ECPv6.15.20//NONSGML v1.0//EN
CALSCALE:GREGORIAN
METHOD:PUBLISH
X-ORIGINAL-URL:https://hmi.org
X-WR-CALDESC:Events for Hetrick-Martin Institute
REFRESH-INTERVAL;VALUE=DURATION:PT1H
X-Robots-Tag:noindex
X-PUBLISHED-TTL:PT1H
BEGIN:VTIMEZONE
TZID:America/New_York
BEGIN:DAYLIGHT
TZOFFSETFROM:-0500
TZOFFSETTO:-0400
TZNAME:EDT
DTSTART:20240310T070000
END:DAYLIGHT
BEGIN:STANDARD
TZOFFSETFROM:-0400
TZOFFSETTO:-0500
TZNAME:EST
DTSTART:20241103T060000
END:STANDARD
BEGIN:DAYLIGHT
TZOFFSETFROM:-0500
TZOFFSETTO:-0400
TZNAME:EDT
DTSTART:20250309T070000
END:DAYLIGHT
BEGIN:STANDARD
TZOFFSETFROM:-0400
TZOFFSETTO:-0500
TZNAME:EST
DTSTART:20251102T060000
END:STANDARD
BEGIN:DAYLIGHT
TZOFFSETFROM:-0500
TZOFFSETTO:-0400
TZNAME:EDT
DTSTART:20260308T070000
END:DAYLIGHT
BEGIN:STANDARD
TZOFFSETFROM:-0400
TZOFFSETTO:-0500
TZNAME:EST
DTSTART:20261101T060000
END:STANDARD
END:VTIMEZONE
BEGIN:VEVENT
DTSTART;TZID=America/New_York:20251104T160000
DTEND;TZID=America/New_York:20251104T173000
DTSTAMP:20260421T214008
CREATED:20240203T025622Z
LAST-MODIFIED:20240203T025624Z
UID:10009527-1762272000-1762277400@hmi.org
SUMMARY:Get Psyched About Games
DESCRIPTION:Get Psyched: About Games!” is a safe space to discuss mental health and psychology through the medium of video games! We will play a game together and discuss themes relating to mental health/psychology that show up – meet in room 302!
URL:https://hmi.org/event/get-psyched-about-games-2/2025-11-04/
CATEGORIES:Youth Events
ATTACH;FMTTYPE=image/png:https://hmi.org/wp-content/uploads/2023/09/Get-Psyched-About-Games_9.1.23-1.png
END:VEVENT
BEGIN:VEVENT
DTSTART;TZID=America/New_York:20251111T160000
DTEND;TZID=America/New_York:20251111T173000
DTSTAMP:20260421T214008
CREATED:20240203T025622Z
LAST-MODIFIED:20240203T025624Z
UID:10009528-1762876800-1762882200@hmi.org
SUMMARY:Get Psyched About Games
DESCRIPTION:Get Psyched: About Games!” is a safe space to discuss mental health and psychology through the medium of video games! We will play a game together and discuss themes relating to mental health/psychology that show up – meet in room 302!
URL:https://hmi.org/event/get-psyched-about-games-2/2025-11-11/
CATEGORIES:Youth Events
ATTACH;FMTTYPE=image/png:https://hmi.org/wp-content/uploads/2023/09/Get-Psyched-About-Games_9.1.23-1.png
END:VEVENT
BEGIN:VEVENT
DTSTART;TZID=America/New_York:20251113T160000
DTEND;TZID=America/New_York:20251113T173000
DTSTAMP:20260421T214008
CREATED:20240203T030317Z
LAST-MODIFIED:20240203T030319Z
UID:10009768-1763049600-1763055000@hmi.org
SUMMARY:Get Psyched About Games
DESCRIPTION:Get Psyched: About Games!” is a safe space to discuss mental health and psychology through the medium of video games! We will play a game together and discuss themes relating to mental health/psychology that show up – meet in room 302!
URL:https://hmi.org/event/get-psyched-about-games-3/2025-11-13/
CATEGORIES:Youth Events
ATTACH;FMTTYPE=image/png:https://hmi.org/wp-content/uploads/2023/09/Get-Psyched-About-Games_9.1.23-1.png
END:VEVENT
BEGIN:VEVENT
DTSTART;TZID=America/New_York:20251118T160000
DTEND;TZID=America/New_York:20251118T173000
DTSTAMP:20260421T214008
CREATED:20240203T025622Z
LAST-MODIFIED:20240203T025624Z
UID:10009529-1763481600-1763487000@hmi.org
SUMMARY:Get Psyched About Games
DESCRIPTION:Get Psyched: About Games!” is a safe space to discuss mental health and psychology through the medium of video games! We will play a game together and discuss themes relating to mental health/psychology that show up – meet in room 302!
URL:https://hmi.org/event/get-psyched-about-games-2/2025-11-18/
CATEGORIES:Youth Events
ATTACH;FMTTYPE=image/png:https://hmi.org/wp-content/uploads/2023/09/Get-Psyched-About-Games_9.1.23-1.png
END:VEVENT
BEGIN:VEVENT
DTSTART;TZID=America/New_York:20251120T160000
DTEND;TZID=America/New_York:20251120T173000
DTSTAMP:20260421T214008
CREATED:20240203T030317Z
LAST-MODIFIED:20240203T030319Z
UID:10009769-1763654400-1763659800@hmi.org
SUMMARY:Get Psyched About Games
DESCRIPTION:Get Psyched: About Games!” is a safe space to discuss mental health and psychology through the medium of video games! We will play a game together and discuss themes relating to mental health/psychology that show up – meet in room 302!
URL:https://hmi.org/event/get-psyched-about-games-3/2025-11-20/
CATEGORIES:Youth Events
ATTACH;FMTTYPE=image/png:https://hmi.org/wp-content/uploads/2023/09/Get-Psyched-About-Games_9.1.23-1.png
END:VEVENT
BEGIN:VEVENT
DTSTART;TZID=America/New_York:20251125T160000
DTEND;TZID=America/New_York:20251125T173000
DTSTAMP:20260421T214008
CREATED:20240203T025622Z
LAST-MODIFIED:20240203T025624Z
UID:10009530-1764086400-1764091800@hmi.org
SUMMARY:Get Psyched About Games
DESCRIPTION:Get Psyched: About Games!” is a safe space to discuss mental health and psychology through the medium of video games! We will play a game together and discuss themes relating to mental health/psychology that show up – meet in room 302!
URL:https://hmi.org/event/get-psyched-about-games-2/2025-11-25/
CATEGORIES:Youth Events
ATTACH;FMTTYPE=image/png:https://hmi.org/wp-content/uploads/2023/09/Get-Psyched-About-Games_9.1.23-1.png
END:VEVENT
BEGIN:VEVENT
DTSTART;TZID=America/New_York:20251127T160000
DTEND;TZID=America/New_York:20251127T173000
DTSTAMP:20260421T214008
CREATED:20240203T030317Z
LAST-MODIFIED:20240203T030319Z
UID:10009770-1764259200-1764264600@hmi.org
SUMMARY:Get Psyched About Games
DESCRIPTION:Get Psyched: About Games!” is a safe space to discuss mental health and psychology through the medium of video games! We will play a game together and discuss themes relating to mental health/psychology that show up – meet in room 302!
URL:https://hmi.org/event/get-psyched-about-games-3/2025-11-27/
CATEGORIES:Youth Events
ATTACH;FMTTYPE=image/png:https://hmi.org/wp-content/uploads/2023/09/Get-Psyched-About-Games_9.1.23-1.png
END:VEVENT
END:VCALENDAR