BEGIN:VCALENDAR
VERSION:2.0
PRODID:-//Hetrick-Martin Institute - ECPv6.15.20//NONSGML v1.0//EN
CALSCALE:GREGORIAN
METHOD:PUBLISH
X-WR-CALNAME:Hetrick-Martin Institute
X-ORIGINAL-URL:https://hmi.org
X-WR-CALDESC:Events for Hetrick-Martin Institute
REFRESH-INTERVAL;VALUE=DURATION:PT1H
X-Robots-Tag:noindex
X-PUBLISHED-TTL:PT1H
BEGIN:VTIMEZONE
TZID:America/New_York
BEGIN:DAYLIGHT
TZOFFSETFROM:-0500
TZOFFSETTO:-0400
TZNAME:EDT
DTSTART:20250309T070000
END:DAYLIGHT
BEGIN:STANDARD
TZOFFSETFROM:-0400
TZOFFSETTO:-0500
TZNAME:EST
DTSTART:20251102T060000
END:STANDARD
BEGIN:DAYLIGHT
TZOFFSETFROM:-0500
TZOFFSETTO:-0400
TZNAME:EDT
DTSTART:20260308T070000
END:DAYLIGHT
BEGIN:STANDARD
TZOFFSETFROM:-0400
TZOFFSETTO:-0500
TZNAME:EST
DTSTART:20261101T060000
END:STANDARD
BEGIN:DAYLIGHT
TZOFFSETFROM:-0500
TZOFFSETTO:-0400
TZNAME:EDT
DTSTART:20270314T070000
END:DAYLIGHT
BEGIN:STANDARD
TZOFFSETFROM:-0400
TZOFFSETTO:-0500
TZNAME:EST
DTSTART:20271107T060000
END:STANDARD
END:VTIMEZONE
BEGIN:VEVENT
DTSTART;TZID=America/New_York:20260622T160000
DTEND;TZID=America/New_York:20260622T180000
DTSTAMP:20260421T094018
CREATED:20251019T033946Z
LAST-MODIFIED:20251019T033951Z
UID:10005511-1782144000-1782151200@hmi.org
SUMMARY:Open Art Studio Mondays
DESCRIPTION:HMI’s Open Art Studio offers a variety of materials for your free creative expression\, including (but not limited to) watercolor and acrylic paints\, oil and chalk pastels\, pencils\, pen and ink\, collage materials\, fiber arts\, printmaking materials\, sculpture materials (plaster\, clay\, model magic\, found objects)\, paper crafts\, glitter\, and more. Using materials to express yourself through art can reduce stress\, increase self-awareness\, foster growth of hands-on skills\, improve communication abilities\, and boost self-esteem too! Mondays 4-6pm in the art space.  If you love Open Art Studio join us on Wednesdays 6-7:30pm. Email Ltabrizi@hmi.org
URL:https://hmi.org/event/open-art-studio-mondays-4/2026-06-22/
LOCATION:NY
CATEGORIES:Youth Events
ATTACH;FMTTYPE=image/png:https://hmi.org/wp-content/uploads/2025/10/open-art-studio-fall-2025.png
END:VEVENT
BEGIN:VEVENT
DTSTART;TZID=America/New_York:20260625T180000
DTEND;TZID=America/New_York:20260625T193000
DTSTAMP:20260421T094018
CREATED:20251019T022714Z
LAST-MODIFIED:20251019T022858Z
UID:10016282-1782410400-1782415800@hmi.org
SUMMARY:Art Blooms
DESCRIPTION:Work through your thoughts and feelings with art at Art Blooms\, no art experience necessary. In the Art Space. Email Sus at sspieler@hmi.org
URL:https://hmi.org/event/art-blooms-5/2026-06-25/
LOCATION:Hetrick-Martin Institute 3rd Floor\, 2 Astor Place 3rd Floor\, New York\, NY\, 10003\, United States
CATEGORIES:Youth Events
END:VEVENT
BEGIN:VEVENT
DTSTART;TZID=America/New_York:20260629T160000
DTEND;TZID=America/New_York:20260629T180000
DTSTAMP:20260421T094018
CREATED:20251019T033946Z
LAST-MODIFIED:20251019T033951Z
UID:10005512-1782748800-1782756000@hmi.org
SUMMARY:Open Art Studio Mondays
DESCRIPTION:HMI’s Open Art Studio offers a variety of materials for your free creative expression\, including (but not limited to) watercolor and acrylic paints\, oil and chalk pastels\, pencils\, pen and ink\, collage materials\, fiber arts\, printmaking materials\, sculpture materials (plaster\, clay\, model magic\, found objects)\, paper crafts\, glitter\, and more. Using materials to express yourself through art can reduce stress\, increase self-awareness\, foster growth of hands-on skills\, improve communication abilities\, and boost self-esteem too! Mondays 4-6pm in the art space.  If you love Open Art Studio join us on Wednesdays 6-7:30pm. Email Ltabrizi@hmi.org
URL:https://hmi.org/event/open-art-studio-mondays-4/2026-06-29/
LOCATION:NY
CATEGORIES:Youth Events
ATTACH;FMTTYPE=image/png:https://hmi.org/wp-content/uploads/2025/10/open-art-studio-fall-2025.png
END:VEVENT
END:VCALENDAR