BEGIN:VCALENDAR
VERSION:2.0
PRODID:-//Hetrick-Martin Institute - ECPv6.15.20//NONSGML v1.0//EN
CALSCALE:GREGORIAN
METHOD:PUBLISH
X-WR-CALNAME:Hetrick-Martin Institute
X-ORIGINAL-URL:https://hmi.org
X-WR-CALDESC:Events for Hetrick-Martin Institute
REFRESH-INTERVAL;VALUE=DURATION:PT1H
X-Robots-Tag:noindex
X-PUBLISHED-TTL:PT1H
BEGIN:VTIMEZONE
TZID:America/New_York
BEGIN:DAYLIGHT
TZOFFSETFROM:-0500
TZOFFSETTO:-0400
TZNAME:EDT
DTSTART:20260308T070000
END:DAYLIGHT
BEGIN:STANDARD
TZOFFSETFROM:-0400
TZOFFSETTO:-0500
TZNAME:EST
DTSTART:20261101T060000
END:STANDARD
BEGIN:DAYLIGHT
TZOFFSETFROM:-0500
TZOFFSETTO:-0400
TZNAME:EDT
DTSTART:20270314T070000
END:DAYLIGHT
BEGIN:STANDARD
TZOFFSETFROM:-0400
TZOFFSETTO:-0500
TZNAME:EST
DTSTART:20271107T060000
END:STANDARD
BEGIN:DAYLIGHT
TZOFFSETFROM:-0500
TZOFFSETTO:-0400
TZNAME:EDT
DTSTART:20280312T070000
END:DAYLIGHT
BEGIN:STANDARD
TZOFFSETFROM:-0400
TZOFFSETTO:-0500
TZNAME:EST
DTSTART:20281105T060000
END:STANDARD
END:VTIMEZONE
BEGIN:VEVENT
DTSTART;TZID=America/New_York:20271207T180000
DTEND;TZID=America/New_York:20271207T193000
DTSTAMP:20260424T235541
CREATED:20240822T025723Z
LAST-MODIFIED:20240822T025727Z
UID:10009375-1828202400-1828207800@hmi.org
SUMMARY:Trans Treats and Non-Binary Bytes
DESCRIPTION:Join us to talk about gender and how it intersects with all other parts of your identity!  Treat yourself to snacks and a a community space for TGNB youth!  Join HMI’s Tara and Salem every Tuesday from 6-7:30pm in room 301.  As a courtesy to other attendees please arrive before 6:30pm. Email Salem at svazcones@hmi.org
URL:https://hmi.org/event/trans-treats-and-non-binary-bytes-6/2027-12-07/
CATEGORIES:Youth Events
ATTACH;FMTTYPE=image/png:https://hmi.org/wp-content/uploads/2023/07/Trans-Treats-Nonbinary-Bytes-2023.png
END:VEVENT
BEGIN:VEVENT
DTSTART;TZID=America/New_York:20271214T180000
DTEND;TZID=America/New_York:20271214T193000
DTSTAMP:20260424T235541
CREATED:20240822T025723Z
LAST-MODIFIED:20240822T025727Z
UID:10009376-1828807200-1828812600@hmi.org
SUMMARY:Trans Treats and Non-Binary Bytes
DESCRIPTION:Join us to talk about gender and how it intersects with all other parts of your identity!  Treat yourself to snacks and a a community space for TGNB youth!  Join HMI’s Tara and Salem every Tuesday from 6-7:30pm in room 301.  As a courtesy to other attendees please arrive before 6:30pm. Email Salem at svazcones@hmi.org
URL:https://hmi.org/event/trans-treats-and-non-binary-bytes-6/2027-12-14/
CATEGORIES:Youth Events
ATTACH;FMTTYPE=image/png:https://hmi.org/wp-content/uploads/2023/07/Trans-Treats-Nonbinary-Bytes-2023.png
END:VEVENT
BEGIN:VEVENT
DTSTART;TZID=America/New_York:20271221T180000
DTEND;TZID=America/New_York:20271221T193000
DTSTAMP:20260424T235541
CREATED:20240822T025723Z
LAST-MODIFIED:20240822T025727Z
UID:10009377-1829412000-1829417400@hmi.org
SUMMARY:Trans Treats and Non-Binary Bytes
DESCRIPTION:Join us to talk about gender and how it intersects with all other parts of your identity!  Treat yourself to snacks and a a community space for TGNB youth!  Join HMI’s Tara and Salem every Tuesday from 6-7:30pm in room 301.  As a courtesy to other attendees please arrive before 6:30pm. Email Salem at svazcones@hmi.org
URL:https://hmi.org/event/trans-treats-and-non-binary-bytes-6/2027-12-21/
CATEGORIES:Youth Events
ATTACH;FMTTYPE=image/png:https://hmi.org/wp-content/uploads/2023/07/Trans-Treats-Nonbinary-Bytes-2023.png
END:VEVENT
BEGIN:VEVENT
DTSTART;TZID=America/New_York:20271228T180000
DTEND;TZID=America/New_York:20271228T193000
DTSTAMP:20260424T235541
CREATED:20240822T025723Z
LAST-MODIFIED:20240822T025727Z
UID:10009378-1830016800-1830022200@hmi.org
SUMMARY:Trans Treats and Non-Binary Bytes
DESCRIPTION:Join us to talk about gender and how it intersects with all other parts of your identity!  Treat yourself to snacks and a a community space for TGNB youth!  Join HMI’s Tara and Salem every Tuesday from 6-7:30pm in room 301.  As a courtesy to other attendees please arrive before 6:30pm. Email Salem at svazcones@hmi.org
URL:https://hmi.org/event/trans-treats-and-non-binary-bytes-6/2027-12-28/
CATEGORIES:Youth Events
ATTACH;FMTTYPE=image/png:https://hmi.org/wp-content/uploads/2023/07/Trans-Treats-Nonbinary-Bytes-2023.png
END:VEVENT
END:VCALENDAR