BEGIN:VCALENDAR
VERSION:2.0
PRODID:-//Hetrick-Martin Institute - ECPv6.15.20//NONSGML v1.0//EN
CALSCALE:GREGORIAN
METHOD:PUBLISH
X-WR-CALNAME:Hetrick-Martin Institute
X-ORIGINAL-URL:https://hmi.org
X-WR-CALDESC:Events for Hetrick-Martin Institute
REFRESH-INTERVAL;VALUE=DURATION:PT1H
X-Robots-Tag:noindex
X-PUBLISHED-TTL:PT1H
BEGIN:VTIMEZONE
TZID:America/New_York
BEGIN:DAYLIGHT
TZOFFSETFROM:-0500
TZOFFSETTO:-0400
TZNAME:EDT
DTSTART:20260308T070000
END:DAYLIGHT
BEGIN:STANDARD
TZOFFSETFROM:-0400
TZOFFSETTO:-0500
TZNAME:EST
DTSTART:20261101T060000
END:STANDARD
BEGIN:DAYLIGHT
TZOFFSETFROM:-0500
TZOFFSETTO:-0400
TZNAME:EDT
DTSTART:20270314T070000
END:DAYLIGHT
BEGIN:STANDARD
TZOFFSETFROM:-0400
TZOFFSETTO:-0500
TZNAME:EST
DTSTART:20271107T060000
END:STANDARD
BEGIN:DAYLIGHT
TZOFFSETFROM:-0500
TZOFFSETTO:-0400
TZNAME:EDT
DTSTART:20280312T070000
END:DAYLIGHT
BEGIN:STANDARD
TZOFFSETFROM:-0400
TZOFFSETTO:-0500
TZNAME:EST
DTSTART:20281105T060000
END:STANDARD
END:VTIMEZONE
BEGIN:VEVENT
DTSTART;TZID=America/New_York:20271102T180000
DTEND;TZID=America/New_York:20271102T193000
DTSTAMP:20260424T221758
CREATED:20240822T025723Z
LAST-MODIFIED:20240822T025727Z
UID:10009370-1825178400-1825183800@hmi.org
SUMMARY:Trans Treats and Non-Binary Bytes
DESCRIPTION:Join us to talk about gender and how it intersects with all other parts of your identity!  Treat yourself to snacks and a a community space for TGNB youth!  Join HMI’s Tara and Salem every Tuesday from 6-7:30pm in room 301.  As a courtesy to other attendees please arrive before 6:30pm. Email Salem at svazcones@hmi.org
URL:https://hmi.org/event/trans-treats-and-non-binary-bytes-6/2027-11-02/
CATEGORIES:Youth Events
ATTACH;FMTTYPE=image/png:https://hmi.org/wp-content/uploads/2023/07/Trans-Treats-Nonbinary-Bytes-2023.png
END:VEVENT
BEGIN:VEVENT
DTSTART;TZID=America/New_York:20271109T180000
DTEND;TZID=America/New_York:20271109T193000
DTSTAMP:20260424T221758
CREATED:20240822T025723Z
LAST-MODIFIED:20240822T025727Z
UID:10009371-1825783200-1825788600@hmi.org
SUMMARY:Trans Treats and Non-Binary Bytes
DESCRIPTION:Join us to talk about gender and how it intersects with all other parts of your identity!  Treat yourself to snacks and a a community space for TGNB youth!  Join HMI’s Tara and Salem every Tuesday from 6-7:30pm in room 301.  As a courtesy to other attendees please arrive before 6:30pm. Email Salem at svazcones@hmi.org
URL:https://hmi.org/event/trans-treats-and-non-binary-bytes-6/2027-11-09/
CATEGORIES:Youth Events
ATTACH;FMTTYPE=image/png:https://hmi.org/wp-content/uploads/2023/07/Trans-Treats-Nonbinary-Bytes-2023.png
END:VEVENT
BEGIN:VEVENT
DTSTART;TZID=America/New_York:20271116T180000
DTEND;TZID=America/New_York:20271116T193000
DTSTAMP:20260424T221758
CREATED:20240822T025723Z
LAST-MODIFIED:20240822T025727Z
UID:10009372-1826388000-1826393400@hmi.org
SUMMARY:Trans Treats and Non-Binary Bytes
DESCRIPTION:Join us to talk about gender and how it intersects with all other parts of your identity!  Treat yourself to snacks and a a community space for TGNB youth!  Join HMI’s Tara and Salem every Tuesday from 6-7:30pm in room 301.  As a courtesy to other attendees please arrive before 6:30pm. Email Salem at svazcones@hmi.org
URL:https://hmi.org/event/trans-treats-and-non-binary-bytes-6/2027-11-16/
CATEGORIES:Youth Events
ATTACH;FMTTYPE=image/png:https://hmi.org/wp-content/uploads/2023/07/Trans-Treats-Nonbinary-Bytes-2023.png
END:VEVENT
BEGIN:VEVENT
DTSTART;TZID=America/New_York:20271123T180000
DTEND;TZID=America/New_York:20271123T193000
DTSTAMP:20260424T221758
CREATED:20240822T025723Z
LAST-MODIFIED:20240822T025727Z
UID:10009373-1826992800-1826998200@hmi.org
SUMMARY:Trans Treats and Non-Binary Bytes
DESCRIPTION:Join us to talk about gender and how it intersects with all other parts of your identity!  Treat yourself to snacks and a a community space for TGNB youth!  Join HMI’s Tara and Salem every Tuesday from 6-7:30pm in room 301.  As a courtesy to other attendees please arrive before 6:30pm. Email Salem at svazcones@hmi.org
URL:https://hmi.org/event/trans-treats-and-non-binary-bytes-6/2027-11-23/
CATEGORIES:Youth Events
ATTACH;FMTTYPE=image/png:https://hmi.org/wp-content/uploads/2023/07/Trans-Treats-Nonbinary-Bytes-2023.png
END:VEVENT
BEGIN:VEVENT
DTSTART;TZID=America/New_York:20271130T180000
DTEND;TZID=America/New_York:20271130T193000
DTSTAMP:20260424T221758
CREATED:20240822T025723Z
LAST-MODIFIED:20240822T025727Z
UID:10009374-1827597600-1827603000@hmi.org
SUMMARY:Trans Treats and Non-Binary Bytes
DESCRIPTION:Join us to talk about gender and how it intersects with all other parts of your identity!  Treat yourself to snacks and a a community space for TGNB youth!  Join HMI’s Tara and Salem every Tuesday from 6-7:30pm in room 301.  As a courtesy to other attendees please arrive before 6:30pm. Email Salem at svazcones@hmi.org
URL:https://hmi.org/event/trans-treats-and-non-binary-bytes-6/2027-11-30/
CATEGORIES:Youth Events
ATTACH;FMTTYPE=image/png:https://hmi.org/wp-content/uploads/2023/07/Trans-Treats-Nonbinary-Bytes-2023.png
END:VEVENT
END:VCALENDAR