BEGIN:VCALENDAR
VERSION:2.0
PRODID:-//Hetrick-Martin Institute - ECPv6.15.20//NONSGML v1.0//EN
CALSCALE:GREGORIAN
METHOD:PUBLISH
X-ORIGINAL-URL:https://hmi.org
X-WR-CALDESC:Events for Hetrick-Martin Institute
REFRESH-INTERVAL;VALUE=DURATION:PT1H
X-Robots-Tag:noindex
X-PUBLISHED-TTL:PT1H
BEGIN:VTIMEZONE
TZID:America/New_York
BEGIN:DAYLIGHT
TZOFFSETFROM:-0500
TZOFFSETTO:-0400
TZNAME:EDT
DTSTART:20230312T070000
END:DAYLIGHT
BEGIN:STANDARD
TZOFFSETFROM:-0400
TZOFFSETTO:-0500
TZNAME:EST
DTSTART:20231105T060000
END:STANDARD
BEGIN:DAYLIGHT
TZOFFSETFROM:-0500
TZOFFSETTO:-0400
TZNAME:EDT
DTSTART:20240310T070000
END:DAYLIGHT
BEGIN:STANDARD
TZOFFSETFROM:-0400
TZOFFSETTO:-0500
TZNAME:EST
DTSTART:20241103T060000
END:STANDARD
BEGIN:DAYLIGHT
TZOFFSETFROM:-0500
TZOFFSETTO:-0400
TZNAME:EDT
DTSTART:20250309T070000
END:DAYLIGHT
BEGIN:STANDARD
TZOFFSETFROM:-0400
TZOFFSETTO:-0500
TZNAME:EST
DTSTART:20251102T060000
END:STANDARD
END:VTIMEZONE
BEGIN:VEVENT
DTSTART;TZID=America/New_York:20241113T160000
DTEND;TZID=America/New_York:20241113T173000
DTSTAMP:20260421T064029
CREATED:20241108T024025Z
LAST-MODIFIED:20241108T024028Z
UID:10014042-1731513600-1731519000@hmi.org
SUMMARY:Professional Development Week
DESCRIPTION:MONDAY 11/11 – Resume WorshipJoin us for an interactive resume workshop\, where you’ll learn how to craft a standout resume that showcases your skills and experiences effectively. \n\n\n\nTUESDAY 11/12 – Interview WorkshopEnhance your interview skills at our dynamic workshop\, where you’ll gain practical techniques and strategies to impress potential employers. \n\n\n\nWEDNESDAY 11/13 – Dress for Success Workshop & Pop-Up ShopJoin us to discover how to choose the perfect professional attire that boosts your confidence and leaves a lasting impression in the workplace. \n\n\n\nTHURSDAY 11/14 – JOB FAIR \n\n\n\nFRIDAY 11/15  – JOB SEARCH WORKSHOPParticipate to learn effective strategies for navigating the job market\, from crafting a standout resume to leveraging networking opportunities.
URL:https://hmi.org/event/professional-development-week/2024-11-13/
LOCATION:New York
CATEGORIES:Youth Events
ATTACH;FMTTYPE=image/png:https://hmi.org/wp-content/uploads/2024/11/Professional-Development-Week-FLYER-2-scaled.png
END:VEVENT
END:VCALENDAR