BEGIN:VCALENDAR
VERSION:2.0
PRODID:-//Hetrick-Martin Institute - ECPv6.15.20//NONSGML v1.0//EN
CALSCALE:GREGORIAN
METHOD:PUBLISH
X-ORIGINAL-URL:https://hmi.org
X-WR-CALDESC:Events for Hetrick-Martin Institute
REFRESH-INTERVAL;VALUE=DURATION:PT1H
X-Robots-Tag:noindex
X-PUBLISHED-TTL:PT1H
BEGIN:VTIMEZONE
TZID:America/New_York
BEGIN:DAYLIGHT
TZOFFSETFROM:-0500
TZOFFSETTO:-0400
TZNAME:EDT
DTSTART:20250309T070000
END:DAYLIGHT
BEGIN:STANDARD
TZOFFSETFROM:-0400
TZOFFSETTO:-0500
TZNAME:EST
DTSTART:20251102T060000
END:STANDARD
BEGIN:DAYLIGHT
TZOFFSETFROM:-0500
TZOFFSETTO:-0400
TZNAME:EDT
DTSTART:20260308T070000
END:DAYLIGHT
BEGIN:STANDARD
TZOFFSETFROM:-0400
TZOFFSETTO:-0500
TZNAME:EST
DTSTART:20261101T060000
END:STANDARD
BEGIN:DAYLIGHT
TZOFFSETFROM:-0500
TZOFFSETTO:-0400
TZNAME:EDT
DTSTART:20270314T070000
END:DAYLIGHT
BEGIN:STANDARD
TZOFFSETFROM:-0400
TZOFFSETTO:-0500
TZNAME:EST
DTSTART:20271107T060000
END:STANDARD
END:VTIMEZONE
BEGIN:VEVENT
DTSTART;TZID=America/New_York:20260108T180000
DTEND;TZID=America/New_York:20260108T190000
DTSTAMP:20260421T162250
CREATED:20241202T233346Z
LAST-MODIFIED:20250117T201532Z
UID:10014679-1767895200-1767898800@hmi.org
SUMMARY:Job Shop
DESCRIPTION:Get one on one help with your resume\, cover letters\, mock interviews\, and job searching!  Email Reid at relwell@hmi.org for more information or call 212.674.2600 ext. 253.
URL:https://hmi.org/event/job-shop-3/2026-01-08/
LOCATION:Hetrick-Martin Institute 8th Floor\, 2 Astor Place 8th Floor\, New York\, New York\, 10003
CATEGORIES:Youth Events
ATTACH;FMTTYPE=image/jpeg:https://hmi.org/wp-content/uploads/2024/08/Job-Shop-new.jpg
END:VEVENT
BEGIN:VEVENT
DTSTART;TZID=America/New_York:20260115T180000
DTEND;TZID=America/New_York:20260115T190000
DTSTAMP:20260421T162250
CREATED:20241202T233346Z
LAST-MODIFIED:20250117T201532Z
UID:10014680-1768500000-1768503600@hmi.org
SUMMARY:Job Shop
DESCRIPTION:Get one on one help with your resume\, cover letters\, mock interviews\, and job searching!  Email Reid at relwell@hmi.org for more information or call 212.674.2600 ext. 253.
URL:https://hmi.org/event/job-shop-3/2026-01-15/
LOCATION:Hetrick-Martin Institute 8th Floor\, 2 Astor Place 8th Floor\, New York\, New York\, 10003
CATEGORIES:Youth Events
ATTACH;FMTTYPE=image/jpeg:https://hmi.org/wp-content/uploads/2024/08/Job-Shop-new.jpg
END:VEVENT
BEGIN:VEVENT
DTSTART;TZID=America/New_York:20260122T180000
DTEND;TZID=America/New_York:20260122T190000
DTSTAMP:20260421T162250
CREATED:20241202T233346Z
LAST-MODIFIED:20250117T201532Z
UID:10014681-1769104800-1769108400@hmi.org
SUMMARY:Job Shop
DESCRIPTION:Get one on one help with your resume\, cover letters\, mock interviews\, and job searching!  Email Reid at relwell@hmi.org for more information or call 212.674.2600 ext. 253.
URL:https://hmi.org/event/job-shop-3/2026-01-22/
LOCATION:Hetrick-Martin Institute 8th Floor\, 2 Astor Place 8th Floor\, New York\, New York\, 10003
CATEGORIES:Youth Events
ATTACH;FMTTYPE=image/jpeg:https://hmi.org/wp-content/uploads/2024/08/Job-Shop-new.jpg
END:VEVENT
BEGIN:VEVENT
DTSTART;TZID=America/New_York:20260129T180000
DTEND;TZID=America/New_York:20260129T190000
DTSTAMP:20260421T162250
CREATED:20241202T233346Z
LAST-MODIFIED:20250117T201532Z
UID:10014682-1769709600-1769713200@hmi.org
SUMMARY:Job Shop
DESCRIPTION:Get one on one help with your resume\, cover letters\, mock interviews\, and job searching!  Email Reid at relwell@hmi.org for more information or call 212.674.2600 ext. 253.
URL:https://hmi.org/event/job-shop-3/2026-01-29/
LOCATION:Hetrick-Martin Institute 8th Floor\, 2 Astor Place 8th Floor\, New York\, New York\, 10003
CATEGORIES:Youth Events
ATTACH;FMTTYPE=image/jpeg:https://hmi.org/wp-content/uploads/2024/08/Job-Shop-new.jpg
END:VEVENT
END:VCALENDAR