BEGIN:VCALENDAR
VERSION:2.0
PRODID:-//Hetrick-Martin Institute - ECPv6.15.20//NONSGML v1.0//EN
CALSCALE:GREGORIAN
METHOD:PUBLISH
X-ORIGINAL-URL:https://hmi.org
X-WR-CALDESC:Events for Hetrick-Martin Institute
REFRESH-INTERVAL;VALUE=DURATION:PT1H
X-Robots-Tag:noindex
X-PUBLISHED-TTL:PT1H
BEGIN:VTIMEZONE
TZID:America/New_York
BEGIN:DAYLIGHT
TZOFFSETFROM:-0500
TZOFFSETTO:-0400
TZNAME:EDT
DTSTART:20240310T070000
END:DAYLIGHT
BEGIN:STANDARD
TZOFFSETFROM:-0400
TZOFFSETTO:-0500
TZNAME:EST
DTSTART:20241103T060000
END:STANDARD
BEGIN:DAYLIGHT
TZOFFSETFROM:-0500
TZOFFSETTO:-0400
TZNAME:EDT
DTSTART:20250309T070000
END:DAYLIGHT
BEGIN:STANDARD
TZOFFSETFROM:-0400
TZOFFSETTO:-0500
TZNAME:EST
DTSTART:20251102T060000
END:STANDARD
BEGIN:DAYLIGHT
TZOFFSETFROM:-0500
TZOFFSETTO:-0400
TZNAME:EDT
DTSTART:20260308T070000
END:DAYLIGHT
BEGIN:STANDARD
TZOFFSETFROM:-0400
TZOFFSETTO:-0500
TZNAME:EST
DTSTART:20261101T060000
END:STANDARD
END:VTIMEZONE
BEGIN:VEVENT
DTSTART;TZID=America/New_York:20250421T153000
DTEND;TZID=America/New_York:20250421T190000
DTSTAMP:20260422T154713
CREATED:20250417T204329Z
LAST-MODIFIED:20250417T204331Z
UID:10015984-1745249400-1745262000@hmi.org
SUMMARY:Bring a Friend Week
DESCRIPTION:Boogie on Down to HMI with a friend! Here’s your chance to show your friends (ages 13-24 who are not already members) around HMI! From Monday 4/21 to Friday 4/25\, enter our Raffle to win $50 every day you show up with a friend. $50 for a member and $50 for a non-member! \n\n\n\n💜Monday: Pajama Day/Knit and Crochet Pop-Up💜Tuesday: Wig Day/ Drag Bingo💜Wednesday: Renaissance Day/ Macbeth in Stride; email Spencer at SOLSON@HMI.ORG💜Thursday: Twin Day/BEST Twins Contest💜Friday: A Night At The Mecca Kiki BallBRATZ EDITON ⭐️💕💋📺: We will be live on IG: HMIYouthDoors open: 3:30 final entry 6:30; Dinner at 5pm.Host: Mecca WangCommentator: NYC Princess Selena DiorDJ: Motha Breastplate Golden Mulan \n\n\n\nCategories:🏆OTA FACE: One thing about a bratz and two thing for sure. A bratz makeup statement is what stands out. Bring it in an over eye look. Don’t forget your lipgloss 💋 \n\n\n\n🏆OTA RUNWAY: You know bratz are known for their boots. Bring your best boots/heel on your best day. Pump down this runway\, and show us how a brat gets it down. ⭐️ \n\n\n\n🏆OTA STREETWEAR : A bratz motto is Passion for Fashion! Inspired by y2k & 2000 looks\, tonight bring it in your best bratz look or inspired y2k look from head to toe! don’t forget your brattitude 💋 \n\n\n\n🏆OTA REALNESS: We know bratz girls are more highlighted. But let the bratz boys takeover. Boys in any shade of pink y2k look\, and the girls in baby blue y2k look. Who gonna make it on top Bratz boys or will the Bratz girls remain superior !MF VS. FF 🤭 \n\n\n\n🏆OTA PERFORMANCE: Most of bratz travel in cliques. However\, TONIGHT \, it’s a girl fight. Bring it in one the original bratz inspired looks ( Chloe\, Yasmin\, jade\, Sasha\, and Megan) and show us which brat has it all. 🫦 \n  \n\n\n\n\n\n\nCheck out what’s in store Monday – Friday!
URL:https://hmi.org/event/bring-a-friend-week-2/2025-04-21/
CATEGORIES:Youth Events
ATTACH;FMTTYPE=image/png:https://hmi.org/wp-content/uploads/2025/04/BringAFriend1.png
END:VEVENT
END:VCALENDAR