BEGIN:VCALENDAR
VERSION:2.0
PRODID:-//Hetrick-Martin Institute - ECPv6.15.20//NONSGML v1.0//EN
CALSCALE:GREGORIAN
METHOD:PUBLISH
X-ORIGINAL-URL:https://hmi.org
X-WR-CALDESC:Events for Hetrick-Martin Institute
REFRESH-INTERVAL;VALUE=DURATION:PT1H
X-Robots-Tag:noindex
X-PUBLISHED-TTL:PT1H
BEGIN:VTIMEZONE
TZID:America/New_York
BEGIN:DAYLIGHT
TZOFFSETFROM:-0500
TZOFFSETTO:-0400
TZNAME:EDT
DTSTART:20230312T070000
END:DAYLIGHT
BEGIN:STANDARD
TZOFFSETFROM:-0400
TZOFFSETTO:-0500
TZNAME:EST
DTSTART:20231105T060000
END:STANDARD
BEGIN:DAYLIGHT
TZOFFSETFROM:-0500
TZOFFSETTO:-0400
TZNAME:EDT
DTSTART:20240310T070000
END:DAYLIGHT
BEGIN:STANDARD
TZOFFSETFROM:-0400
TZOFFSETTO:-0500
TZNAME:EST
DTSTART:20241103T060000
END:STANDARD
BEGIN:DAYLIGHT
TZOFFSETFROM:-0500
TZOFFSETTO:-0400
TZNAME:EDT
DTSTART:20250309T070000
END:DAYLIGHT
BEGIN:STANDARD
TZOFFSETFROM:-0400
TZOFFSETTO:-0500
TZNAME:EST
DTSTART:20251102T060000
END:STANDARD
END:VTIMEZONE
BEGIN:VEVENT
DTSTART;TZID=America/New_York:20240408T160000
DTEND;TZID=America/New_York:20240408T170000
DTSTAMP:20260425T232828
CREATED:20240305T043256Z
LAST-MODIFIED:20240405T181253Z
UID:10010994-1712592000-1712595600@hmi.org
SUMMARY:Own Your Power: LGBTQ Rights Unlocked
DESCRIPTION:At HMI we are creating a model of care and respect for the LGBTQ+ community. We would like to see more of what is represented by the words of the ROCKS Youth Member agreements in the world outside of HMI. During different Own Your Power sessions we will ground the topic of the day in the language of the principals of ROCKS and explore how this tool can help us to understand how use our strengths\, oppressions\, and resources to navigate the everyday\, so that we can create a world where we all feel safer. *Gift bag raffle at each session!  Email Edwin at EGonzalez@hmi.org for more information.
URL:https://hmi.org/event/own-your-power-lgbtq-rights-unlocked/2024-04-08/
CATEGORIES:Youth Events
ATTACH;FMTTYPE=image/png:https://hmi.org/wp-content/uploads/2024/04/Own-Your-Power_Flyer-for-Print-Updated-scaled.png
END:VEVENT
END:VCALENDAR