BEGIN:VCALENDAR
VERSION:2.0
PRODID:-//Hetrick-Martin Institute - ECPv6.15.20//NONSGML v1.0//EN
CALSCALE:GREGORIAN
METHOD:PUBLISH
X-WR-CALNAME:Hetrick-Martin Institute
X-ORIGINAL-URL:https://hmi.org
X-WR-CALDESC:Events for Hetrick-Martin Institute
REFRESH-INTERVAL;VALUE=DURATION:PT1H
X-Robots-Tag:noindex
X-PUBLISHED-TTL:PT1H
BEGIN:VTIMEZONE
TZID:America/New_York
BEGIN:DAYLIGHT
TZOFFSETFROM:-0500
TZOFFSETTO:-0400
TZNAME:EDT
DTSTART:20230312T070000
END:DAYLIGHT
BEGIN:STANDARD
TZOFFSETFROM:-0400
TZOFFSETTO:-0500
TZNAME:EST
DTSTART:20231105T060000
END:STANDARD
BEGIN:DAYLIGHT
TZOFFSETFROM:-0500
TZOFFSETTO:-0400
TZNAME:EDT
DTSTART:20240310T070000
END:DAYLIGHT
BEGIN:STANDARD
TZOFFSETFROM:-0400
TZOFFSETTO:-0500
TZNAME:EST
DTSTART:20241103T060000
END:STANDARD
BEGIN:DAYLIGHT
TZOFFSETFROM:-0500
TZOFFSETTO:-0400
TZNAME:EDT
DTSTART:20250309T070000
END:DAYLIGHT
BEGIN:STANDARD
TZOFFSETFROM:-0400
TZOFFSETTO:-0500
TZNAME:EST
DTSTART:20251102T060000
END:STANDARD
END:VTIMEZONE
BEGIN:VEVENT
DTSTART;TZID=America/New_York:20240720T170000
DTEND;TZID=America/New_York:20240720T220000
DTSTAMP:20260424T115948
CREATED:20240311T153028Z
LAST-MODIFIED:20240409T164349Z
UID:10010191-1721494800-1721512800@hmi.org
SUMMARY:School's Out 2024
DESCRIPTION:Come join us on Saturday\, July 20\, 2024\, in the Hamptons for our annual School’s Out summer fundraiser! Let’s celebrate HMI’s 45-year legacy and rally together to raise crucial funds for supporting LGBTQIA+ youth. Your contribution ensures they have year-round access to vital resources and support\, particularly during the summer when schools are closed and resources are scarce. \nThis year’s hosts\, The Browns\, have graciously opened up their home in Water Mill to us. Tickets and details can be found here or at hmischoolsout.com.
URL:https://hmi.org/event/schools-out-2024/
CATEGORIES:Corporate,Donor Events
ATTACH;FMTTYPE=image/png:https://hmi.org/wp-content/uploads/2024/03/SO24-Event-Page-Feat-Image.png
END:VEVENT
END:VCALENDAR