BEGIN:VCALENDAR
VERSION:2.0
PRODID:-//Hetrick-Martin Institute - ECPv6.15.20//NONSGML v1.0//EN
CALSCALE:GREGORIAN
METHOD:PUBLISH
X-WR-CALNAME:Hetrick-Martin Institute
X-ORIGINAL-URL:https://hmi.org
X-WR-CALDESC:Events for Hetrick-Martin Institute
REFRESH-INTERVAL;VALUE=DURATION:PT1H
X-Robots-Tag:noindex
X-PUBLISHED-TTL:PT1H
BEGIN:VTIMEZONE
TZID:America/New_York
BEGIN:DAYLIGHT
TZOFFSETFROM:-0500
TZOFFSETTO:-0400
TZNAME:EDT
DTSTART:20260308T070000
END:DAYLIGHT
BEGIN:STANDARD
TZOFFSETFROM:-0400
TZOFFSETTO:-0500
TZNAME:EST
DTSTART:20261101T060000
END:STANDARD
BEGIN:DAYLIGHT
TZOFFSETFROM:-0500
TZOFFSETTO:-0400
TZNAME:EDT
DTSTART:20270314T070000
END:DAYLIGHT
BEGIN:STANDARD
TZOFFSETFROM:-0400
TZOFFSETTO:-0500
TZNAME:EST
DTSTART:20271107T060000
END:STANDARD
BEGIN:DAYLIGHT
TZOFFSETFROM:-0500
TZOFFSETTO:-0400
TZNAME:EDT
DTSTART:20280312T070000
END:DAYLIGHT
BEGIN:STANDARD
TZOFFSETFROM:-0400
TZOFFSETTO:-0500
TZNAME:EST
DTSTART:20281105T060000
END:STANDARD
END:VTIMEZONE
BEGIN:VEVENT
DTSTART;TZID=America/New_York:20270303T180000
DTEND;TZID=America/New_York:20270303T193000
DTSTAMP:20260421T182505
CREATED:20240822T024904Z
LAST-MODIFIED:20240822T024908Z
UID:10011958-1804096800-1804102200@hmi.org
SUMMARY:HMI's Kiki Lounge - Wednesdays
DESCRIPTION:Kiki\, Vogue\, runway….. What’s your fancy? Come hang out with your friends and house members to practice your skills and get ready for your upcoming function. Every Monday and Wednesday! Email hmiyouth@hmi.org for more information.
URL:https://hmi.org/event/hmis-kiki-lounge-wednesdays-7/2027-03-03/
LOCATION:Hetrick-Martin Institute 3rd Floor\, 2 Astor Place 3rd Floor\, New York\, NY\, 10003\, United States
CATEGORIES:Youth Events
ATTACH;FMTTYPE=image/jpeg:https://hmi.org/wp-content/uploads/2023/08/Kiki-Lounge-Flyer-2024.jpg
END:VEVENT
BEGIN:VEVENT
DTSTART;TZID=America/New_York:20270310T180000
DTEND;TZID=America/New_York:20270310T193000
DTSTAMP:20260421T182505
CREATED:20240822T024904Z
LAST-MODIFIED:20240822T024908Z
UID:10011959-1804701600-1804707000@hmi.org
SUMMARY:HMI's Kiki Lounge - Wednesdays
DESCRIPTION:Kiki\, Vogue\, runway….. What’s your fancy? Come hang out with your friends and house members to practice your skills and get ready for your upcoming function. Every Monday and Wednesday! Email hmiyouth@hmi.org for more information.
URL:https://hmi.org/event/hmis-kiki-lounge-wednesdays-7/2027-03-10/
LOCATION:Hetrick-Martin Institute 3rd Floor\, 2 Astor Place 3rd Floor\, New York\, NY\, 10003\, United States
CATEGORIES:Youth Events
ATTACH;FMTTYPE=image/jpeg:https://hmi.org/wp-content/uploads/2023/08/Kiki-Lounge-Flyer-2024.jpg
END:VEVENT
BEGIN:VEVENT
DTSTART;TZID=America/New_York:20270317T180000
DTEND;TZID=America/New_York:20270317T193000
DTSTAMP:20260421T182505
CREATED:20240822T024904Z
LAST-MODIFIED:20240822T024908Z
UID:10011960-1805306400-1805311800@hmi.org
SUMMARY:HMI's Kiki Lounge - Wednesdays
DESCRIPTION:Kiki\, Vogue\, runway….. What’s your fancy? Come hang out with your friends and house members to practice your skills and get ready for your upcoming function. Every Monday and Wednesday! Email hmiyouth@hmi.org for more information.
URL:https://hmi.org/event/hmis-kiki-lounge-wednesdays-7/2027-03-17/
LOCATION:Hetrick-Martin Institute 3rd Floor\, 2 Astor Place 3rd Floor\, New York\, NY\, 10003\, United States
CATEGORIES:Youth Events
ATTACH;FMTTYPE=image/jpeg:https://hmi.org/wp-content/uploads/2023/08/Kiki-Lounge-Flyer-2024.jpg
END:VEVENT
BEGIN:VEVENT
DTSTART;TZID=America/New_York:20270324T180000
DTEND;TZID=America/New_York:20270324T193000
DTSTAMP:20260421T182505
CREATED:20240822T024904Z
LAST-MODIFIED:20240822T024908Z
UID:10011961-1805911200-1805916600@hmi.org
SUMMARY:HMI's Kiki Lounge - Wednesdays
DESCRIPTION:Kiki\, Vogue\, runway….. What’s your fancy? Come hang out with your friends and house members to practice your skills and get ready for your upcoming function. Every Monday and Wednesday! Email hmiyouth@hmi.org for more information.
URL:https://hmi.org/event/hmis-kiki-lounge-wednesdays-7/2027-03-24/
LOCATION:Hetrick-Martin Institute 3rd Floor\, 2 Astor Place 3rd Floor\, New York\, NY\, 10003\, United States
CATEGORIES:Youth Events
ATTACH;FMTTYPE=image/jpeg:https://hmi.org/wp-content/uploads/2023/08/Kiki-Lounge-Flyer-2024.jpg
END:VEVENT
BEGIN:VEVENT
DTSTART;TZID=America/New_York:20270331T180000
DTEND;TZID=America/New_York:20270331T193000
DTSTAMP:20260421T182505
CREATED:20240822T024904Z
LAST-MODIFIED:20240822T024908Z
UID:10011962-1806516000-1806521400@hmi.org
SUMMARY:HMI's Kiki Lounge - Wednesdays
DESCRIPTION:Kiki\, Vogue\, runway….. What’s your fancy? Come hang out with your friends and house members to practice your skills and get ready for your upcoming function. Every Monday and Wednesday! Email hmiyouth@hmi.org for more information.
URL:https://hmi.org/event/hmis-kiki-lounge-wednesdays-7/2027-03-31/
LOCATION:Hetrick-Martin Institute 3rd Floor\, 2 Astor Place 3rd Floor\, New York\, NY\, 10003\, United States
CATEGORIES:Youth Events
ATTACH;FMTTYPE=image/jpeg:https://hmi.org/wp-content/uploads/2023/08/Kiki-Lounge-Flyer-2024.jpg
END:VEVENT
BEGIN:VEVENT
DTSTART;TZID=America/New_York:20270407T180000
DTEND;TZID=America/New_York:20270407T193000
DTSTAMP:20260421T182505
CREATED:20240822T024904Z
LAST-MODIFIED:20240822T024908Z
UID:10011963-1807120800-1807126200@hmi.org
SUMMARY:HMI's Kiki Lounge - Wednesdays
DESCRIPTION:Kiki\, Vogue\, runway….. What’s your fancy? Come hang out with your friends and house members to practice your skills and get ready for your upcoming function. Every Monday and Wednesday! Email hmiyouth@hmi.org for more information.
URL:https://hmi.org/event/hmis-kiki-lounge-wednesdays-7/2027-04-07/
LOCATION:Hetrick-Martin Institute 3rd Floor\, 2 Astor Place 3rd Floor\, New York\, NY\, 10003\, United States
CATEGORIES:Youth Events
ATTACH;FMTTYPE=image/jpeg:https://hmi.org/wp-content/uploads/2023/08/Kiki-Lounge-Flyer-2024.jpg
END:VEVENT
BEGIN:VEVENT
DTSTART;TZID=America/New_York:20270414T180000
DTEND;TZID=America/New_York:20270414T193000
DTSTAMP:20260421T182506
CREATED:20240822T024904Z
LAST-MODIFIED:20240822T024908Z
UID:10011964-1807725600-1807731000@hmi.org
SUMMARY:HMI's Kiki Lounge - Wednesdays
DESCRIPTION:Kiki\, Vogue\, runway….. What’s your fancy? Come hang out with your friends and house members to practice your skills and get ready for your upcoming function. Every Monday and Wednesday! Email hmiyouth@hmi.org for more information.
URL:https://hmi.org/event/hmis-kiki-lounge-wednesdays-7/2027-04-14/
LOCATION:Hetrick-Martin Institute 3rd Floor\, 2 Astor Place 3rd Floor\, New York\, NY\, 10003\, United States
CATEGORIES:Youth Events
ATTACH;FMTTYPE=image/jpeg:https://hmi.org/wp-content/uploads/2023/08/Kiki-Lounge-Flyer-2024.jpg
END:VEVENT
BEGIN:VEVENT
DTSTART;TZID=America/New_York:20270421T180000
DTEND;TZID=America/New_York:20270421T193000
DTSTAMP:20260421T182506
CREATED:20240822T024904Z
LAST-MODIFIED:20240822T024908Z
UID:10011965-1808330400-1808335800@hmi.org
SUMMARY:HMI's Kiki Lounge - Wednesdays
DESCRIPTION:Kiki\, Vogue\, runway….. What’s your fancy? Come hang out with your friends and house members to practice your skills and get ready for your upcoming function. Every Monday and Wednesday! Email hmiyouth@hmi.org for more information.
URL:https://hmi.org/event/hmis-kiki-lounge-wednesdays-7/2027-04-21/
LOCATION:Hetrick-Martin Institute 3rd Floor\, 2 Astor Place 3rd Floor\, New York\, NY\, 10003\, United States
CATEGORIES:Youth Events
ATTACH;FMTTYPE=image/jpeg:https://hmi.org/wp-content/uploads/2023/08/Kiki-Lounge-Flyer-2024.jpg
END:VEVENT
BEGIN:VEVENT
DTSTART;TZID=America/New_York:20270428T180000
DTEND;TZID=America/New_York:20270428T193000
DTSTAMP:20260421T182506
CREATED:20240822T024904Z
LAST-MODIFIED:20240822T024908Z
UID:10011966-1808935200-1808940600@hmi.org
SUMMARY:HMI's Kiki Lounge - Wednesdays
DESCRIPTION:Kiki\, Vogue\, runway….. What’s your fancy? Come hang out with your friends and house members to practice your skills and get ready for your upcoming function. Every Monday and Wednesday! Email hmiyouth@hmi.org for more information.
URL:https://hmi.org/event/hmis-kiki-lounge-wednesdays-7/2027-04-28/
LOCATION:Hetrick-Martin Institute 3rd Floor\, 2 Astor Place 3rd Floor\, New York\, NY\, 10003\, United States
CATEGORIES:Youth Events
ATTACH;FMTTYPE=image/jpeg:https://hmi.org/wp-content/uploads/2023/08/Kiki-Lounge-Flyer-2024.jpg
END:VEVENT
BEGIN:VEVENT
DTSTART;TZID=America/New_York:20270505T180000
DTEND;TZID=America/New_York:20270505T193000
DTSTAMP:20260421T182506
CREATED:20240822T024904Z
LAST-MODIFIED:20240822T024908Z
UID:10011967-1809540000-1809545400@hmi.org
SUMMARY:HMI's Kiki Lounge - Wednesdays
DESCRIPTION:Kiki\, Vogue\, runway….. What’s your fancy? Come hang out with your friends and house members to practice your skills and get ready for your upcoming function. Every Monday and Wednesday! Email hmiyouth@hmi.org for more information.
URL:https://hmi.org/event/hmis-kiki-lounge-wednesdays-7/2027-05-05/
LOCATION:Hetrick-Martin Institute 3rd Floor\, 2 Astor Place 3rd Floor\, New York\, NY\, 10003\, United States
CATEGORIES:Youth Events
ATTACH;FMTTYPE=image/jpeg:https://hmi.org/wp-content/uploads/2023/08/Kiki-Lounge-Flyer-2024.jpg
END:VEVENT
BEGIN:VEVENT
DTSTART;TZID=America/New_York:20270512T180000
DTEND;TZID=America/New_York:20270512T193000
DTSTAMP:20260421T182506
CREATED:20240822T024904Z
LAST-MODIFIED:20240822T024908Z
UID:10011968-1810144800-1810150200@hmi.org
SUMMARY:HMI's Kiki Lounge - Wednesdays
DESCRIPTION:Kiki\, Vogue\, runway….. What’s your fancy? Come hang out with your friends and house members to practice your skills and get ready for your upcoming function. Every Monday and Wednesday! Email hmiyouth@hmi.org for more information.
URL:https://hmi.org/event/hmis-kiki-lounge-wednesdays-7/2027-05-12/
LOCATION:Hetrick-Martin Institute 3rd Floor\, 2 Astor Place 3rd Floor\, New York\, NY\, 10003\, United States
CATEGORIES:Youth Events
ATTACH;FMTTYPE=image/jpeg:https://hmi.org/wp-content/uploads/2023/08/Kiki-Lounge-Flyer-2024.jpg
END:VEVENT
BEGIN:VEVENT
DTSTART;TZID=America/New_York:20270519T180000
DTEND;TZID=America/New_York:20270519T193000
DTSTAMP:20260421T182506
CREATED:20240822T024904Z
LAST-MODIFIED:20240822T024908Z
UID:10011969-1810749600-1810755000@hmi.org
SUMMARY:HMI's Kiki Lounge - Wednesdays
DESCRIPTION:Kiki\, Vogue\, runway….. What’s your fancy? Come hang out with your friends and house members to practice your skills and get ready for your upcoming function. Every Monday and Wednesday! Email hmiyouth@hmi.org for more information.
URL:https://hmi.org/event/hmis-kiki-lounge-wednesdays-7/2027-05-19/
LOCATION:Hetrick-Martin Institute 3rd Floor\, 2 Astor Place 3rd Floor\, New York\, NY\, 10003\, United States
CATEGORIES:Youth Events
ATTACH;FMTTYPE=image/jpeg:https://hmi.org/wp-content/uploads/2023/08/Kiki-Lounge-Flyer-2024.jpg
END:VEVENT
BEGIN:VEVENT
DTSTART;TZID=America/New_York:20270526T180000
DTEND;TZID=America/New_York:20270526T193000
DTSTAMP:20260421T182506
CREATED:20240822T024904Z
LAST-MODIFIED:20240822T024908Z
UID:10011970-1811354400-1811359800@hmi.org
SUMMARY:HMI's Kiki Lounge - Wednesdays
DESCRIPTION:Kiki\, Vogue\, runway….. What’s your fancy? Come hang out with your friends and house members to practice your skills and get ready for your upcoming function. Every Monday and Wednesday! Email hmiyouth@hmi.org for more information.
URL:https://hmi.org/event/hmis-kiki-lounge-wednesdays-7/2027-05-26/
LOCATION:Hetrick-Martin Institute 3rd Floor\, 2 Astor Place 3rd Floor\, New York\, NY\, 10003\, United States
CATEGORIES:Youth Events
ATTACH;FMTTYPE=image/jpeg:https://hmi.org/wp-content/uploads/2023/08/Kiki-Lounge-Flyer-2024.jpg
END:VEVENT
BEGIN:VEVENT
DTSTART;TZID=America/New_York:20270602T180000
DTEND;TZID=America/New_York:20270602T193000
DTSTAMP:20260421T182506
CREATED:20240822T024904Z
LAST-MODIFIED:20240822T024908Z
UID:10011971-1811959200-1811964600@hmi.org
SUMMARY:HMI's Kiki Lounge - Wednesdays
DESCRIPTION:Kiki\, Vogue\, runway….. What’s your fancy? Come hang out with your friends and house members to practice your skills and get ready for your upcoming function. Every Monday and Wednesday! Email hmiyouth@hmi.org for more information.
URL:https://hmi.org/event/hmis-kiki-lounge-wednesdays-7/2027-06-02/
LOCATION:Hetrick-Martin Institute 3rd Floor\, 2 Astor Place 3rd Floor\, New York\, NY\, 10003\, United States
CATEGORIES:Youth Events
ATTACH;FMTTYPE=image/jpeg:https://hmi.org/wp-content/uploads/2023/08/Kiki-Lounge-Flyer-2024.jpg
END:VEVENT
BEGIN:VEVENT
DTSTART;TZID=America/New_York:20270609T180000
DTEND;TZID=America/New_York:20270609T193000
DTSTAMP:20260421T182506
CREATED:20240822T024904Z
LAST-MODIFIED:20240822T024908Z
UID:10011972-1812564000-1812569400@hmi.org
SUMMARY:HMI's Kiki Lounge - Wednesdays
DESCRIPTION:Kiki\, Vogue\, runway….. What’s your fancy? Come hang out with your friends and house members to practice your skills and get ready for your upcoming function. Every Monday and Wednesday! Email hmiyouth@hmi.org for more information.
URL:https://hmi.org/event/hmis-kiki-lounge-wednesdays-7/2027-06-09/
LOCATION:Hetrick-Martin Institute 3rd Floor\, 2 Astor Place 3rd Floor\, New York\, NY\, 10003\, United States
CATEGORIES:Youth Events
ATTACH;FMTTYPE=image/jpeg:https://hmi.org/wp-content/uploads/2023/08/Kiki-Lounge-Flyer-2024.jpg
END:VEVENT
BEGIN:VEVENT
DTSTART;TZID=America/New_York:20270616T180000
DTEND;TZID=America/New_York:20270616T193000
DTSTAMP:20260421T182506
CREATED:20240822T024904Z
LAST-MODIFIED:20240822T024908Z
UID:10011973-1813168800-1813174200@hmi.org
SUMMARY:HMI's Kiki Lounge - Wednesdays
DESCRIPTION:Kiki\, Vogue\, runway….. What’s your fancy? Come hang out with your friends and house members to practice your skills and get ready for your upcoming function. Every Monday and Wednesday! Email hmiyouth@hmi.org for more information.
URL:https://hmi.org/event/hmis-kiki-lounge-wednesdays-7/2027-06-16/
LOCATION:Hetrick-Martin Institute 3rd Floor\, 2 Astor Place 3rd Floor\, New York\, NY\, 10003\, United States
CATEGORIES:Youth Events
ATTACH;FMTTYPE=image/jpeg:https://hmi.org/wp-content/uploads/2023/08/Kiki-Lounge-Flyer-2024.jpg
END:VEVENT
BEGIN:VEVENT
DTSTART;TZID=America/New_York:20270623T180000
DTEND;TZID=America/New_York:20270623T193000
DTSTAMP:20260421T182506
CREATED:20240822T024904Z
LAST-MODIFIED:20240822T024908Z
UID:10011974-1813773600-1813779000@hmi.org
SUMMARY:HMI's Kiki Lounge - Wednesdays
DESCRIPTION:Kiki\, Vogue\, runway….. What’s your fancy? Come hang out with your friends and house members to practice your skills and get ready for your upcoming function. Every Monday and Wednesday! Email hmiyouth@hmi.org for more information.
URL:https://hmi.org/event/hmis-kiki-lounge-wednesdays-7/2027-06-23/
LOCATION:Hetrick-Martin Institute 3rd Floor\, 2 Astor Place 3rd Floor\, New York\, NY\, 10003\, United States
CATEGORIES:Youth Events
ATTACH;FMTTYPE=image/jpeg:https://hmi.org/wp-content/uploads/2023/08/Kiki-Lounge-Flyer-2024.jpg
END:VEVENT
BEGIN:VEVENT
DTSTART;TZID=America/New_York:20270630T180000
DTEND;TZID=America/New_York:20270630T193000
DTSTAMP:20260421T182506
CREATED:20240822T024904Z
LAST-MODIFIED:20240822T024908Z
UID:10011975-1814378400-1814383800@hmi.org
SUMMARY:HMI's Kiki Lounge - Wednesdays
DESCRIPTION:Kiki\, Vogue\, runway….. What’s your fancy? Come hang out with your friends and house members to practice your skills and get ready for your upcoming function. Every Monday and Wednesday! Email hmiyouth@hmi.org for more information.
URL:https://hmi.org/event/hmis-kiki-lounge-wednesdays-7/2027-06-30/
LOCATION:Hetrick-Martin Institute 3rd Floor\, 2 Astor Place 3rd Floor\, New York\, NY\, 10003\, United States
CATEGORIES:Youth Events
ATTACH;FMTTYPE=image/jpeg:https://hmi.org/wp-content/uploads/2023/08/Kiki-Lounge-Flyer-2024.jpg
END:VEVENT
BEGIN:VEVENT
DTSTART;TZID=America/New_York:20270707T180000
DTEND;TZID=America/New_York:20270707T193000
DTSTAMP:20260421T182506
CREATED:20240822T024904Z
LAST-MODIFIED:20240822T024908Z
UID:10011976-1814983200-1814988600@hmi.org
SUMMARY:HMI's Kiki Lounge - Wednesdays
DESCRIPTION:Kiki\, Vogue\, runway….. What’s your fancy? Come hang out with your friends and house members to practice your skills and get ready for your upcoming function. Every Monday and Wednesday! Email hmiyouth@hmi.org for more information.
URL:https://hmi.org/event/hmis-kiki-lounge-wednesdays-7/2027-07-07/
LOCATION:Hetrick-Martin Institute 3rd Floor\, 2 Astor Place 3rd Floor\, New York\, NY\, 10003\, United States
CATEGORIES:Youth Events
ATTACH;FMTTYPE=image/jpeg:https://hmi.org/wp-content/uploads/2023/08/Kiki-Lounge-Flyer-2024.jpg
END:VEVENT
BEGIN:VEVENT
DTSTART;TZID=America/New_York:20270714T180000
DTEND;TZID=America/New_York:20270714T193000
DTSTAMP:20260421T182506
CREATED:20240822T024904Z
LAST-MODIFIED:20240822T024908Z
UID:10011977-1815588000-1815593400@hmi.org
SUMMARY:HMI's Kiki Lounge - Wednesdays
DESCRIPTION:Kiki\, Vogue\, runway….. What’s your fancy? Come hang out with your friends and house members to practice your skills and get ready for your upcoming function. Every Monday and Wednesday! Email hmiyouth@hmi.org for more information.
URL:https://hmi.org/event/hmis-kiki-lounge-wednesdays-7/2027-07-14/
LOCATION:Hetrick-Martin Institute 3rd Floor\, 2 Astor Place 3rd Floor\, New York\, NY\, 10003\, United States
CATEGORIES:Youth Events
ATTACH;FMTTYPE=image/jpeg:https://hmi.org/wp-content/uploads/2023/08/Kiki-Lounge-Flyer-2024.jpg
END:VEVENT
BEGIN:VEVENT
DTSTART;TZID=America/New_York:20270721T180000
DTEND;TZID=America/New_York:20270721T193000
DTSTAMP:20260421T182506
CREATED:20240822T024904Z
LAST-MODIFIED:20240822T024908Z
UID:10011978-1816192800-1816198200@hmi.org
SUMMARY:HMI's Kiki Lounge - Wednesdays
DESCRIPTION:Kiki\, Vogue\, runway….. What’s your fancy? Come hang out with your friends and house members to practice your skills and get ready for your upcoming function. Every Monday and Wednesday! Email hmiyouth@hmi.org for more information.
URL:https://hmi.org/event/hmis-kiki-lounge-wednesdays-7/2027-07-21/
LOCATION:Hetrick-Martin Institute 3rd Floor\, 2 Astor Place 3rd Floor\, New York\, NY\, 10003\, United States
CATEGORIES:Youth Events
ATTACH;FMTTYPE=image/jpeg:https://hmi.org/wp-content/uploads/2023/08/Kiki-Lounge-Flyer-2024.jpg
END:VEVENT
BEGIN:VEVENT
DTSTART;TZID=America/New_York:20270728T180000
DTEND;TZID=America/New_York:20270728T193000
DTSTAMP:20260421T182506
CREATED:20240822T024904Z
LAST-MODIFIED:20240822T024908Z
UID:10011979-1816797600-1816803000@hmi.org
SUMMARY:HMI's Kiki Lounge - Wednesdays
DESCRIPTION:Kiki\, Vogue\, runway….. What’s your fancy? Come hang out with your friends and house members to practice your skills and get ready for your upcoming function. Every Monday and Wednesday! Email hmiyouth@hmi.org for more information.
URL:https://hmi.org/event/hmis-kiki-lounge-wednesdays-7/2027-07-28/
LOCATION:Hetrick-Martin Institute 3rd Floor\, 2 Astor Place 3rd Floor\, New York\, NY\, 10003\, United States
CATEGORIES:Youth Events
ATTACH;FMTTYPE=image/jpeg:https://hmi.org/wp-content/uploads/2023/08/Kiki-Lounge-Flyer-2024.jpg
END:VEVENT
BEGIN:VEVENT
DTSTART;TZID=America/New_York:20270804T180000
DTEND;TZID=America/New_York:20270804T193000
DTSTAMP:20260421T182506
CREATED:20240822T024904Z
LAST-MODIFIED:20240822T024908Z
UID:10011980-1817402400-1817407800@hmi.org
SUMMARY:HMI's Kiki Lounge - Wednesdays
DESCRIPTION:Kiki\, Vogue\, runway….. What’s your fancy? Come hang out with your friends and house members to practice your skills and get ready for your upcoming function. Every Monday and Wednesday! Email hmiyouth@hmi.org for more information.
URL:https://hmi.org/event/hmis-kiki-lounge-wednesdays-7/2027-08-04/
LOCATION:Hetrick-Martin Institute 3rd Floor\, 2 Astor Place 3rd Floor\, New York\, NY\, 10003\, United States
CATEGORIES:Youth Events
ATTACH;FMTTYPE=image/jpeg:https://hmi.org/wp-content/uploads/2023/08/Kiki-Lounge-Flyer-2024.jpg
END:VEVENT
BEGIN:VEVENT
DTSTART;TZID=America/New_York:20270811T180000
DTEND;TZID=America/New_York:20270811T193000
DTSTAMP:20260421T182506
CREATED:20240822T024904Z
LAST-MODIFIED:20240822T024908Z
UID:10011981-1818007200-1818012600@hmi.org
SUMMARY:HMI's Kiki Lounge - Wednesdays
DESCRIPTION:Kiki\, Vogue\, runway….. What’s your fancy? Come hang out with your friends and house members to practice your skills and get ready for your upcoming function. Every Monday and Wednesday! Email hmiyouth@hmi.org for more information.
URL:https://hmi.org/event/hmis-kiki-lounge-wednesdays-7/2027-08-11/
LOCATION:Hetrick-Martin Institute 3rd Floor\, 2 Astor Place 3rd Floor\, New York\, NY\, 10003\, United States
CATEGORIES:Youth Events
ATTACH;FMTTYPE=image/jpeg:https://hmi.org/wp-content/uploads/2023/08/Kiki-Lounge-Flyer-2024.jpg
END:VEVENT
BEGIN:VEVENT
DTSTART;TZID=America/New_York:20270818T180000
DTEND;TZID=America/New_York:20270818T193000
DTSTAMP:20260421T182506
CREATED:20240822T024904Z
LAST-MODIFIED:20240822T024908Z
UID:10011982-1818612000-1818617400@hmi.org
SUMMARY:HMI's Kiki Lounge - Wednesdays
DESCRIPTION:Kiki\, Vogue\, runway….. What’s your fancy? Come hang out with your friends and house members to practice your skills and get ready for your upcoming function. Every Monday and Wednesday! Email hmiyouth@hmi.org for more information.
URL:https://hmi.org/event/hmis-kiki-lounge-wednesdays-7/2027-08-18/
LOCATION:Hetrick-Martin Institute 3rd Floor\, 2 Astor Place 3rd Floor\, New York\, NY\, 10003\, United States
CATEGORIES:Youth Events
ATTACH;FMTTYPE=image/jpeg:https://hmi.org/wp-content/uploads/2023/08/Kiki-Lounge-Flyer-2024.jpg
END:VEVENT
BEGIN:VEVENT
DTSTART;TZID=America/New_York:20270825T180000
DTEND;TZID=America/New_York:20270825T193000
DTSTAMP:20260421T182506
CREATED:20240822T024904Z
LAST-MODIFIED:20240822T024908Z
UID:10011983-1819216800-1819222200@hmi.org
SUMMARY:HMI's Kiki Lounge - Wednesdays
DESCRIPTION:Kiki\, Vogue\, runway….. What’s your fancy? Come hang out with your friends and house members to practice your skills and get ready for your upcoming function. Every Monday and Wednesday! Email hmiyouth@hmi.org for more information.
URL:https://hmi.org/event/hmis-kiki-lounge-wednesdays-7/2027-08-25/
LOCATION:Hetrick-Martin Institute 3rd Floor\, 2 Astor Place 3rd Floor\, New York\, NY\, 10003\, United States
CATEGORIES:Youth Events
ATTACH;FMTTYPE=image/jpeg:https://hmi.org/wp-content/uploads/2023/08/Kiki-Lounge-Flyer-2024.jpg
END:VEVENT
BEGIN:VEVENT
DTSTART;TZID=America/New_York:20270901T180000
DTEND;TZID=America/New_York:20270901T193000
DTSTAMP:20260421T182506
CREATED:20240822T024904Z
LAST-MODIFIED:20240822T024908Z
UID:10011984-1819821600-1819827000@hmi.org
SUMMARY:HMI's Kiki Lounge - Wednesdays
DESCRIPTION:Kiki\, Vogue\, runway….. What’s your fancy? Come hang out with your friends and house members to practice your skills and get ready for your upcoming function. Every Monday and Wednesday! Email hmiyouth@hmi.org for more information.
URL:https://hmi.org/event/hmis-kiki-lounge-wednesdays-7/2027-09-01/
LOCATION:Hetrick-Martin Institute 3rd Floor\, 2 Astor Place 3rd Floor\, New York\, NY\, 10003\, United States
CATEGORIES:Youth Events
ATTACH;FMTTYPE=image/jpeg:https://hmi.org/wp-content/uploads/2023/08/Kiki-Lounge-Flyer-2024.jpg
END:VEVENT
BEGIN:VEVENT
DTSTART;TZID=America/New_York:20270908T180000
DTEND;TZID=America/New_York:20270908T193000
DTSTAMP:20260421T182506
CREATED:20240822T024904Z
LAST-MODIFIED:20240822T024908Z
UID:10011985-1820426400-1820431800@hmi.org
SUMMARY:HMI's Kiki Lounge - Wednesdays
DESCRIPTION:Kiki\, Vogue\, runway….. What’s your fancy? Come hang out with your friends and house members to practice your skills and get ready for your upcoming function. Every Monday and Wednesday! Email hmiyouth@hmi.org for more information.
URL:https://hmi.org/event/hmis-kiki-lounge-wednesdays-7/2027-09-08/
LOCATION:Hetrick-Martin Institute 3rd Floor\, 2 Astor Place 3rd Floor\, New York\, NY\, 10003\, United States
CATEGORIES:Youth Events
ATTACH;FMTTYPE=image/jpeg:https://hmi.org/wp-content/uploads/2023/08/Kiki-Lounge-Flyer-2024.jpg
END:VEVENT
BEGIN:VEVENT
DTSTART;TZID=America/New_York:20270915T180000
DTEND;TZID=America/New_York:20270915T193000
DTSTAMP:20260421T182506
CREATED:20240822T024904Z
LAST-MODIFIED:20240822T024908Z
UID:10011986-1821031200-1821036600@hmi.org
SUMMARY:HMI's Kiki Lounge - Wednesdays
DESCRIPTION:Kiki\, Vogue\, runway….. What’s your fancy? Come hang out with your friends and house members to practice your skills and get ready for your upcoming function. Every Monday and Wednesday! Email hmiyouth@hmi.org for more information.
URL:https://hmi.org/event/hmis-kiki-lounge-wednesdays-7/2027-09-15/
LOCATION:Hetrick-Martin Institute 3rd Floor\, 2 Astor Place 3rd Floor\, New York\, NY\, 10003\, United States
CATEGORIES:Youth Events
ATTACH;FMTTYPE=image/jpeg:https://hmi.org/wp-content/uploads/2023/08/Kiki-Lounge-Flyer-2024.jpg
END:VEVENT
BEGIN:VEVENT
DTSTART;TZID=America/New_York:20270922T180000
DTEND;TZID=America/New_York:20270922T193000
DTSTAMP:20260421T182506
CREATED:20240822T024904Z
LAST-MODIFIED:20240822T024908Z
UID:10011987-1821636000-1821641400@hmi.org
SUMMARY:HMI's Kiki Lounge - Wednesdays
DESCRIPTION:Kiki\, Vogue\, runway….. What’s your fancy? Come hang out with your friends and house members to practice your skills and get ready for your upcoming function. Every Monday and Wednesday! Email hmiyouth@hmi.org for more information.
URL:https://hmi.org/event/hmis-kiki-lounge-wednesdays-7/2027-09-22/
LOCATION:Hetrick-Martin Institute 3rd Floor\, 2 Astor Place 3rd Floor\, New York\, NY\, 10003\, United States
CATEGORIES:Youth Events
ATTACH;FMTTYPE=image/jpeg:https://hmi.org/wp-content/uploads/2023/08/Kiki-Lounge-Flyer-2024.jpg
END:VEVENT
END:VCALENDAR