BEGIN:VCALENDAR
VERSION:2.0
PRODID:-//Hetrick-Martin Institute - ECPv6.15.20//NONSGML v1.0//EN
CALSCALE:GREGORIAN
METHOD:PUBLISH
X-WR-CALNAME:Hetrick-Martin Institute
X-ORIGINAL-URL:https://hmi.org
X-WR-CALDESC:Events for Hetrick-Martin Institute
REFRESH-INTERVAL;VALUE=DURATION:PT1H
X-Robots-Tag:noindex
X-PUBLISHED-TTL:PT1H
BEGIN:VTIMEZONE
TZID:America/New_York
BEGIN:DAYLIGHT
TZOFFSETFROM:-0500
TZOFFSETTO:-0400
TZNAME:EDT
DTSTART:20240310T070000
END:DAYLIGHT
BEGIN:STANDARD
TZOFFSETFROM:-0400
TZOFFSETTO:-0500
TZNAME:EST
DTSTART:20241103T060000
END:STANDARD
BEGIN:DAYLIGHT
TZOFFSETFROM:-0500
TZOFFSETTO:-0400
TZNAME:EDT
DTSTART:20250309T070000
END:DAYLIGHT
BEGIN:STANDARD
TZOFFSETFROM:-0400
TZOFFSETTO:-0500
TZNAME:EST
DTSTART:20251102T060000
END:STANDARD
BEGIN:DAYLIGHT
TZOFFSETFROM:-0500
TZOFFSETTO:-0400
TZNAME:EDT
DTSTART:20260308T070000
END:DAYLIGHT
BEGIN:STANDARD
TZOFFSETFROM:-0400
TZOFFSETTO:-0500
TZNAME:EST
DTSTART:20261101T060000
END:STANDARD
END:VTIMEZONE
BEGIN:VEVENT
DTSTART;TZID=America/New_York:20251203T180000
DTEND;TZID=America/New_York:20251203T193000
DTSTAMP:20260423T063240
CREATED:20240822T024904Z
LAST-MODIFIED:20240822T024908Z
UID:10011893-1764784800-1764790200@hmi.org
SUMMARY:HMI's Kiki Lounge - Wednesdays
DESCRIPTION:Kiki\, Vogue\, runway….. What’s your fancy? Come hang out with your friends and house members to practice your skills and get ready for your upcoming function. Every Monday and Wednesday! Email hmiyouth@hmi.org for more information.
URL:https://hmi.org/event/hmis-kiki-lounge-wednesdays-7/2025-12-03/
LOCATION:Hetrick-Martin Institute 3rd Floor\, 2 Astor Place 3rd Floor\, New York\, NY\, 10003\, United States
CATEGORIES:Youth Events
ATTACH;FMTTYPE=image/jpeg:https://hmi.org/wp-content/uploads/2023/08/Kiki-Lounge-Flyer-2024.jpg
END:VEVENT
BEGIN:VEVENT
DTSTART;TZID=America/New_York:20251210T180000
DTEND;TZID=America/New_York:20251210T193000
DTSTAMP:20260423T063240
CREATED:20240822T024904Z
LAST-MODIFIED:20240822T024908Z
UID:10011894-1765389600-1765395000@hmi.org
SUMMARY:HMI's Kiki Lounge - Wednesdays
DESCRIPTION:Kiki\, Vogue\, runway….. What’s your fancy? Come hang out with your friends and house members to practice your skills and get ready for your upcoming function. Every Monday and Wednesday! Email hmiyouth@hmi.org for more information.
URL:https://hmi.org/event/hmis-kiki-lounge-wednesdays-7/2025-12-10/
LOCATION:Hetrick-Martin Institute 3rd Floor\, 2 Astor Place 3rd Floor\, New York\, NY\, 10003\, United States
CATEGORIES:Youth Events
ATTACH;FMTTYPE=image/jpeg:https://hmi.org/wp-content/uploads/2023/08/Kiki-Lounge-Flyer-2024.jpg
END:VEVENT
BEGIN:VEVENT
DTSTART;TZID=America/New_York:20251217T180000
DTEND;TZID=America/New_York:20251217T193000
DTSTAMP:20260423T063240
CREATED:20240822T024904Z
LAST-MODIFIED:20240822T024908Z
UID:10011895-1765994400-1765999800@hmi.org
SUMMARY:HMI's Kiki Lounge - Wednesdays
DESCRIPTION:Kiki\, Vogue\, runway….. What’s your fancy? Come hang out with your friends and house members to practice your skills and get ready for your upcoming function. Every Monday and Wednesday! Email hmiyouth@hmi.org for more information.
URL:https://hmi.org/event/hmis-kiki-lounge-wednesdays-7/2025-12-17/
LOCATION:Hetrick-Martin Institute 3rd Floor\, 2 Astor Place 3rd Floor\, New York\, NY\, 10003\, United States
CATEGORIES:Youth Events
ATTACH;FMTTYPE=image/jpeg:https://hmi.org/wp-content/uploads/2023/08/Kiki-Lounge-Flyer-2024.jpg
END:VEVENT
BEGIN:VEVENT
DTSTART;TZID=America/New_York:20251224T180000
DTEND;TZID=America/New_York:20251224T193000
DTSTAMP:20260423T063240
CREATED:20240822T024904Z
LAST-MODIFIED:20240822T024908Z
UID:10011896-1766599200-1766604600@hmi.org
SUMMARY:HMI's Kiki Lounge - Wednesdays
DESCRIPTION:Kiki\, Vogue\, runway….. What’s your fancy? Come hang out with your friends and house members to practice your skills and get ready for your upcoming function. Every Monday and Wednesday! Email hmiyouth@hmi.org for more information.
URL:https://hmi.org/event/hmis-kiki-lounge-wednesdays-7/2025-12-24/
LOCATION:Hetrick-Martin Institute 3rd Floor\, 2 Astor Place 3rd Floor\, New York\, NY\, 10003\, United States
CATEGORIES:Youth Events
ATTACH;FMTTYPE=image/jpeg:https://hmi.org/wp-content/uploads/2023/08/Kiki-Lounge-Flyer-2024.jpg
END:VEVENT
BEGIN:VEVENT
DTSTART;TZID=America/New_York:20251231T180000
DTEND;TZID=America/New_York:20251231T193000
DTSTAMP:20260423T063240
CREATED:20240822T024904Z
LAST-MODIFIED:20240822T024908Z
UID:10011897-1767204000-1767209400@hmi.org
SUMMARY:HMI's Kiki Lounge - Wednesdays
DESCRIPTION:Kiki\, Vogue\, runway….. What’s your fancy? Come hang out with your friends and house members to practice your skills and get ready for your upcoming function. Every Monday and Wednesday! Email hmiyouth@hmi.org for more information.
URL:https://hmi.org/event/hmis-kiki-lounge-wednesdays-7/2025-12-31/
LOCATION:Hetrick-Martin Institute 3rd Floor\, 2 Astor Place 3rd Floor\, New York\, NY\, 10003\, United States
CATEGORIES:Youth Events
ATTACH;FMTTYPE=image/jpeg:https://hmi.org/wp-content/uploads/2023/08/Kiki-Lounge-Flyer-2024.jpg
END:VEVENT
END:VCALENDAR