BEGIN:VCALENDAR
VERSION:2.0
PRODID:-//Hetrick-Martin Institute - ECPv6.15.20//NONSGML v1.0//EN
CALSCALE:GREGORIAN
METHOD:PUBLISH
X-WR-CALNAME:Hetrick-Martin Institute
X-ORIGINAL-URL:https://hmi.org
X-WR-CALDESC:Events for Hetrick-Martin Institute
REFRESH-INTERVAL;VALUE=DURATION:PT1H
X-Robots-Tag:noindex
X-PUBLISHED-TTL:PT1H
BEGIN:VTIMEZONE
TZID:America/New_York
BEGIN:DAYLIGHT
TZOFFSETFROM:-0500
TZOFFSETTO:-0400
TZNAME:EDT
DTSTART:20230312T070000
END:DAYLIGHT
BEGIN:STANDARD
TZOFFSETFROM:-0400
TZOFFSETTO:-0500
TZNAME:EST
DTSTART:20231105T060000
END:STANDARD
BEGIN:DAYLIGHT
TZOFFSETFROM:-0500
TZOFFSETTO:-0400
TZNAME:EDT
DTSTART:20240310T070000
END:DAYLIGHT
BEGIN:STANDARD
TZOFFSETFROM:-0400
TZOFFSETTO:-0500
TZNAME:EST
DTSTART:20241103T060000
END:STANDARD
BEGIN:DAYLIGHT
TZOFFSETFROM:-0500
TZOFFSETTO:-0400
TZNAME:EDT
DTSTART:20250309T070000
END:DAYLIGHT
BEGIN:STANDARD
TZOFFSETFROM:-0400
TZOFFSETTO:-0500
TZNAME:EST
DTSTART:20251102T060000
END:STANDARD
END:VTIMEZONE
BEGIN:VEVENT
DTSTART;TZID=America/New_York:20240903T180000
DTEND;TZID=America/New_York:20240903T190000
DTSTAMP:20260421T113532
CREATED:20240831T023906Z
LAST-MODIFIED:20240831T024535Z
UID:10013758-1725386400-1725390000@hmi.org
SUMMARY:Social Media Mixer Party
DESCRIPTION:Do you love social media\, love being in photos\, creating video and dancing??  Join us for our Social Media Mixer and find out about some fun social media campaigns we have planned and sign up to be in our videos and photos!  We will provide donuts\, candy\, snacks and sodas\, you provide your beautiful self and the talent!  Email Rosalina at RPong@hmi.org for more information.
URL:https://hmi.org/event/social-media-mixer-party/
CATEGORIES:Youth Events
ATTACH;FMTTYPE=image/png:https://hmi.org/wp-content/uploads/2024/08/Social-Media-Mixer-2-scaled.png
END:VEVENT
BEGIN:VEVENT
DTSTART;TZID=America/New_York:20240904T180000
DTEND;TZID=America/New_York:20240904T193000
DTSTAMP:20260421T113532
CREATED:20240822T024904Z
LAST-MODIFIED:20240822T024908Z
UID:10011828-1725472800-1725478200@hmi.org
SUMMARY:HMI's Kiki Lounge - Wednesdays
DESCRIPTION:Kiki\, Vogue\, runway….. What’s your fancy? Come hang out with your friends and house members to practice your skills and get ready for your upcoming function. Every Monday and Wednesday! Email hmiyouth@hmi.org for more information.
URL:https://hmi.org/event/hmis-kiki-lounge-wednesdays-7/2024-09-04/
LOCATION:Hetrick-Martin Institute 3rd Floor\, 2 Astor Place 3rd Floor\, New York\, NY\, 10003\, United States
CATEGORIES:Youth Events
ATTACH;FMTTYPE=image/jpeg:https://hmi.org/wp-content/uploads/2023/08/Kiki-Lounge-Flyer-2024.jpg
END:VEVENT
BEGIN:VEVENT
DTSTART;TZID=America/New_York:20240911T180000
DTEND;TZID=America/New_York:20240911T193000
DTSTAMP:20260421T113532
CREATED:20240822T024904Z
LAST-MODIFIED:20240822T024908Z
UID:10011829-1726077600-1726083000@hmi.org
SUMMARY:HMI's Kiki Lounge - Wednesdays
DESCRIPTION:Kiki\, Vogue\, runway….. What’s your fancy? Come hang out with your friends and house members to practice your skills and get ready for your upcoming function. Every Monday and Wednesday! Email hmiyouth@hmi.org for more information.
URL:https://hmi.org/event/hmis-kiki-lounge-wednesdays-7/2024-09-11/
LOCATION:Hetrick-Martin Institute 3rd Floor\, 2 Astor Place 3rd Floor\, New York\, NY\, 10003\, United States
CATEGORIES:Youth Events
ATTACH;FMTTYPE=image/jpeg:https://hmi.org/wp-content/uploads/2023/08/Kiki-Lounge-Flyer-2024.jpg
END:VEVENT
BEGIN:VEVENT
DTSTART;TZID=America/New_York:20240918T180000
DTEND;TZID=America/New_York:20240918T193000
DTSTAMP:20260421T113532
CREATED:20240822T024904Z
LAST-MODIFIED:20240822T024908Z
UID:10011830-1726682400-1726687800@hmi.org
SUMMARY:HMI's Kiki Lounge - Wednesdays
DESCRIPTION:Kiki\, Vogue\, runway….. What’s your fancy? Come hang out with your friends and house members to practice your skills and get ready for your upcoming function. Every Monday and Wednesday! Email hmiyouth@hmi.org for more information.
URL:https://hmi.org/event/hmis-kiki-lounge-wednesdays-7/2024-09-18/
LOCATION:Hetrick-Martin Institute 3rd Floor\, 2 Astor Place 3rd Floor\, New York\, NY\, 10003\, United States
CATEGORIES:Youth Events
ATTACH;FMTTYPE=image/jpeg:https://hmi.org/wp-content/uploads/2023/08/Kiki-Lounge-Flyer-2024.jpg
END:VEVENT
BEGIN:VEVENT
DTSTART;TZID=America/New_York:20240925T180000
DTEND;TZID=America/New_York:20240925T193000
DTSTAMP:20260421T113532
CREATED:20240822T024904Z
LAST-MODIFIED:20240822T024908Z
UID:10011831-1727287200-1727292600@hmi.org
SUMMARY:HMI's Kiki Lounge - Wednesdays
DESCRIPTION:Kiki\, Vogue\, runway….. What’s your fancy? Come hang out with your friends and house members to practice your skills and get ready for your upcoming function. Every Monday and Wednesday! Email hmiyouth@hmi.org for more information.
URL:https://hmi.org/event/hmis-kiki-lounge-wednesdays-7/2024-09-25/
LOCATION:Hetrick-Martin Institute 3rd Floor\, 2 Astor Place 3rd Floor\, New York\, NY\, 10003\, United States
CATEGORIES:Youth Events
ATTACH;FMTTYPE=image/jpeg:https://hmi.org/wp-content/uploads/2023/08/Kiki-Lounge-Flyer-2024.jpg
END:VEVENT
END:VCALENDAR