BEGIN:VCALENDAR
VERSION:2.0
PRODID:-//Hetrick-Martin Institute - ECPv6.15.20//NONSGML v1.0//EN
CALSCALE:GREGORIAN
METHOD:PUBLISH
X-WR-CALNAME:Hetrick-Martin Institute
X-ORIGINAL-URL:https://hmi.org
X-WR-CALDESC:Events for Hetrick-Martin Institute
REFRESH-INTERVAL;VALUE=DURATION:PT1H
X-Robots-Tag:noindex
X-PUBLISHED-TTL:PT1H
BEGIN:VTIMEZONE
TZID:America/New_York
BEGIN:DAYLIGHT
TZOFFSETFROM:-0500
TZOFFSETTO:-0400
TZNAME:EDT
DTSTART:20240310T070000
END:DAYLIGHT
BEGIN:STANDARD
TZOFFSETFROM:-0400
TZOFFSETTO:-0500
TZNAME:EST
DTSTART:20241103T060000
END:STANDARD
BEGIN:DAYLIGHT
TZOFFSETFROM:-0500
TZOFFSETTO:-0400
TZNAME:EDT
DTSTART:20250309T070000
END:DAYLIGHT
BEGIN:STANDARD
TZOFFSETFROM:-0400
TZOFFSETTO:-0500
TZNAME:EST
DTSTART:20251102T060000
END:STANDARD
BEGIN:DAYLIGHT
TZOFFSETFROM:-0500
TZOFFSETTO:-0400
TZNAME:EDT
DTSTART:20260308T070000
END:DAYLIGHT
BEGIN:STANDARD
TZOFFSETFROM:-0400
TZOFFSETTO:-0500
TZNAME:EST
DTSTART:20261101T060000
END:STANDARD
END:VTIMEZONE
BEGIN:VEVENT
DTSTART;TZID=America/New_York:20251202T180000
DTEND;TZID=America/New_York:20251202T193000
DTSTAMP:20260422T025000
CREATED:20251019T040327Z
LAST-MODIFIED:20251019T040335Z
UID:10016830-1764698400-1764703800@hmi.org
SUMMARY:Drag Camp
DESCRIPTION:Learn the art of drag with our resident Drag Queen Crimson Gnecco also known as Crimson Kitty! Learn about makeup\, develop your persona\, learn about performance\, music and more! No experience necessary. Email Crimson at Cgnecco@hmi.org for more info.
URL:https://hmi.org/event/drag-camp/2025-12-02/
LOCATION:Hetrick-Martin Institute 3rd Floor\, 2 Astor Place 3rd Floor\, New York\, NY\, 10003\, United States
CATEGORIES:Youth Events
ATTACH;FMTTYPE=image/png:https://hmi.org/wp-content/uploads/2025/10/Drag-Camp-Makeup-Haus-IG.png
END:VEVENT
BEGIN:VEVENT
DTSTART;TZID=America/New_York:20251209T180000
DTEND;TZID=America/New_York:20251209T193000
DTSTAMP:20260422T025000
CREATED:20251019T040327Z
LAST-MODIFIED:20251019T040335Z
UID:10016831-1765303200-1765308600@hmi.org
SUMMARY:Drag Camp
DESCRIPTION:Learn the art of drag with our resident Drag Queen Crimson Gnecco also known as Crimson Kitty! Learn about makeup\, develop your persona\, learn about performance\, music and more! No experience necessary. Email Crimson at Cgnecco@hmi.org for more info.
URL:https://hmi.org/event/drag-camp/2025-12-09/
LOCATION:Hetrick-Martin Institute 3rd Floor\, 2 Astor Place 3rd Floor\, New York\, NY\, 10003\, United States
CATEGORIES:Youth Events
ATTACH;FMTTYPE=image/png:https://hmi.org/wp-content/uploads/2025/10/Drag-Camp-Makeup-Haus-IG.png
END:VEVENT
END:VCALENDAR