BEGIN:VCALENDAR
VERSION:2.0
PRODID:-//Hetrick-Martin Institute - ECPv6.15.20//NONSGML v1.0//EN
CALSCALE:GREGORIAN
METHOD:PUBLISH
X-ORIGINAL-URL:https://hmi.org
X-WR-CALDESC:Events for Hetrick-Martin Institute
REFRESH-INTERVAL;VALUE=DURATION:PT1H
X-Robots-Tag:noindex
X-PUBLISHED-TTL:PT1H
BEGIN:VTIMEZONE
TZID:America/New_York
BEGIN:DAYLIGHT
TZOFFSETFROM:-0500
TZOFFSETTO:-0400
TZNAME:EDT
DTSTART:20260308T070000
END:DAYLIGHT
BEGIN:STANDARD
TZOFFSETFROM:-0400
TZOFFSETTO:-0500
TZNAME:EST
DTSTART:20261101T060000
END:STANDARD
BEGIN:DAYLIGHT
TZOFFSETFROM:-0500
TZOFFSETTO:-0400
TZNAME:EDT
DTSTART:20270314T070000
END:DAYLIGHT
BEGIN:STANDARD
TZOFFSETFROM:-0400
TZOFFSETTO:-0500
TZNAME:EST
DTSTART:20271107T060000
END:STANDARD
BEGIN:DAYLIGHT
TZOFFSETFROM:-0500
TZOFFSETTO:-0400
TZNAME:EDT
DTSTART:20280312T070000
END:DAYLIGHT
BEGIN:STANDARD
TZOFFSETFROM:-0400
TZOFFSETTO:-0500
TZNAME:EST
DTSTART:20281105T060000
END:STANDARD
END:VTIMEZONE
BEGIN:VEVENT
DTSTART;TZID=America/New_York:20270614T180000
DTEND;TZID=America/New_York:20270614T193000
DTSTAMP:20260421T195509
CREATED:20240822T022244Z
LAST-MODIFIED:20240822T023556Z
UID:10011682-1812996000-1813001400@hmi.org
SUMMARY:HMI's Kiki Lounge - Mondays
DESCRIPTION:Kiki\, Vogue\, runway….. What’s your fancy? Come hang out with your friends and house members to practice your skills and get ready for your upcoming function.Every Monday and Wednesday! Email hmiyouth@hmi.org for more information.
URL:https://hmi.org/event/hmis-kiki-lounge-mondays-7/2027-06-14/
LOCATION:Hetrick-Martin Institute 3rd Floor\, 2 Astor Place 3rd Floor\, New York\, NY\, 10003\, United States
CATEGORIES:Youth Events
ATTACH;FMTTYPE=image/jpeg:https://hmi.org/wp-content/uploads/2023/08/Kiki-Lounge-Flyer-2024.jpg
END:VEVENT
BEGIN:VEVENT
DTSTART;TZID=America/New_York:20270615T160000
DTEND;TZID=America/New_York:20270615T170000
DTSTAMP:20260421T195509
CREATED:20260320T035901Z
LAST-MODIFIED:20260320T035905Z
UID:10017609-1813075200-1813078800@hmi.org
SUMMARY:Tabletop Gaymers
DESCRIPTION:Tabletop Gaymers: An open group where youth create a character and role play as them within a fun cafe setting! Email Bre at boreilly@hmi.org
URL:https://hmi.org/event/tabletop-gaymers-2/2027-06-15/
LOCATION:Hetrick-Martin Institute 3rd Floor\, 2 Astor Place 3rd Floor\, New York\, NY\, 10003\, United States
ATTACH;FMTTYPE=image/png:https://hmi.org/wp-content/uploads/2026/03/Tabletop-Gaymers-Wed.png
END:VEVENT
BEGIN:VEVENT
DTSTART;TZID=America/New_York:20270615T160000
DTEND;TZID=America/New_York:20270615T173000
DTSTAMP:20260421T195509
CREATED:20240203T025622Z
LAST-MODIFIED:20240203T025624Z
UID:10009611-1813075200-1813080600@hmi.org
SUMMARY:Get Psyched About Games
DESCRIPTION:Get Psyched: About Games!” is a safe space to discuss mental health and psychology through the medium of video games! We will play a game together and discuss themes relating to mental health/psychology that show up – meet in room 302!
URL:https://hmi.org/event/get-psyched-about-games-2/2027-06-15/
LOCATION:NY
CATEGORIES:Youth Events
ATTACH;FMTTYPE=image/png:https://hmi.org/wp-content/uploads/2023/09/Get-Psyched-About-Games_9.1.23-1.png
END:VEVENT
BEGIN:VEVENT
DTSTART;TZID=America/New_York:20270615T180000
DTEND;TZID=America/New_York:20270615T193000
DTSTAMP:20260421T195509
CREATED:20240822T025723Z
LAST-MODIFIED:20240822T025727Z
UID:10009350-1813082400-1813087800@hmi.org
SUMMARY:Trans Treats and Non-Binary Bytes
DESCRIPTION:Join us to talk about gender and how it intersects with all other parts of your identity!  Treat yourself to snacks and a a community space for TGNB youth!  Join HMI’s Tara and Salem every Tuesday from 6-7:30pm in room 301.  As a courtesy to other attendees please arrive before 6:30pm. Email Salem at svazcones@hmi.org
URL:https://hmi.org/event/trans-treats-and-non-binary-bytes-6/2027-06-15/
LOCATION:NY
CATEGORIES:Youth Events
ATTACH;FMTTYPE=image/png:https://hmi.org/wp-content/uploads/2023/07/Trans-Treats-Nonbinary-Bytes-2023.png
END:VEVENT
BEGIN:VEVENT
DTSTART;TZID=America/New_York:20270616T180000
DTEND;TZID=America/New_York:20270616T193000
DTSTAMP:20260421T195509
CREATED:20230930T000857Z
LAST-MODIFIED:20230930T001012Z
UID:10003059-1813168800-1813174200@hmi.org
SUMMARY:Open Art Studio Wednesday
DESCRIPTION:Join us for Open Art Studio in the Art Space!  Email Leesa at Ltabrizi@hmi.org for more info.
URL:https://hmi.org/event/open-art-studio-wednesday-4/2027-06-16/
LOCATION:Hetrick-Martin Institute 3rd Floor\, 2 Astor Place 3rd Floor\, New York\, NY\, 10003\, United States
CATEGORIES:Youth Events
ATTACH;FMTTYPE=image/png:https://hmi.org/wp-content/uploads/2023/09/Open-art-studio-fall-2023.png
END:VEVENT
BEGIN:VEVENT
DTSTART;TZID=America/New_York:20270616T180000
DTEND;TZID=America/New_York:20270616T193000
DTSTAMP:20260421T195509
CREATED:20240822T024904Z
LAST-MODIFIED:20240822T024908Z
UID:10011973-1813168800-1813174200@hmi.org
SUMMARY:HMI's Kiki Lounge - Wednesdays
DESCRIPTION:Kiki\, Vogue\, runway….. What’s your fancy? Come hang out with your friends and house members to practice your skills and get ready for your upcoming function. Every Monday and Wednesday! Email hmiyouth@hmi.org for more information.
URL:https://hmi.org/event/hmis-kiki-lounge-wednesdays-7/2027-06-16/
LOCATION:Hetrick-Martin Institute 3rd Floor\, 2 Astor Place 3rd Floor\, New York\, NY\, 10003\, United States
CATEGORIES:Youth Events
ATTACH;FMTTYPE=image/jpeg:https://hmi.org/wp-content/uploads/2023/08/Kiki-Lounge-Flyer-2024.jpg
END:VEVENT
BEGIN:VEVENT
DTSTART;TZID=America/New_York:20270617T160000
DTEND;TZID=America/New_York:20270617T170000
DTSTAMP:20260421T195509
CREATED:20260319T005933Z
LAST-MODIFIED:20260320T021124Z
UID:10013729-1813248000-1813251600@hmi.org
SUMMARY:Community Meeting
DESCRIPTION:HMIYouth join us for our monthly Community Meeting on the third Thursday of every month. Join us for snacks\, games and our MONTHLY RAFFLE for cool prizes all while learning about upcoming events and new opportunities at HMI!
URL:https://hmi.org/event/community-meeting-4/2027-06-17/
LOCATION:Hetrick-Martin Institute 3rd Floor\, 2 Astor Place 3rd Floor\, New York\, NY\, 10003\, United States
CATEGORIES:Youth Events
ATTACH;FMTTYPE=image/png:https://hmi.org/wp-content/uploads/2025/08/community-meeting-new.png
END:VEVENT
BEGIN:VEVENT
DTSTART;TZID=America/New_York:20270617T160000
DTEND;TZID=America/New_York:20270617T173000
DTSTAMP:20260421T195509
CREATED:20240203T030317Z
LAST-MODIFIED:20240203T030319Z
UID:10009832-1813248000-1813253400@hmi.org
SUMMARY:Get Psyched About Games
DESCRIPTION:Get Psyched: About Games!” is a safe space to discuss mental health and psychology through the medium of video games! We will play a game together and discuss themes relating to mental health/psychology that show up – meet in room 302!
URL:https://hmi.org/event/get-psyched-about-games-3/2027-06-17/
LOCATION:NY
CATEGORIES:Youth Events
ATTACH;FMTTYPE=image/png:https://hmi.org/wp-content/uploads/2023/09/Get-Psyched-About-Games_9.1.23-1.png
END:VEVENT
BEGIN:VEVENT
DTSTART;TZID=America/New_York:20270618T160000
DTEND;TZID=America/New_York:20270618T170000
DTSTAMP:20260421T195509
CREATED:20240202T235614Z
LAST-MODIFIED:20240202T235616Z
UID:10009089-1813334400-1813338000@hmi.org
SUMMARY:Housing Drop-In Group with Areyah
DESCRIPTION:Every friday get assistance with all your housing needs!  Room 346\, 4-5pm.  Email Areyah at asmith@hmi.org
URL:https://hmi.org/event/housing-drop-in-group-with-areyah-2/2027-06-18/
LOCATION:NY
CATEGORIES:Youth Events
ATTACH;FMTTYPE=image/png:https://hmi.org/wp-content/uploads/2023/07/Housing-drop-in-Group.png
END:VEVENT
BEGIN:VEVENT
DTSTART;TZID=America/New_York:20270621T180000
DTEND;TZID=America/New_York:20270621T193000
DTSTAMP:20260421T195509
CREATED:20240822T022244Z
LAST-MODIFIED:20240822T023556Z
UID:10011683-1813600800-1813606200@hmi.org
SUMMARY:HMI's Kiki Lounge - Mondays
DESCRIPTION:Kiki\, Vogue\, runway….. What’s your fancy? Come hang out with your friends and house members to practice your skills and get ready for your upcoming function.Every Monday and Wednesday! Email hmiyouth@hmi.org for more information.
URL:https://hmi.org/event/hmis-kiki-lounge-mondays-7/2027-06-21/
LOCATION:Hetrick-Martin Institute 3rd Floor\, 2 Astor Place 3rd Floor\, New York\, NY\, 10003\, United States
CATEGORIES:Youth Events
ATTACH;FMTTYPE=image/jpeg:https://hmi.org/wp-content/uploads/2023/08/Kiki-Lounge-Flyer-2024.jpg
END:VEVENT
BEGIN:VEVENT
DTSTART;TZID=America/New_York:20270622T160000
DTEND;TZID=America/New_York:20270622T170000
DTSTAMP:20260421T195509
CREATED:20260320T035901Z
LAST-MODIFIED:20260320T035905Z
UID:10017610-1813680000-1813683600@hmi.org
SUMMARY:Tabletop Gaymers
DESCRIPTION:Tabletop Gaymers: An open group where youth create a character and role play as them within a fun cafe setting! Email Bre at boreilly@hmi.org
URL:https://hmi.org/event/tabletop-gaymers-2/2027-06-22/
LOCATION:Hetrick-Martin Institute 3rd Floor\, 2 Astor Place 3rd Floor\, New York\, NY\, 10003\, United States
ATTACH;FMTTYPE=image/png:https://hmi.org/wp-content/uploads/2026/03/Tabletop-Gaymers-Wed.png
END:VEVENT
BEGIN:VEVENT
DTSTART;TZID=America/New_York:20270622T160000
DTEND;TZID=America/New_York:20270622T173000
DTSTAMP:20260421T195509
CREATED:20240203T025622Z
LAST-MODIFIED:20240203T025624Z
UID:10009612-1813680000-1813685400@hmi.org
SUMMARY:Get Psyched About Games
DESCRIPTION:Get Psyched: About Games!” is a safe space to discuss mental health and psychology through the medium of video games! We will play a game together and discuss themes relating to mental health/psychology that show up – meet in room 302!
URL:https://hmi.org/event/get-psyched-about-games-2/2027-06-22/
LOCATION:NY
CATEGORIES:Youth Events
ATTACH;FMTTYPE=image/png:https://hmi.org/wp-content/uploads/2023/09/Get-Psyched-About-Games_9.1.23-1.png
END:VEVENT
BEGIN:VEVENT
DTSTART;TZID=America/New_York:20270622T180000
DTEND;TZID=America/New_York:20270622T193000
DTSTAMP:20260421T195509
CREATED:20240822T025723Z
LAST-MODIFIED:20240822T025727Z
UID:10009351-1813687200-1813692600@hmi.org
SUMMARY:Trans Treats and Non-Binary Bytes
DESCRIPTION:Join us to talk about gender and how it intersects with all other parts of your identity!  Treat yourself to snacks and a a community space for TGNB youth!  Join HMI’s Tara and Salem every Tuesday from 6-7:30pm in room 301.  As a courtesy to other attendees please arrive before 6:30pm. Email Salem at svazcones@hmi.org
URL:https://hmi.org/event/trans-treats-and-non-binary-bytes-6/2027-06-22/
LOCATION:NY
CATEGORIES:Youth Events
ATTACH;FMTTYPE=image/png:https://hmi.org/wp-content/uploads/2023/07/Trans-Treats-Nonbinary-Bytes-2023.png
END:VEVENT
BEGIN:VEVENT
DTSTART;TZID=America/New_York:20270623T180000
DTEND;TZID=America/New_York:20270623T193000
DTSTAMP:20260421T195509
CREATED:20230930T000857Z
LAST-MODIFIED:20230930T001012Z
UID:10003060-1813773600-1813779000@hmi.org
SUMMARY:Open Art Studio Wednesday
DESCRIPTION:Join us for Open Art Studio in the Art Space!  Email Leesa at Ltabrizi@hmi.org for more info.
URL:https://hmi.org/event/open-art-studio-wednesday-4/2027-06-23/
LOCATION:Hetrick-Martin Institute 3rd Floor\, 2 Astor Place 3rd Floor\, New York\, NY\, 10003\, United States
CATEGORIES:Youth Events
ATTACH;FMTTYPE=image/png:https://hmi.org/wp-content/uploads/2023/09/Open-art-studio-fall-2023.png
END:VEVENT
BEGIN:VEVENT
DTSTART;TZID=America/New_York:20270623T180000
DTEND;TZID=America/New_York:20270623T193000
DTSTAMP:20260421T195509
CREATED:20240822T024904Z
LAST-MODIFIED:20240822T024908Z
UID:10011974-1813773600-1813779000@hmi.org
SUMMARY:HMI's Kiki Lounge - Wednesdays
DESCRIPTION:Kiki\, Vogue\, runway….. What’s your fancy? Come hang out with your friends and house members to practice your skills and get ready for your upcoming function. Every Monday and Wednesday! Email hmiyouth@hmi.org for more information.
URL:https://hmi.org/event/hmis-kiki-lounge-wednesdays-7/2027-06-23/
LOCATION:Hetrick-Martin Institute 3rd Floor\, 2 Astor Place 3rd Floor\, New York\, NY\, 10003\, United States
CATEGORIES:Youth Events
ATTACH;FMTTYPE=image/jpeg:https://hmi.org/wp-content/uploads/2023/08/Kiki-Lounge-Flyer-2024.jpg
END:VEVENT
BEGIN:VEVENT
DTSTART;TZID=America/New_York:20270624T160000
DTEND;TZID=America/New_York:20270624T173000
DTSTAMP:20260421T195509
CREATED:20240203T030317Z
LAST-MODIFIED:20240203T030319Z
UID:10009833-1813852800-1813858200@hmi.org
SUMMARY:Get Psyched About Games
DESCRIPTION:Get Psyched: About Games!” is a safe space to discuss mental health and psychology through the medium of video games! We will play a game together and discuss themes relating to mental health/psychology that show up – meet in room 302!
URL:https://hmi.org/event/get-psyched-about-games-3/2027-06-24/
LOCATION:NY
CATEGORIES:Youth Events
ATTACH;FMTTYPE=image/png:https://hmi.org/wp-content/uploads/2023/09/Get-Psyched-About-Games_9.1.23-1.png
END:VEVENT
BEGIN:VEVENT
DTSTART;TZID=America/New_York:20270625T160000
DTEND;TZID=America/New_York:20270625T170000
DTSTAMP:20260421T195509
CREATED:20240202T235614Z
LAST-MODIFIED:20240202T235616Z
UID:10009090-1813939200-1813942800@hmi.org
SUMMARY:Housing Drop-In Group with Areyah
DESCRIPTION:Every friday get assistance with all your housing needs!  Room 346\, 4-5pm.  Email Areyah at asmith@hmi.org
URL:https://hmi.org/event/housing-drop-in-group-with-areyah-2/2027-06-25/
LOCATION:NY
CATEGORIES:Youth Events
ATTACH;FMTTYPE=image/png:https://hmi.org/wp-content/uploads/2023/07/Housing-drop-in-Group.png
END:VEVENT
BEGIN:VEVENT
DTSTART;TZID=America/New_York:20270628T180000
DTEND;TZID=America/New_York:20270628T193000
DTSTAMP:20260421T195509
CREATED:20240822T022244Z
LAST-MODIFIED:20240822T023556Z
UID:10011684-1814205600-1814211000@hmi.org
SUMMARY:HMI's Kiki Lounge - Mondays
DESCRIPTION:Kiki\, Vogue\, runway….. What’s your fancy? Come hang out with your friends and house members to practice your skills and get ready for your upcoming function.Every Monday and Wednesday! Email hmiyouth@hmi.org for more information.
URL:https://hmi.org/event/hmis-kiki-lounge-mondays-7/2027-06-28/
LOCATION:Hetrick-Martin Institute 3rd Floor\, 2 Astor Place 3rd Floor\, New York\, NY\, 10003\, United States
CATEGORIES:Youth Events
ATTACH;FMTTYPE=image/jpeg:https://hmi.org/wp-content/uploads/2023/08/Kiki-Lounge-Flyer-2024.jpg
END:VEVENT
BEGIN:VEVENT
DTSTART;TZID=America/New_York:20270629T160000
DTEND;TZID=America/New_York:20270629T170000
DTSTAMP:20260421T195509
CREATED:20260320T035901Z
LAST-MODIFIED:20260320T035905Z
UID:10017611-1814284800-1814288400@hmi.org
SUMMARY:Tabletop Gaymers
DESCRIPTION:Tabletop Gaymers: An open group where youth create a character and role play as them within a fun cafe setting! Email Bre at boreilly@hmi.org
URL:https://hmi.org/event/tabletop-gaymers-2/2027-06-29/
LOCATION:Hetrick-Martin Institute 3rd Floor\, 2 Astor Place 3rd Floor\, New York\, NY\, 10003\, United States
ATTACH;FMTTYPE=image/png:https://hmi.org/wp-content/uploads/2026/03/Tabletop-Gaymers-Wed.png
END:VEVENT
BEGIN:VEVENT
DTSTART;TZID=America/New_York:20270629T160000
DTEND;TZID=America/New_York:20270629T173000
DTSTAMP:20260421T195509
CREATED:20240203T025622Z
LAST-MODIFIED:20240203T025624Z
UID:10009613-1814284800-1814290200@hmi.org
SUMMARY:Get Psyched About Games
DESCRIPTION:Get Psyched: About Games!” is a safe space to discuss mental health and psychology through the medium of video games! We will play a game together and discuss themes relating to mental health/psychology that show up – meet in room 302!
URL:https://hmi.org/event/get-psyched-about-games-2/2027-06-29/
LOCATION:NY
CATEGORIES:Youth Events
ATTACH;FMTTYPE=image/png:https://hmi.org/wp-content/uploads/2023/09/Get-Psyched-About-Games_9.1.23-1.png
END:VEVENT
BEGIN:VEVENT
DTSTART;TZID=America/New_York:20270629T180000
DTEND;TZID=America/New_York:20270629T193000
DTSTAMP:20260421T195509
CREATED:20240822T025723Z
LAST-MODIFIED:20240822T025727Z
UID:10009352-1814292000-1814297400@hmi.org
SUMMARY:Trans Treats and Non-Binary Bytes
DESCRIPTION:Join us to talk about gender and how it intersects with all other parts of your identity!  Treat yourself to snacks and a a community space for TGNB youth!  Join HMI’s Tara and Salem every Tuesday from 6-7:30pm in room 301.  As a courtesy to other attendees please arrive before 6:30pm. Email Salem at svazcones@hmi.org
URL:https://hmi.org/event/trans-treats-and-non-binary-bytes-6/2027-06-29/
LOCATION:NY
CATEGORIES:Youth Events
ATTACH;FMTTYPE=image/png:https://hmi.org/wp-content/uploads/2023/07/Trans-Treats-Nonbinary-Bytes-2023.png
END:VEVENT
BEGIN:VEVENT
DTSTART;TZID=America/New_York:20270630T180000
DTEND;TZID=America/New_York:20270630T193000
DTSTAMP:20260421T195509
CREATED:20230930T000857Z
LAST-MODIFIED:20230930T001012Z
UID:10003061-1814378400-1814383800@hmi.org
SUMMARY:Open Art Studio Wednesday
DESCRIPTION:Join us for Open Art Studio in the Art Space!  Email Leesa at Ltabrizi@hmi.org for more info.
URL:https://hmi.org/event/open-art-studio-wednesday-4/2027-06-30/
LOCATION:Hetrick-Martin Institute 3rd Floor\, 2 Astor Place 3rd Floor\, New York\, NY\, 10003\, United States
CATEGORIES:Youth Events
ATTACH;FMTTYPE=image/png:https://hmi.org/wp-content/uploads/2023/09/Open-art-studio-fall-2023.png
END:VEVENT
BEGIN:VEVENT
DTSTART;TZID=America/New_York:20270630T180000
DTEND;TZID=America/New_York:20270630T193000
DTSTAMP:20260421T195509
CREATED:20240822T024904Z
LAST-MODIFIED:20240822T024908Z
UID:10011975-1814378400-1814383800@hmi.org
SUMMARY:HMI's Kiki Lounge - Wednesdays
DESCRIPTION:Kiki\, Vogue\, runway….. What’s your fancy? Come hang out with your friends and house members to practice your skills and get ready for your upcoming function. Every Monday and Wednesday! Email hmiyouth@hmi.org for more information.
URL:https://hmi.org/event/hmis-kiki-lounge-wednesdays-7/2027-06-30/
LOCATION:Hetrick-Martin Institute 3rd Floor\, 2 Astor Place 3rd Floor\, New York\, NY\, 10003\, United States
CATEGORIES:Youth Events
ATTACH;FMTTYPE=image/jpeg:https://hmi.org/wp-content/uploads/2023/08/Kiki-Lounge-Flyer-2024.jpg
END:VEVENT
BEGIN:VEVENT
DTSTART;TZID=America/New_York:20270702T160000
DTEND;TZID=America/New_York:20270702T170000
DTSTAMP:20260421T195509
CREATED:20240202T235614Z
LAST-MODIFIED:20240202T235616Z
UID:10009091-1814544000-1814547600@hmi.org
SUMMARY:Housing Drop-In Group with Areyah
DESCRIPTION:Every friday get assistance with all your housing needs!  Room 346\, 4-5pm.  Email Areyah at asmith@hmi.org
URL:https://hmi.org/event/housing-drop-in-group-with-areyah-2/2027-07-02/
LOCATION:NY
CATEGORIES:Youth Events
ATTACH;FMTTYPE=image/png:https://hmi.org/wp-content/uploads/2023/07/Housing-drop-in-Group.png
END:VEVENT
BEGIN:VEVENT
DTSTART;TZID=America/New_York:20270705T180000
DTEND;TZID=America/New_York:20270705T193000
DTSTAMP:20260421T195509
CREATED:20240822T022244Z
LAST-MODIFIED:20240822T023556Z
UID:10011685-1814810400-1814815800@hmi.org
SUMMARY:HMI's Kiki Lounge - Mondays
DESCRIPTION:Kiki\, Vogue\, runway….. What’s your fancy? Come hang out with your friends and house members to practice your skills and get ready for your upcoming function.Every Monday and Wednesday! Email hmiyouth@hmi.org for more information.
URL:https://hmi.org/event/hmis-kiki-lounge-mondays-7/2027-07-05/
LOCATION:Hetrick-Martin Institute 3rd Floor\, 2 Astor Place 3rd Floor\, New York\, NY\, 10003\, United States
CATEGORIES:Youth Events
ATTACH;FMTTYPE=image/jpeg:https://hmi.org/wp-content/uploads/2023/08/Kiki-Lounge-Flyer-2024.jpg
END:VEVENT
BEGIN:VEVENT
DTSTART;TZID=America/New_York:20270706T160000
DTEND;TZID=America/New_York:20270706T170000
DTSTAMP:20260421T195509
CREATED:20260320T035901Z
LAST-MODIFIED:20260320T035905Z
UID:10017612-1814889600-1814893200@hmi.org
SUMMARY:Tabletop Gaymers
DESCRIPTION:Tabletop Gaymers: An open group where youth create a character and role play as them within a fun cafe setting! Email Bre at boreilly@hmi.org
URL:https://hmi.org/event/tabletop-gaymers-2/2027-07-06/
LOCATION:Hetrick-Martin Institute 3rd Floor\, 2 Astor Place 3rd Floor\, New York\, NY\, 10003\, United States
ATTACH;FMTTYPE=image/png:https://hmi.org/wp-content/uploads/2026/03/Tabletop-Gaymers-Wed.png
END:VEVENT
BEGIN:VEVENT
DTSTART;TZID=America/New_York:20270706T160000
DTEND;TZID=America/New_York:20270706T173000
DTSTAMP:20260421T195509
CREATED:20240203T025622Z
LAST-MODIFIED:20240203T025624Z
UID:10009614-1814889600-1814895000@hmi.org
SUMMARY:Get Psyched About Games
DESCRIPTION:Get Psyched: About Games!” is a safe space to discuss mental health and psychology through the medium of video games! We will play a game together and discuss themes relating to mental health/psychology that show up – meet in room 302!
URL:https://hmi.org/event/get-psyched-about-games-2/2027-07-06/
LOCATION:NY
CATEGORIES:Youth Events
ATTACH;FMTTYPE=image/png:https://hmi.org/wp-content/uploads/2023/09/Get-Psyched-About-Games_9.1.23-1.png
END:VEVENT
BEGIN:VEVENT
DTSTART;TZID=America/New_York:20270706T180000
DTEND;TZID=America/New_York:20270706T193000
DTSTAMP:20260421T195509
CREATED:20240822T025723Z
LAST-MODIFIED:20240822T025727Z
UID:10009353-1814896800-1814902200@hmi.org
SUMMARY:Trans Treats and Non-Binary Bytes
DESCRIPTION:Join us to talk about gender and how it intersects with all other parts of your identity!  Treat yourself to snacks and a a community space for TGNB youth!  Join HMI’s Tara and Salem every Tuesday from 6-7:30pm in room 301.  As a courtesy to other attendees please arrive before 6:30pm. Email Salem at svazcones@hmi.org
URL:https://hmi.org/event/trans-treats-and-non-binary-bytes-6/2027-07-06/
LOCATION:NY
CATEGORIES:Youth Events
ATTACH;FMTTYPE=image/png:https://hmi.org/wp-content/uploads/2023/07/Trans-Treats-Nonbinary-Bytes-2023.png
END:VEVENT
BEGIN:VEVENT
DTSTART;TZID=America/New_York:20270707T180000
DTEND;TZID=America/New_York:20270707T193000
DTSTAMP:20260421T195509
CREATED:20230930T000857Z
LAST-MODIFIED:20230930T001012Z
UID:10003062-1814983200-1814988600@hmi.org
SUMMARY:Open Art Studio Wednesday
DESCRIPTION:Join us for Open Art Studio in the Art Space!  Email Leesa at Ltabrizi@hmi.org for more info.
URL:https://hmi.org/event/open-art-studio-wednesday-4/2027-07-07/
LOCATION:Hetrick-Martin Institute 3rd Floor\, 2 Astor Place 3rd Floor\, New York\, NY\, 10003\, United States
CATEGORIES:Youth Events
ATTACH;FMTTYPE=image/png:https://hmi.org/wp-content/uploads/2023/09/Open-art-studio-fall-2023.png
END:VEVENT
BEGIN:VEVENT
DTSTART;TZID=America/New_York:20270707T180000
DTEND;TZID=America/New_York:20270707T193000
DTSTAMP:20260421T195509
CREATED:20240822T024904Z
LAST-MODIFIED:20240822T024908Z
UID:10011976-1814983200-1814988600@hmi.org
SUMMARY:HMI's Kiki Lounge - Wednesdays
DESCRIPTION:Kiki\, Vogue\, runway….. What’s your fancy? Come hang out with your friends and house members to practice your skills and get ready for your upcoming function. Every Monday and Wednesday! Email hmiyouth@hmi.org for more information.
URL:https://hmi.org/event/hmis-kiki-lounge-wednesdays-7/2027-07-07/
LOCATION:Hetrick-Martin Institute 3rd Floor\, 2 Astor Place 3rd Floor\, New York\, NY\, 10003\, United States
CATEGORIES:Youth Events
ATTACH;FMTTYPE=image/jpeg:https://hmi.org/wp-content/uploads/2023/08/Kiki-Lounge-Flyer-2024.jpg
END:VEVENT
END:VCALENDAR