BEGIN:VCALENDAR
VERSION:2.0
PRODID:-//Hetrick-Martin Institute - ECPv6.15.20//NONSGML v1.0//EN
CALSCALE:GREGORIAN
METHOD:PUBLISH
X-ORIGINAL-URL:https://hmi.org
X-WR-CALDESC:Events for Hetrick-Martin Institute
REFRESH-INTERVAL;VALUE=DURATION:PT1H
X-Robots-Tag:noindex
X-PUBLISHED-TTL:PT1H
BEGIN:VTIMEZONE
TZID:America/New_York
BEGIN:DAYLIGHT
TZOFFSETFROM:-0500
TZOFFSETTO:-0400
TZNAME:EDT
DTSTART:20240310T070000
END:DAYLIGHT
BEGIN:STANDARD
TZOFFSETFROM:-0400
TZOFFSETTO:-0500
TZNAME:EST
DTSTART:20241103T060000
END:STANDARD
BEGIN:DAYLIGHT
TZOFFSETFROM:-0500
TZOFFSETTO:-0400
TZNAME:EDT
DTSTART:20250309T070000
END:DAYLIGHT
BEGIN:STANDARD
TZOFFSETFROM:-0400
TZOFFSETTO:-0500
TZNAME:EST
DTSTART:20251102T060000
END:STANDARD
BEGIN:DAYLIGHT
TZOFFSETFROM:-0500
TZOFFSETTO:-0400
TZNAME:EDT
DTSTART:20260308T070000
END:DAYLIGHT
BEGIN:STANDARD
TZOFFSETFROM:-0400
TZOFFSETTO:-0500
TZNAME:EST
DTSTART:20261101T060000
END:STANDARD
BEGIN:DAYLIGHT
TZOFFSETFROM:-0500
TZOFFSETTO:-0400
TZNAME:EDT
DTSTART:20270314T070000
END:DAYLIGHT
BEGIN:STANDARD
TZOFFSETFROM:-0400
TZOFFSETTO:-0500
TZNAME:EST
DTSTART:20271107T060000
END:STANDARD
END:VTIMEZONE
BEGIN:VEVENT
DTSTART;TZID=America/New_York:20251223T000000
DTEND;TZID=America/New_York:20260101T235959
DTSTAMP:20260424T145338
CREATED:20250317T023337Z
LAST-MODIFIED:20250317T023339Z
UID:10015974-1766448000-1767311999@hmi.org
SUMMARY:HMI CLOSED
DESCRIPTION:
URL:https://hmi.org/event/hmi-closed-22/
LOCATION:NY
CATEGORIES:Youth Events
END:VEVENT
BEGIN:VEVENT
DTSTART;TZID=America/New_York:20260101T160000
DTEND;TZID=America/New_York:20260101T170000
DTSTAMP:20260424T145338
CREATED:20250809T012859Z
LAST-MODIFIED:20250809T012903Z
UID:10016179-1767283200-1767286800@hmi.org
SUMMARY:Your House
DESCRIPTION:Your House (Sip hot tea\, Sink into cozy vibes\, chat quietly\, or chill with a movie or series. No pressure —just a warm\, welcoming place to relax and be yourself.)\, which will occur every Thursday from 4-5 PM. Email Spencer at solson@hmi.org for more info.
URL:https://hmi.org/event/your-house/2026-01-01/
LOCATION:Hetrick-Martin Institute 3rd Floor\, 2 Astor Place 3rd Floor\, New York\, NY\, 10003\, United States
CATEGORIES:Youth Events
ATTACH;FMTTYPE=image/jpeg:https://hmi.org/wp-content/uploads/2025/08/Your-House-2025.jpg
END:VEVENT
BEGIN:VEVENT
DTSTART;TZID=America/New_York:20260101T180000
DTEND;TZID=America/New_York:20260101T193000
DTSTAMP:20260424T145338
CREATED:20250809T004459Z
LAST-MODIFIED:20250809T004502Z
UID:10016155-1767290400-1767295800@hmi.org
SUMMARY:What's the T–Blocker
DESCRIPTION:What’s the T-Blocker: A group for trans femmes/trans women to gather and talk authentically about their experiences. Email Bre or Mykey for more info: boreilly@hmi.org & madme@hmi.org.
URL:https://hmi.org/event/whats-the-t-blocker/2026-01-01/
LOCATION:Hetrick-Martin Institute 3rd Floor\, 2 Astor Place 3rd Floor\, New York\, NY\, 10003\, United States
CATEGORIES:Youth Events
ATTACH;FMTTYPE=image/png:https://hmi.org/wp-content/uploads/2025/08/What-Th-3-1-1.png
END:VEVENT
END:VCALENDAR