BEGIN:VCALENDAR
VERSION:2.0
PRODID:-//Hetrick-Martin Institute - ECPv6.15.20//NONSGML v1.0//EN
CALSCALE:GREGORIAN
METHOD:PUBLISH
X-WR-CALNAME:Hetrick-Martin Institute
X-ORIGINAL-URL:https://hmi.org
X-WR-CALDESC:Events for Hetrick-Martin Institute
REFRESH-INTERVAL;VALUE=DURATION:PT1H
X-Robots-Tag:noindex
X-PUBLISHED-TTL:PT1H
BEGIN:VTIMEZONE
TZID:America/New_York
BEGIN:DAYLIGHT
TZOFFSETFROM:-0500
TZOFFSETTO:-0400
TZNAME:EDT
DTSTART:20240310T070000
END:DAYLIGHT
BEGIN:STANDARD
TZOFFSETFROM:-0400
TZOFFSETTO:-0500
TZNAME:EST
DTSTART:20241103T060000
END:STANDARD
BEGIN:DAYLIGHT
TZOFFSETFROM:-0500
TZOFFSETTO:-0400
TZNAME:EDT
DTSTART:20250309T070000
END:DAYLIGHT
BEGIN:STANDARD
TZOFFSETFROM:-0400
TZOFFSETTO:-0500
TZNAME:EST
DTSTART:20251102T060000
END:STANDARD
BEGIN:DAYLIGHT
TZOFFSETFROM:-0500
TZOFFSETTO:-0400
TZNAME:EDT
DTSTART:20260308T070000
END:DAYLIGHT
BEGIN:STANDARD
TZOFFSETFROM:-0400
TZOFFSETTO:-0500
TZNAME:EST
DTSTART:20261101T060000
END:STANDARD
END:VTIMEZONE
BEGIN:VEVENT
DTSTART;TZID=America/New_York:20250425T153000
DTEND;TZID=America/New_York:20250425T200000
DTSTAMP:20260421T163628
CREATED:20250417T202352Z
LAST-MODIFIED:20250417T202354Z
UID:10015983-1745595000-1745611200@hmi.org
SUMMARY:VVF: A Night at the Mecca Bratz Edition
DESCRIPTION:Friday: A Night At The Mecca Kiki BallBRATZ EDITON ⭐️💕💋📺: We will be live on IG: HMIYouthDoors open: 3:30 final entry 6:30; Dinner at 5pm.Hosted: Mecca MeccaCommentator: NYC Princess Selena DiorDJ: Motha Breastplate Golden Mulan \n\n\n\nCategories:🏆OTA FACE: One thing about a bratz and two thing for sure. A bratz makeup statement is what stands out. Bring it in an over eye look. Don’t forget your lipgloss 💋 \n\n\n\n🏆OTA RUNWAY: You know bratz are known for their boots. Bring your best boots/heel on your best day. Pump down this runway\, and show us how a brat gets it down. ⭐️ \n\n\n\n🏆OTA STREETWEAR : A bratz motto is Passion for Fashion! Inspired by y2k & 2000 looks\, tonight bring it in your best bratz look or inspired y2k look from head to toe! don’t forget your brattitude 💋                                \n\n\n\n🏆OTA REALNESS: We know bratz girls are more highlighted. But let the bratz boys takeover. Boys in any shade of pink y2k look\, and the girls in baby blue y2k look. Who gonna make it on top Bratz boys or will the Bratz girls remain superior !MF VS. FF 🤭 \n🏆OTA PERFORMANCE: Most of bratz travel in cliques. However\, TONIGHT \, it’s a girl fight. Bring it in one the original bratz inspired looks ( Chloe\, Yasmin\, jade\, Sasha\, and Megan) and show us which brat has it all. 🫦                                                      \nNot a member email hmiyouth@hmi.org \n\n\n\n \n\n\n\n  \n 
URL:https://hmi.org/event/vvf-a-night-at-the-mecca-bratz-edition/
LOCATION:NY
CATEGORIES:Youth Events
ATTACH;FMTTYPE=image/png:https://hmi.org/wp-content/uploads/2025/04/VVF-Mecca.png
END:VEVENT
BEGIN:VEVENT
DTSTART;TZID=America/New_York:20250425T160000
DTEND;TZID=America/New_York:20250425T170000
DTSTAMP:20260421T163628
CREATED:20240202T235614Z
LAST-MODIFIED:20240202T235616Z
UID:10008977-1745596800-1745600400@hmi.org
SUMMARY:Housing Drop-In Group with Areyah
DESCRIPTION:Every friday get assistance with all your housing needs!  Room 346\, 4-5pm.  Email Areyah at asmith@hmi.org
URL:https://hmi.org/event/housing-drop-in-group-with-areyah-2/2025-04-25/
LOCATION:NY
CATEGORIES:Youth Events
ATTACH;FMTTYPE=image/png:https://hmi.org/wp-content/uploads/2023/07/Housing-drop-in-Group.png
END:VEVENT
BEGIN:VEVENT
DTSTART;TZID=America/New_York:20250425T180000
DTEND;TZID=America/New_York:20250425T193000
DTSTAMP:20260421T163628
CREATED:20250206T233358Z
LAST-MODIFIED:20250206T233403Z
UID:10015713-1745604000-1745609400@hmi.org
SUMMARY:Play with Ourselves
DESCRIPTION:This therapeutic group is designed to explore the intersection of public health issues (mental health\, sexuality\, substance use\, LGBTQ+ health\, trauma\, etc.) through powerful storytelling in musical theatre and plays.  Members will get the chance to engage with the material in small groups each week before contributing to an end-of-group showcase. Limited live play and musical opportunities will also be available to those who regularly attend the group. Email Spencer at Solson@hmi.org or Camille at Cgaji@hmi.org for more information.
URL:https://hmi.org/event/play-with-ourselves/2025-04-25/
LOCATION:NY
CATEGORIES:Youth Events
ATTACH;FMTTYPE=image/png:https://hmi.org/wp-content/uploads/2025/02/1.png
END:VEVENT
END:VCALENDAR