BEGIN:VCALENDAR
VERSION:2.0
PRODID:-//Hetrick-Martin Institute - ECPv6.15.20//NONSGML v1.0//EN
CALSCALE:GREGORIAN
METHOD:PUBLISH
X-ORIGINAL-URL:https://hmi.org
X-WR-CALDESC:Events for Hetrick-Martin Institute
REFRESH-INTERVAL;VALUE=DURATION:PT1H
X-Robots-Tag:noindex
X-PUBLISHED-TTL:PT1H
BEGIN:VTIMEZONE
TZID:America/New_York
BEGIN:DAYLIGHT
TZOFFSETFROM:-0500
TZOFFSETTO:-0400
TZNAME:EDT
DTSTART:20240310T070000
END:DAYLIGHT
BEGIN:STANDARD
TZOFFSETFROM:-0400
TZOFFSETTO:-0500
TZNAME:EST
DTSTART:20241103T060000
END:STANDARD
BEGIN:DAYLIGHT
TZOFFSETFROM:-0500
TZOFFSETTO:-0400
TZNAME:EDT
DTSTART:20250309T070000
END:DAYLIGHT
BEGIN:STANDARD
TZOFFSETFROM:-0400
TZOFFSETTO:-0500
TZNAME:EST
DTSTART:20251102T060000
END:STANDARD
BEGIN:DAYLIGHT
TZOFFSETFROM:-0500
TZOFFSETTO:-0400
TZNAME:EDT
DTSTART:20260308T070000
END:DAYLIGHT
BEGIN:STANDARD
TZOFFSETFROM:-0400
TZOFFSETTO:-0500
TZNAME:EST
DTSTART:20261101T060000
END:STANDARD
END:VTIMEZONE
BEGIN:VEVENT
DTSTART;TZID=America/New_York:20250131T153000
DTEND;TZID=America/New_York:20250131T193000
DTSTAMP:20260421T150329
CREATED:20250125T175419Z
LAST-MODIFIED:20250125T175423Z
UID:10015701-1738337400-1738351800@hmi.org
SUMMARY:Vogue Fem Friday with Tamika 007
DESCRIPTION:“We Love the 90s/00s” with Tamika 007.  All looks must be inspired by the late 90s and early 2000s. Categories are not broken up are all OTA (Open to All). Doors open 3:30. No entry after 6:45pm. Email hmiyouth@hmi.org for more information. \n\n\n\n\nRealness: Inspired by the hood aesthetic\, bring an all-red look featuring a bandana in any style or color.\nRunway: Denim\, denim\, denim! Your look must incorporate jeans (whether it’s an all-jean ensemble or a classic white tee with jeans). Either option works\, but denim is a must.\nStreetwear: With a late 90s/early 2000s aesthetic\, be creative and think outside the box with a look having different accessories such as bracelets\, chains\, and gems to elevate your style.\nFace: It’s date night! Present an all-black look with a rose to set the mood.\nCommentator vs. Commentator: We love cartoons! Bring in a late ’90s to early 2000s cartoon-themed shirt or outfit. Incorporate the word “cartoon.” in your chant for your 10s.\nPerformance: Think of the clubhouse vibes of NYC Ballroom from the late ’90s and early 2000s. Your look should fully embrace this era across all categories. Do your research and be creative. \n\n\n\n\n \n 
URL:https://hmi.org/event/vogue-fem-friday-with-tamika-007/
LOCATION:NY
CATEGORIES:Youth Events
ATTACH;FMTTYPE=image/png:https://hmi.org/wp-content/uploads/2025/01/Tamika-007-VFF-Flyer-Updated-1-scaled.png
END:VEVENT
BEGIN:VEVENT
DTSTART;TZID=America/New_York:20250131T160000
DTEND;TZID=America/New_York:20250131T170000
DTSTAMP:20260421T150329
CREATED:20240202T235614Z
LAST-MODIFIED:20240202T235616Z
UID:10008965-1738339200-1738342800@hmi.org
SUMMARY:Housing Drop-In Group with Areyah
DESCRIPTION:Every friday get assistance with all your housing needs!  Room 346\, 4-5pm.  Email Areyah at asmith@hmi.org
URL:https://hmi.org/event/housing-drop-in-group-with-areyah-2/2025-01-31/
LOCATION:NY
CATEGORIES:Youth Events
ATTACH;FMTTYPE=image/png:https://hmi.org/wp-content/uploads/2023/07/Housing-drop-in-Group.png
END:VEVENT
END:VCALENDAR