BEGIN:VCALENDAR
VERSION:2.0
PRODID:-//Hetrick-Martin Institute - ECPv6.15.20//NONSGML v1.0//EN
CALSCALE:GREGORIAN
METHOD:PUBLISH
X-ORIGINAL-URL:https://hmi.org
X-WR-CALDESC:Events for Hetrick-Martin Institute
REFRESH-INTERVAL;VALUE=DURATION:PT1H
X-Robots-Tag:noindex
X-PUBLISHED-TTL:PT1H
BEGIN:VTIMEZONE
TZID:America/New_York
BEGIN:DAYLIGHT
TZOFFSETFROM:-0500
TZOFFSETTO:-0400
TZNAME:EDT
DTSTART:20220313T070000
END:DAYLIGHT
BEGIN:STANDARD
TZOFFSETFROM:-0400
TZOFFSETTO:-0500
TZNAME:EST
DTSTART:20221106T060000
END:STANDARD
BEGIN:DAYLIGHT
TZOFFSETFROM:-0500
TZOFFSETTO:-0400
TZNAME:EDT
DTSTART:20230312T070000
END:DAYLIGHT
BEGIN:STANDARD
TZOFFSETFROM:-0400
TZOFFSETTO:-0500
TZNAME:EST
DTSTART:20231105T060000
END:STANDARD
BEGIN:DAYLIGHT
TZOFFSETFROM:-0500
TZOFFSETTO:-0400
TZNAME:EDT
DTSTART:20240310T070000
END:DAYLIGHT
BEGIN:STANDARD
TZOFFSETFROM:-0400
TZOFFSETTO:-0500
TZNAME:EST
DTSTART:20241103T060000
END:STANDARD
END:VTIMEZONE
BEGIN:VTIMEZONE
TZID:America/New_York
BEGIN:DAYLIGHT
TZOFFSETFROM:-0500
TZOFFSETTO:-0400
TZNAME:EDT
DTSTART:20220313T070000
END:DAYLIGHT
BEGIN:STANDARD
TZOFFSETFROM:-0400
TZOFFSETTO:-0500
TZNAME:EST
DTSTART:20221106T060000
END:STANDARD
BEGIN:DAYLIGHT
TZOFFSETFROM:-0500
TZOFFSETTO:-0400
TZNAME:EDT
DTSTART:20230312T070000
END:DAYLIGHT
BEGIN:STANDARD
TZOFFSETFROM:-0400
TZOFFSETTO:-0500
TZNAME:EST
DTSTART:20231105T060000
END:STANDARD
BEGIN:DAYLIGHT
TZOFFSETFROM:-0500
TZOFFSETTO:-0400
TZNAME:EDT
DTSTART:20240310T070000
END:DAYLIGHT
BEGIN:STANDARD
TZOFFSETFROM:-0400
TZOFFSETTO:-0500
TZNAME:EST
DTSTART:20241103T060000
END:STANDARD
END:VTIMEZONE
BEGIN:VEVENT
DTSTART;TZID=America/New_York:20230811T160000
DTEND;TZID=America/New_York:20230811T170000
DTSTAMP:20260421T195642
CREATED:20230523T025903Z
LAST-MODIFIED:20230901T155218Z
UID:10002437-1691769600-1691773200@hmi.org
SUMMARY:Housing Drop-In Group with Areyah
DESCRIPTION:Drop-In to Room 346 at HMI every Friday from 4-5pm to get assistance with your housing needs. Email Areyah for more information asmith@hmi.org
URL:https://hmi.org/event/housing-drop-in-group-with-areyah/2023-08-11/
LOCATION:Hetrick-Martin Institute 3rd Floor\, 2 Astor Place 3rd Floor\, New York\, NY\, 10003\, United States
CATEGORIES:Youth Events
ATTACH;FMTTYPE=image/png:https://hmi.org/wp-content/uploads/2023/05/Picsart_23-05-18_01-25-57-234.png
END:VEVENT
BEGIN:VEVENT
DTSTART;TZID=America/New_York:20230811T160000
DTEND;TZID=America/New_York:20230811T170000
DTSTAMP:20260421T195642
CREATED:20230802T205622Z
LAST-MODIFIED:20230802T205624Z
UID:10003289-1691769600-1691773200@hmi.org
SUMMARY:Esports with Summer
DESCRIPTION:Esports with HMIStaff Summer!  Through the month of August\, come and chill Mondays and Wednesdays 4-5pm\, through the virtual world in a group setting.  Please email Alayne at alaynerosales@hmi.org for more details.
URL:https://hmi.org/event/esports-with-summer/2023-08-11/
LOCATION:Hetrick-Martin Institute 3rd Floor\, 2 Astor Place 3rd Floor\, New York\, NY\, 10003\, United States
CATEGORIES:Youth Events
ATTACH;FMTTYPE=image/png:https://hmi.org/wp-content/uploads/2023/08/original-71BC400C-805A-4AFF-83FA-8FB1A9E8C7E9.png
END:VEVENT
BEGIN:VEVENT
DTSTART;TZID=America/New_York:20230811T160000
DTEND;TZID=America/New_York:20230811T193000
DTSTAMP:20260421T195642
CREATED:20230208T102308Z
LAST-MODIFIED:20230208T102308Z
UID:10001657-1691769600-1691782200@hmi.org
SUMMARY:Job Shop
DESCRIPTION:Get help with all your Job Searching needs!  Resumes\, interviewing skills\, coverletters and more! 4-7:30pm every Friday.  Email Rin at relwell@hmi.org for more info. 
URL:https://hmi.org/event/job-shop/2023-08-11/
LOCATION:Hetrick-Martin Institute 3rd Floor\, 2 Astor Place 3rd Floor\, New York\, NY\, 10003\, United States
CATEGORIES:Youth Events
END:VEVENT
BEGIN:VEVENT
DTSTART;TZID=America/New_York:20230811T180000
DTEND;TZID=America/New_York:20230811T193000
DTSTAMP:20260421T195642
CREATED:20230125T222812Z
LAST-MODIFIED:20230307T045731Z
UID:10002291-1691776800-1691782200@hmi.org
SUMMARY:Fun Fridays
DESCRIPTION:EVERY FRIDAY\, from 6-7pm\, come play games\, watch movies and relax with friends! Email Camille at cgaji@hmi.org
URL:https://hmi.org/event/fun-fridays-2/2023-08-11/
LOCATION:Hetrick-Martin Institute 3rd Floor\, 2 Astor Place 3rd Floor\, New York\, NY\, 10003\, United States
CATEGORIES:Youth Events
END:VEVENT
END:VCALENDAR