BEGIN:VCALENDAR
VERSION:2.0
PRODID:-//Hetrick-Martin Institute - ECPv6.15.20//NONSGML v1.0//EN
CALSCALE:GREGORIAN
METHOD:PUBLISH
X-WR-CALNAME:Hetrick-Martin Institute
X-ORIGINAL-URL:https://hmi.org
X-WR-CALDESC:Events for Hetrick-Martin Institute
REFRESH-INTERVAL;VALUE=DURATION:PT1H
X-Robots-Tag:noindex
X-PUBLISHED-TTL:PT1H
BEGIN:VTIMEZONE
TZID:America/New_York
BEGIN:DAYLIGHT
TZOFFSETFROM:-0500
TZOFFSETTO:-0400
TZNAME:EDT
DTSTART:20220313T070000
END:DAYLIGHT
BEGIN:STANDARD
TZOFFSETFROM:-0400
TZOFFSETTO:-0500
TZNAME:EST
DTSTART:20221106T060000
END:STANDARD
BEGIN:DAYLIGHT
TZOFFSETFROM:-0500
TZOFFSETTO:-0400
TZNAME:EDT
DTSTART:20230312T070000
END:DAYLIGHT
BEGIN:STANDARD
TZOFFSETFROM:-0400
TZOFFSETTO:-0500
TZNAME:EST
DTSTART:20231105T060000
END:STANDARD
BEGIN:DAYLIGHT
TZOFFSETFROM:-0500
TZOFFSETTO:-0400
TZNAME:EDT
DTSTART:20240310T070000
END:DAYLIGHT
BEGIN:STANDARD
TZOFFSETFROM:-0400
TZOFFSETTO:-0500
TZNAME:EST
DTSTART:20241103T060000
END:STANDARD
END:VTIMEZONE
BEGIN:VTIMEZONE
TZID:America/New_York
BEGIN:DAYLIGHT
TZOFFSETFROM:-0500
TZOFFSETTO:-0400
TZNAME:EDT
DTSTART:20220313T070000
END:DAYLIGHT
BEGIN:STANDARD
TZOFFSETFROM:-0400
TZOFFSETTO:-0500
TZNAME:EST
DTSTART:20221106T060000
END:STANDARD
BEGIN:DAYLIGHT
TZOFFSETFROM:-0500
TZOFFSETTO:-0400
TZNAME:EDT
DTSTART:20230312T070000
END:DAYLIGHT
BEGIN:STANDARD
TZOFFSETFROM:-0400
TZOFFSETTO:-0500
TZNAME:EST
DTSTART:20231105T060000
END:STANDARD
BEGIN:DAYLIGHT
TZOFFSETFROM:-0500
TZOFFSETTO:-0400
TZNAME:EDT
DTSTART:20240310T070000
END:DAYLIGHT
BEGIN:STANDARD
TZOFFSETFROM:-0400
TZOFFSETTO:-0500
TZNAME:EST
DTSTART:20241103T060000
END:STANDARD
END:VTIMEZONE
BEGIN:VEVENT
DTSTART;TZID=America/New_York:20230807T160000
DTEND;TZID=America/New_York:20230807T170000
DTSTAMP:20260421T133034
CREATED:20230802T205622Z
LAST-MODIFIED:20230802T205624Z
UID:10003288-1691424000-1691427600@hmi.org
SUMMARY:Esports with Summer
DESCRIPTION:Esports with HMIStaff Summer!  Through the month of August\, come and chill Mondays and Wednesdays 4-5pm\, through the virtual world in a group setting.  Please email Alayne at alaynerosales@hmi.org for more details.
URL:https://hmi.org/event/esports-with-summer/2023-08-07/
LOCATION:Hetrick-Martin Institute 3rd Floor\, 2 Astor Place 3rd Floor\, New York\, NY\, 10003\, United States
CATEGORIES:Youth Events
ATTACH;FMTTYPE=image/png:https://hmi.org/wp-content/uploads/2023/08/original-71BC400C-805A-4AFF-83FA-8FB1A9E8C7E9.png
END:VEVENT
BEGIN:VEVENT
DTSTART;TZID=America/New_York:20230807T170000
DTEND;TZID=America/New_York:20230807T193000
DTSTAMP:20260421T133034
CREATED:20230804T183245Z
LAST-MODIFIED:20230804T183247Z
UID:10003297-1691427600-1691436600@hmi.org
SUMMARY:HMI's Kiki Lounge - Mondays
DESCRIPTION:Kiki\, Vogue\, runway….. What’s your fancy? Come hang out with your friends and house members to practice your skills and get ready for the upcoming function. Every Monday and Wednesday! Email Jonovia at JChase@hmi.org for more information.
URL:https://hmi.org/event/hmis-kiki-lounge-mondays/2023-08-07/
LOCATION:Hetrick-Martin Institute 3rd Floor\, 2 Astor Place 3rd Floor\, New York\, NY\, 10003\, United States
CATEGORIES:Youth Events
ATTACH;FMTTYPE=image/jpeg:https://hmi.org/wp-content/uploads/2023/04/KIKI-LOUNGE-June-2023.jpg
END:VEVENT
BEGIN:VEVENT
DTSTART;TZID=America/New_York:20230807T180000
DTEND;TZID=America/New_York:20230807T193000
DTSTAMP:20260421T133034
CREATED:20220906T191823Z
LAST-MODIFIED:20220906T191827Z
UID:10001208-1691431200-1691436600@hmi.org
SUMMARY:Krafternoon
DESCRIPTION:Krafternoon is a group lead by Crimson and Abbie on Monday nights. We work on creative and collaborative crafting projects such as making beaded necklaces and bracelets\, mixing body glitter\, decorating fans and hand embroidery. Join us (in the Art Space) for snacks\, gossip and crafts!
URL:https://hmi.org/event/krafternoon/2023-08-07/
LOCATION:Hetrick-Martin Institute 3rd Floor\, 2 Astor Place 3rd Floor\, New York\, NY\, 10003\, United States
CATEGORIES:Youth Events
ATTACH;FMTTYPE=image/jpeg:https://hmi.org/wp-content/uploads/2022/08/Krafternoon-summer-2022.jpg
END:VEVENT
END:VCALENDAR