BEGIN:VCALENDAR
VERSION:2.0
PRODID:-//Hetrick-Martin Institute - ECPv6.15.20//NONSGML v1.0//EN
CALSCALE:GREGORIAN
METHOD:PUBLISH
X-ORIGINAL-URL:https://hmi.org
X-WR-CALDESC:Events for Hetrick-Martin Institute
REFRESH-INTERVAL;VALUE=DURATION:PT1H
X-Robots-Tag:noindex
X-PUBLISHED-TTL:PT1H
BEGIN:VTIMEZONE
TZID:America/New_York
BEGIN:DAYLIGHT
TZOFFSETFROM:-0500
TZOFFSETTO:-0400
TZNAME:EDT
DTSTART:20220313T070000
END:DAYLIGHT
BEGIN:STANDARD
TZOFFSETFROM:-0400
TZOFFSETTO:-0500
TZNAME:EST
DTSTART:20221106T060000
END:STANDARD
BEGIN:DAYLIGHT
TZOFFSETFROM:-0500
TZOFFSETTO:-0400
TZNAME:EDT
DTSTART:20230312T070000
END:DAYLIGHT
BEGIN:STANDARD
TZOFFSETFROM:-0400
TZOFFSETTO:-0500
TZNAME:EST
DTSTART:20231105T060000
END:STANDARD
BEGIN:DAYLIGHT
TZOFFSETFROM:-0500
TZOFFSETTO:-0400
TZNAME:EDT
DTSTART:20240310T070000
END:DAYLIGHT
BEGIN:STANDARD
TZOFFSETFROM:-0400
TZOFFSETTO:-0500
TZNAME:EST
DTSTART:20241103T060000
END:STANDARD
END:VTIMEZONE
BEGIN:VEVENT
DTSTART;TZID=America/New_York:20230803T000000
DTEND;TZID=America/New_York:20230803T235959
DTSTAMP:20260421T133124
CREATED:20220929T211550Z
LAST-MODIFIED:20220929T211621Z
UID:10001524-1691020800-1691107199@hmi.org
SUMMARY:HMI CLOSED
DESCRIPTION:HMI is closed\, we apologize for the inconvenience.  Regular programming will resume tomorrow.
URL:https://hmi.org/event/hmi-closed/2023-08-03/
LOCATION:Hetrick-Martin Institute 3rd Floor\, 2 Astor Place 3rd Floor\, New York\, NY\, 10003\, United States
CATEGORIES:Corporate,Youth Events
ATTACH;FMTTYPE=image/png:https://hmi.org/wp-content/uploads/2022/09/Closed-Sign_png.png
END:VEVENT
BEGIN:VEVENT
DTSTART;TZID=America/New_York:20230803T160000
DTEND;TZID=America/New_York:20230803T180000
DTSTAMP:20260421T133124
CREATED:20230705T001934Z
LAST-MODIFIED:20230705T010240Z
UID:10002849-1691078400-1691085600@hmi.org
SUMMARY:Open Art Studio
DESCRIPTION:Open Art Studio Thursdays at 4-6pm. \nHMI’s Open Art Studio offers a variety of materials for your free creative expression\, including (but not limited to) watercolor and acrylic paints\, oil and chalk pastels\, pencils\, pen and ink\, collage materials\, fiber arts\, printmaking materials\, sculpture materials (plaster\, clay\, model magic\, found objects)\, paper crafts\, glitter\, and more. Using materials to express yourself through art can reduce stress\, increase self-awareness\, foster growth of hands-on skills\, improve communication abilities\, and boost self-esteem too! \nEmail Ltabrizi@hmi.org for more info.
URL:https://hmi.org/event/open-art-studio-2-2/2023-08-03/
LOCATION:Hetrick-Martin Institute 3rd Floor\, 2 Astor Place 3rd Floor\, New York\, NY\, 10003\, United States
CATEGORIES:Youth Events
END:VEVENT
END:VCALENDAR