BEGIN:VCALENDAR
VERSION:2.0
PRODID:-//Hetrick-Martin Institute - ECPv6.15.20//NONSGML v1.0//EN
CALSCALE:GREGORIAN
METHOD:PUBLISH
X-WR-CALNAME:Hetrick-Martin Institute
X-ORIGINAL-URL:https://hmi.org
X-WR-CALDESC:Events for Hetrick-Martin Institute
REFRESH-INTERVAL;VALUE=DURATION:PT1H
X-Robots-Tag:noindex
X-PUBLISHED-TTL:PT1H
BEGIN:VTIMEZONE
TZID:America/New_York
BEGIN:DAYLIGHT
TZOFFSETFROM:-0500
TZOFFSETTO:-0400
TZNAME:EDT
DTSTART:20220313T070000
END:DAYLIGHT
BEGIN:STANDARD
TZOFFSETFROM:-0400
TZOFFSETTO:-0500
TZNAME:EST
DTSTART:20221106T060000
END:STANDARD
BEGIN:DAYLIGHT
TZOFFSETFROM:-0500
TZOFFSETTO:-0400
TZNAME:EDT
DTSTART:20230312T070000
END:DAYLIGHT
BEGIN:STANDARD
TZOFFSETFROM:-0400
TZOFFSETTO:-0500
TZNAME:EST
DTSTART:20231105T060000
END:STANDARD
BEGIN:DAYLIGHT
TZOFFSETFROM:-0500
TZOFFSETTO:-0400
TZNAME:EDT
DTSTART:20240310T070000
END:DAYLIGHT
BEGIN:STANDARD
TZOFFSETFROM:-0400
TZOFFSETTO:-0500
TZNAME:EST
DTSTART:20241103T060000
END:STANDARD
END:VTIMEZONE
BEGIN:VEVENT
DTSTART;TZID=America/New_York:20230713T160000
DTEND;TZID=America/New_York:20230713T170000
DTSTAMP:20260421T145848
CREATED:20230208T123925Z
LAST-MODIFIED:20230208T123925Z
UID:10001797-1689264000-1689267600@hmi.org
SUMMARY:Your House X Anime House
DESCRIPTION:Your House X Anime House Thursdays from 4-5pm! A place to sit back\, relax and chill out with some anime and snacks! Email Crimson at cporco@hmi.org
URL:https://hmi.org/event/your-house-x-anime-house-2/2023-07-13/
LOCATION:Hetrick-Martin Institute 3rd Floor\, 2 Astor Place 3rd Floor\, New York\, NY\, 10003\, United States
CATEGORIES:Youth Events
END:VEVENT
BEGIN:VEVENT
DTSTART;TZID=America/New_York:20230713T160000
DTEND;TZID=America/New_York:20230713T180000
DTSTAMP:20260421T145848
CREATED:20230705T001934Z
LAST-MODIFIED:20230705T010240Z
UID:10002846-1689264000-1689271200@hmi.org
SUMMARY:Open Art Studio
DESCRIPTION:Open Art Studio Thursdays at 4-6pm. \nHMI’s Open Art Studio offers a variety of materials for your free creative expression\, including (but not limited to) watercolor and acrylic paints\, oil and chalk pastels\, pencils\, pen and ink\, collage materials\, fiber arts\, printmaking materials\, sculpture materials (plaster\, clay\, model magic\, found objects)\, paper crafts\, glitter\, and more. Using materials to express yourself through art can reduce stress\, increase self-awareness\, foster growth of hands-on skills\, improve communication abilities\, and boost self-esteem too! \nEmail Ltabrizi@hmi.org for more info.
URL:https://hmi.org/event/open-art-studio-2-2/2023-07-13/
LOCATION:Hetrick-Martin Institute 3rd Floor\, 2 Astor Place 3rd Floor\, New York\, NY\, 10003\, United States
CATEGORIES:Youth Events
END:VEVENT
BEGIN:VEVENT
DTSTART;TZID=America/New_York:20230713T180000
DTEND;TZID=America/New_York:20230713T193000
DTSTAMP:20260421T145848
CREATED:20230208T104300Z
LAST-MODIFIED:20230208T123203Z
UID:10001712-1689271200-1689276600@hmi.org
SUMMARY:Metamorphosis
DESCRIPTION:Metamorphosis (an open group) will meet weekly on Thursdays 6-7:30pm.  HMIYouth can think about moments in their life when they were challenged and/or asked to grow\, all through storytelling.  The group will explore themes of loss\, acceptance\, self-doubt\, accomplishment\, rejection\, fulfillment\, happiness\, and love. Email Spencer at solson@hmi.org for more info.
URL:https://hmi.org/event/metamorphosis-2/2023-07-13/
LOCATION:Hetrick-Martin Institute 3rd Floor\, 2 Astor Place 3rd Floor\, New York\, NY\, 10003\, United States
CATEGORIES:Youth Events
END:VEVENT
BEGIN:VEVENT
DTSTART;TZID=America/New_York:20230713T180000
DTEND;TZID=America/New_York:20230713T193000
DTSTAMP:20260421T145848
CREATED:20230208T124453Z
LAST-MODIFIED:20230208T124453Z
UID:10001878-1689271200-1689276600@hmi.org
SUMMARY:Soul Circle
DESCRIPTION:Calling all BIPOC LGBTQIA+ youth 13-24! Come join HMI’s Asha and El every Thursday 6-7:30pm (movie nights 5:30pm). This support group for youth of color focuses on healing and joy and meets both virtually and onsite at 2 Astor Place 3rd Floor\, room 345. \nEmail for more info\naalexander@hmi.org or elayla@hmi.org\nzoom link password: HMISoul
URL:https://hmi.org/event/soul-circle-2/2023-07-13/
LOCATION:NY
CATEGORIES:Youth Events
END:VEVENT
END:VCALENDAR