BEGIN:VCALENDAR
VERSION:2.0
PRODID:-//Hetrick-Martin Institute - ECPv6.15.20//NONSGML v1.0//EN
CALSCALE:GREGORIAN
METHOD:PUBLISH
X-ORIGINAL-URL:https://hmi.org
X-WR-CALDESC:Events for Hetrick-Martin Institute
REFRESH-INTERVAL;VALUE=DURATION:PT1H
X-Robots-Tag:noindex
X-PUBLISHED-TTL:PT1H
BEGIN:VTIMEZONE
TZID:America/New_York
BEGIN:DAYLIGHT
TZOFFSETFROM:-0500
TZOFFSETTO:-0400
TZNAME:EDT
DTSTART:20220313T070000
END:DAYLIGHT
BEGIN:STANDARD
TZOFFSETFROM:-0400
TZOFFSETTO:-0500
TZNAME:EST
DTSTART:20221106T060000
END:STANDARD
BEGIN:DAYLIGHT
TZOFFSETFROM:-0500
TZOFFSETTO:-0400
TZNAME:EDT
DTSTART:20230312T070000
END:DAYLIGHT
BEGIN:STANDARD
TZOFFSETFROM:-0400
TZOFFSETTO:-0500
TZNAME:EST
DTSTART:20231105T060000
END:STANDARD
BEGIN:DAYLIGHT
TZOFFSETFROM:-0500
TZOFFSETTO:-0400
TZNAME:EDT
DTSTART:20240310T070000
END:DAYLIGHT
BEGIN:STANDARD
TZOFFSETFROM:-0400
TZOFFSETTO:-0500
TZNAME:EST
DTSTART:20241103T060000
END:STANDARD
END:VTIMEZONE
BEGIN:VEVENT
DTSTART;TZID=America/New_York:20230704T160000
DTEND;TZID=America/New_York:20230704T173000
DTSTAMP:20260421T151240
CREATED:20230208T132524Z
LAST-MODIFIED:20230208T132524Z
UID:10002016-1688486400-1688491800@hmi.org
SUMMARY:Get Psyched: About Games! - Animal Crossing and Chill
DESCRIPTION:“Get Psyched: About Games!” is a safe space to discuss mental health and psychology through the medium of video games! We will play a game together and discuss themes relating to mental health/psychology that show up. Animal Crossing and Chill is until the end of March in room 302! \n \n\n 
URL:https://hmi.org/event/get-psyched-about-games-animal-crossing-and-chill/2023-07-04/
LOCATION:Hetrick-Martin Institute 3rd Floor\, 2 Astor Place 3rd Floor\, New York\, NY\, 10003\, United States
CATEGORIES:Youth Events
END:VEVENT
BEGIN:VEVENT
DTSTART;TZID=America/New_York:20230704T160000
DTEND;TZID=America/New_York:20230704T193000
DTSTAMP:20260421T151240
CREATED:20230208T133027Z
LAST-MODIFIED:20230208T133027Z
UID:10002076-1688486400-1688499000@hmi.org
SUMMARY:Queer Cinema
DESCRIPTION:A space to enjoy queer cinema old and new and share your thoughts on the films. Tuesdays 4-7:30pm.
URL:https://hmi.org/event/queer-cinema/2023-07-04/
LOCATION:Hetrick-Martin Institute 3rd Floor\, 2 Astor Place 3rd Floor\, New York\, NY\, 10003\, United States
CATEGORIES:Youth Events
END:VEVENT
BEGIN:VEVENT
DTSTART;TZID=America/New_York:20230704T173000
DTEND;TZID=America/New_York:20230704T190000
DTSTAMP:20260421T151240
CREATED:20230705T020017Z
LAST-MODIFIED:20230705T020634Z
UID:10001053-1688491800-1688497200@hmi.org
SUMMARY:Trans Treats & Non-Binary Bytes
DESCRIPTION:HMI’s trans and non-binary support group! Join HMI’s Salem every Tuesday from 5:30-7pm in room 301 or on zoom at https://zoom.us/my/hmicounseling Passcode: 797702 Enjoy snacks\, discussions and special guests! Email Salem at svazcones@hmi.org.
URL:https://hmi.org/event/trans-treats-non-binary-bytes-2/
LOCATION:Hetrick-Martin Institute 3rd Floor\, 2 Astor Place 3rd Floor\, New York\, NY\, 10003\, United States
CATEGORIES:Youth Events
ATTACH;FMTTYPE=image/png:https://hmi.org/wp-content/uploads/2022/07/Trans-Treats-Non-Binary-Bytes-2022.png
END:VEVENT
BEGIN:VEVENT
DTSTART;TZID=America/New_York:20230704T180000
DTEND;TZID=America/New_York:20230704T193000
DTSTAMP:20260421T151240
CREATED:20230208T133406Z
LAST-MODIFIED:20230208T133406Z
UID:10002106-1688493600-1688499000@hmi.org
SUMMARY:Trans Treats and Nonbinary Bytes
DESCRIPTION:Join us to talk about gender and how it intersects with all other parts of your identity!  Treat yourself to snacks and a a community space for TGNC youth! trans and non-binary support group!  Join HMI’s Theo and Salem every Tuesday from 5:30-7pm in room 301.  Email Salem at svazcones@hmi.org
URL:https://hmi.org/event/trans-treats-and-nonbinary-bytes/2023-07-04/
LOCATION:NY
CATEGORIES:Youth Events
END:VEVENT
END:VCALENDAR