BEGIN:VCALENDAR
VERSION:2.0
PRODID:-//Hetrick-Martin Institute - ECPv6.15.20//NONSGML v1.0//EN
CALSCALE:GREGORIAN
METHOD:PUBLISH
X-WR-CALNAME:Hetrick-Martin Institute
X-ORIGINAL-URL:https://hmi.org
X-WR-CALDESC:Events for Hetrick-Martin Institute
REFRESH-INTERVAL;VALUE=DURATION:PT1H
X-Robots-Tag:noindex
X-PUBLISHED-TTL:PT1H
BEGIN:VTIMEZONE
TZID:America/New_York
BEGIN:DAYLIGHT
TZOFFSETFROM:-0500
TZOFFSETTO:-0400
TZNAME:EDT
DTSTART:20220313T070000
END:DAYLIGHT
BEGIN:STANDARD
TZOFFSETFROM:-0400
TZOFFSETTO:-0500
TZNAME:EST
DTSTART:20221106T060000
END:STANDARD
BEGIN:DAYLIGHT
TZOFFSETFROM:-0500
TZOFFSETTO:-0400
TZNAME:EDT
DTSTART:20230312T070000
END:DAYLIGHT
BEGIN:STANDARD
TZOFFSETFROM:-0400
TZOFFSETTO:-0500
TZNAME:EST
DTSTART:20231105T060000
END:STANDARD
BEGIN:DAYLIGHT
TZOFFSETFROM:-0500
TZOFFSETTO:-0400
TZNAME:EDT
DTSTART:20240310T070000
END:DAYLIGHT
BEGIN:STANDARD
TZOFFSETFROM:-0400
TZOFFSETTO:-0500
TZNAME:EST
DTSTART:20241103T060000
END:STANDARD
END:VTIMEZONE
BEGIN:VTIMEZONE
TZID:America/New_York
BEGIN:DAYLIGHT
TZOFFSETFROM:-0500
TZOFFSETTO:-0400
TZNAME:EDT
DTSTART:20220313T070000
END:DAYLIGHT
BEGIN:STANDARD
TZOFFSETFROM:-0400
TZOFFSETTO:-0500
TZNAME:EST
DTSTART:20221106T060000
END:STANDARD
BEGIN:DAYLIGHT
TZOFFSETFROM:-0500
TZOFFSETTO:-0400
TZNAME:EDT
DTSTART:20230312T070000
END:DAYLIGHT
BEGIN:STANDARD
TZOFFSETFROM:-0400
TZOFFSETTO:-0500
TZNAME:EST
DTSTART:20231105T060000
END:STANDARD
BEGIN:DAYLIGHT
TZOFFSETFROM:-0500
TZOFFSETTO:-0400
TZNAME:EDT
DTSTART:20240310T070000
END:DAYLIGHT
BEGIN:STANDARD
TZOFFSETFROM:-0400
TZOFFSETTO:-0500
TZNAME:EST
DTSTART:20241103T060000
END:STANDARD
END:VTIMEZONE
BEGIN:VEVENT
DTSTART;TZID=America/New_York:20230615T160000
DTEND;TZID=America/New_York:20230615T170000
DTSTAMP:20260421T163654
CREATED:20220912T020008Z
LAST-MODIFIED:20230605T014035Z
UID:10001432-1686844800-1686848400@hmi.org
SUMMARY:Community Meeting
DESCRIPTION:HMI staff and members come together and talk about relevant topics\, learn what’s new at HMI and play games! All attendees are entered into our weekly raffle! For more information email hmiyouth@hmi.org
URL:https://hmi.org/event/community-meeting/2023-06-15/
LOCATION:NY
CATEGORIES:Youth Events
ATTACH;FMTTYPE=image/png:https://hmi.org/wp-content/uploads/2022/09/COMMUNITY-MEETING.png
END:VEVENT
BEGIN:VEVENT
DTSTART;TZID=America/New_York:20230615T160000
DTEND;TZID=America/New_York:20230615T170000
DTSTAMP:20260421T163654
CREATED:20230208T123925Z
LAST-MODIFIED:20230208T123925Z
UID:10001794-1686844800-1686848400@hmi.org
SUMMARY:Your House X Anime House
DESCRIPTION:Your House X Anime House Thursdays from 4-5pm! A place to sit back\, relax and chill out with some anime and snacks! Email Crimson at cporco@hmi.org
URL:https://hmi.org/event/your-house-x-anime-house-2/2023-06-15/
LOCATION:Hetrick-Martin Institute 3rd Floor\, 2 Astor Place 3rd Floor\, New York\, NY\, 10003\, United States
CATEGORIES:Youth Events
END:VEVENT
BEGIN:VEVENT
DTSTART;TZID=America/New_York:20230615T160000
DTEND;TZID=America/New_York:20230615T170000
DTSTAMP:20260421T163654
CREATED:20230607T003219Z
LAST-MODIFIED:20230607T003229Z
UID:10002839-1686844800-1686848400@hmi.org
SUMMARY:Unpacking Pride
DESCRIPTION:On Thursday\, June 15th\, 22nd and 29th meet at HMI (room TBA) for an open discussion on some of the difficult feelings that may surface during Pride Month.  Unpacking Pride is a space for tending to our mental health and unwinding from Pride.  Please join us!  Email Solson@hmi.org for more information
URL:https://hmi.org/event/unpacking-pride/2023-06-15/
LOCATION:NY
CATEGORIES:Youth Events
ATTACH;FMTTYPE=image/png:https://hmi.org/wp-content/uploads/2023/06/UNPACKING-PRIDE-FLYER.png
ORGANIZER;CN="Spencer Olson":MAILTO:solson@hmi.org
END:VEVENT
BEGIN:VEVENT
DTSTART;TZID=America/New_York:20230615T160000
DTEND;TZID=America/New_York:20230615T193000
DTSTAMP:20260421T163654
CREATED:20230608T014415Z
LAST-MODIFIED:20230608T014422Z
UID:10002843-1686844800-1686857400@hmi.org
SUMMARY:Juneteenth edition of Community Meeting
DESCRIPTION:Join us for Community Meeting and stay to celebrate Juneteenth with HMI we will have music and special activities! At Community Meeting we will be conducting an orientation for upcoming Pride events – Youth Pride Fest and NYC Pride!
URL:https://hmi.org/event/juneteenth-edition-of-community-meeting/
LOCATION:Hetrick-Martin Institute 3rd Floor\, 2 Astor Place 3rd Floor\, New York\, NY\, 10003\, United States
CATEGORIES:Youth Events
ATTACH;FMTTYPE=image/png:https://hmi.org/wp-content/uploads/2023/06/June-Community-Meeting-IG-Instagram-Story-1-1-scaled.png
END:VEVENT
BEGIN:VEVENT
DTSTART;TZID=America/New_York:20230615T180000
DTEND;TZID=America/New_York:20230615T193000
DTSTAMP:20260421T163654
CREATED:20230208T104300Z
LAST-MODIFIED:20230208T123203Z
UID:10001708-1686852000-1686857400@hmi.org
SUMMARY:Metamorphosis
DESCRIPTION:Metamorphosis (an open group) will meet weekly on Thursdays 6-7:30pm.  HMIYouth can think about moments in their life when they were challenged and/or asked to grow\, all through storytelling.  The group will explore themes of loss\, acceptance\, self-doubt\, accomplishment\, rejection\, fulfillment\, happiness\, and love. Email Spencer at solson@hmi.org for more info.
URL:https://hmi.org/event/metamorphosis-2/2023-06-15/
LOCATION:Hetrick-Martin Institute 3rd Floor\, 2 Astor Place 3rd Floor\, New York\, NY\, 10003\, United States
CATEGORIES:Youth Events
END:VEVENT
BEGIN:VEVENT
DTSTART;TZID=America/New_York:20230615T180000
DTEND;TZID=America/New_York:20230615T193000
DTSTAMP:20260421T163654
CREATED:20230208T124453Z
LAST-MODIFIED:20230208T124453Z
UID:10001875-1686852000-1686857400@hmi.org
SUMMARY:Soul Circle
DESCRIPTION:Calling all BIPOC LGBTQIA+ youth 13-24! Come join HMI’s Asha and El every Thursday 6-7:30pm (movie nights 5:30pm). This support group for youth of color focuses on healing and joy and meets both virtually and onsite at 2 Astor Place 3rd Floor\, room 345. \nEmail for more info\naalexander@hmi.org or elayla@hmi.org\nzoom link password: HMISoul
URL:https://hmi.org/event/soul-circle-2/2023-06-15/
LOCATION:NY
CATEGORIES:Youth Events
END:VEVENT
END:VCALENDAR