BEGIN:VCALENDAR
VERSION:2.0
PRODID:-//Hetrick-Martin Institute - ECPv6.15.20//NONSGML v1.0//EN
CALSCALE:GREGORIAN
METHOD:PUBLISH
X-WR-CALNAME:Hetrick-Martin Institute
X-ORIGINAL-URL:https://hmi.org
X-WR-CALDESC:Events for Hetrick-Martin Institute
REFRESH-INTERVAL;VALUE=DURATION:PT1H
X-Robots-Tag:noindex
X-PUBLISHED-TTL:PT1H
BEGIN:VTIMEZONE
TZID:America/New_York
BEGIN:DAYLIGHT
TZOFFSETFROM:-0500
TZOFFSETTO:-0400
TZNAME:EDT
DTSTART:20220313T070000
END:DAYLIGHT
BEGIN:STANDARD
TZOFFSETFROM:-0400
TZOFFSETTO:-0500
TZNAME:EST
DTSTART:20221106T060000
END:STANDARD
BEGIN:DAYLIGHT
TZOFFSETFROM:-0500
TZOFFSETTO:-0400
TZNAME:EDT
DTSTART:20230312T070000
END:DAYLIGHT
BEGIN:STANDARD
TZOFFSETFROM:-0400
TZOFFSETTO:-0500
TZNAME:EST
DTSTART:20231105T060000
END:STANDARD
BEGIN:DAYLIGHT
TZOFFSETFROM:-0500
TZOFFSETTO:-0400
TZNAME:EDT
DTSTART:20240310T070000
END:DAYLIGHT
BEGIN:STANDARD
TZOFFSETFROM:-0400
TZOFFSETTO:-0500
TZNAME:EST
DTSTART:20241103T060000
END:STANDARD
END:VTIMEZONE
BEGIN:VEVENT
DTSTART;TZID=America/New_York:20230603T113000
DTEND;TZID=America/New_York:20230603T123000
DTSTAMP:20260421T165101
CREATED:20230523T010837Z
LAST-MODIFIED:20230523T010838Z
UID:10002423-1685791800-1685795400@hmi.org
SUMMARY:Barry's Run X Lift: Southampton
DESCRIPTION:RUN X LIFT CLASSSATURDAY\, JUNE 3\, 11:30 AMSOUTHAMPTON (HAMPTONS) \nBe ready for PRIDE and SUMMER by registering for one or more of these four Barry’s classes while supporting LGBTQIA+ youth. Barry’s is giving back to HMI through its Barry’s Cares program\, and money raised with go towards School’s Out. Secure your spot at hmi.org/barrys for classes between June 1-4. #hmipride #HMISchoolsOut #barryscares 
URL:https://hmi.org/event/barrys-run-x-lift-southampton/
LOCATION:Barry’s Southampton\, 10 Montauk Hwy\, Southampton\, New York\, 11968\, United States
CATEGORIES:Partner Events
ATTACH;FMTTYPE=image/png:https://hmi.org/wp-content/uploads/2023/05/Barrys-Social-Promo.png
END:VEVENT
BEGIN:VEVENT
DTSTART;TZID=America/New_York:20230603T120000
DTEND;TZID=America/New_York:20230603T150000
DTSTAMP:20260421T165101
CREATED:20230520T152654Z
LAST-MODIFIED:20230602T214224Z
UID:10002420-1685793600-1685804400@hmi.org
SUMMARY:Kendra Scott Shopping Event Benefiting HMI
DESCRIPTION:You’re invited to an HMI Giveback Shopping Event hosted by Kendra Scott. Stop by on Saturday\, June 3 between 12 – 3 pm at one of two Soho store locations. 20% of the proceeds from all jewelry sales will go directly to Hetrick-Martin Institute. Enjoy complimentary sips & sweets while you shop. \nTwo Locations \nKendra Scott Flagship Store126 Spring Street \nYellow Rose by Kendra Scott Pop-up150 Spring Street \nOnline purchases can be made June 3-5 using code GIVEBACK-EETXY
URL:https://hmi.org/event/kendra-scott-shopping-event/
LOCATION:Kendra Scott Flagship Store\, 126 Spring Street\, New York\, New York\, 10012\, United States
CATEGORIES:Partner Events
ATTACH;FMTTYPE=image/jpeg:https://hmi.org/wp-content/uploads/2023/05/Kendra-Scott-Storefront.jpg
END:VEVENT
BEGIN:VEVENT
DTSTART;TZID=America/New_York:20230603T133000
DTEND;TZID=America/New_York:20230603T143000
DTSTAMP:20260421T165101
CREATED:20230523T010441Z
LAST-MODIFIED:20230523T010442Z
UID:10002422-1685799000-1685802600@hmi.org
SUMMARY:Barry's Ride X Lift: Chelsea
DESCRIPTION:RIDE X LIFT CLASSSATURDAY\, JUNE 3\, 1:30 PMCHELSEA (NYC) \nBe ready for PRIDE and SUMMER by registering for one or more of these four Barry’s classes while supporting LGBTQIA+ youth. Barry’s is giving back to HMI through its Barry’s Cares program\, and money raised with go towards School’s Out. Secure your spot at hmi.org/barrys for classes between June 1-4. #hmipride #HMISchoolsOut #barryscares 
URL:https://hmi.org/event/barrys-ride-x-lift-chelsea/
LOCATION:NY
CATEGORIES:Partner Events
ATTACH;FMTTYPE=image/png:https://hmi.org/wp-content/uploads/2023/05/Barrys-Social-Promo.png
END:VEVENT
BEGIN:VEVENT
DTSTART;TZID=America/New_York:20230603T153000
DTEND;TZID=America/New_York:20230603T190000
DTSTAMP:20260421T165101
CREATED:20230516T165205Z
LAST-MODIFIED:20230516T165206Z
UID:10002419-1685806200-1685818800@hmi.org
SUMMARY:NYCFC Pride Day
DESCRIPTION:NYCFC Pride Day Offer! \nJoin New York City Football Club (NYCFC) for our 2023 Pride Day on Saturday\, June 3rd at 3:30pm at Yankee Stadium! \nThe first 5\,000 fans will receive an exclusive Pride Day Bucket Hat! \n$5 from each ticket will be donated to the Hetrick-Martin Institute in NYC\, the nation’s oldest organization helping LGBTQIA+ youth. \nFor groups of 10+ please contact groupsales@nycfc.com for group rates.
URL:https://hmi.org/event/nycfc-pride-day/
LOCATION:NY
CATEGORIES:Partner Events
ATTACH;FMTTYPE=image/jpeg:https://hmi.org/wp-content/uploads/2023/05/NYCFC-Pride-Game.jpg
END:VEVENT
END:VCALENDAR