BEGIN:VCALENDAR
VERSION:2.0
PRODID:-//Hetrick-Martin Institute - ECPv6.15.20//NONSGML v1.0//EN
CALSCALE:GREGORIAN
METHOD:PUBLISH
X-ORIGINAL-URL:https://hmi.org
X-WR-CALDESC:Events for Hetrick-Martin Institute
REFRESH-INTERVAL;VALUE=DURATION:PT1H
X-Robots-Tag:noindex
X-PUBLISHED-TTL:PT1H
BEGIN:VTIMEZONE
TZID:America/New_York
BEGIN:DAYLIGHT
TZOFFSETFROM:-0500
TZOFFSETTO:-0400
TZNAME:EDT
DTSTART:20220313T070000
END:DAYLIGHT
BEGIN:STANDARD
TZOFFSETFROM:-0400
TZOFFSETTO:-0500
TZNAME:EST
DTSTART:20221106T060000
END:STANDARD
BEGIN:DAYLIGHT
TZOFFSETFROM:-0500
TZOFFSETTO:-0400
TZNAME:EDT
DTSTART:20230312T070000
END:DAYLIGHT
BEGIN:STANDARD
TZOFFSETFROM:-0400
TZOFFSETTO:-0500
TZNAME:EST
DTSTART:20231105T060000
END:STANDARD
BEGIN:DAYLIGHT
TZOFFSETFROM:-0500
TZOFFSETTO:-0400
TZNAME:EDT
DTSTART:20240310T070000
END:DAYLIGHT
BEGIN:STANDARD
TZOFFSETFROM:-0400
TZOFFSETTO:-0500
TZNAME:EST
DTSTART:20241103T060000
END:STANDARD
END:VTIMEZONE
BEGIN:VEVENT
DTSTART;TZID=America/New_York:20230330T160000
DTEND;TZID=America/New_York:20230330T170000
DTSTAMP:20260421T202029
CREATED:20230208T123925Z
LAST-MODIFIED:20230208T123925Z
UID:10001786-1680192000-1680195600@hmi.org
SUMMARY:Your House X Anime House
DESCRIPTION:Your House X Anime House Thursdays from 4-5pm! A place to sit back\, relax and chill out with some anime and snacks! Email Crimson at cporco@hmi.org
URL:https://hmi.org/event/your-house-x-anime-house-2/2023-03-30/
LOCATION:Hetrick-Martin Institute 3rd Floor\, 2 Astor Place 3rd Floor\, New York\, NY\, 10003\, United States
CATEGORIES:Youth Events
END:VEVENT
BEGIN:VEVENT
DTSTART;TZID=America/New_York:20230330T180000
DTEND;TZID=America/New_York:20230330T193000
DTSTAMP:20260421T202029
CREATED:20230208T104300Z
LAST-MODIFIED:20230208T123203Z
UID:10001697-1680199200-1680204600@hmi.org
SUMMARY:Metamorphosis
DESCRIPTION:Metamorphosis (an open group) will meet weekly on Thursdays 6-7:30pm.  HMIYouth can think about moments in their life when they were challenged and/or asked to grow\, all through storytelling.  The group will explore themes of loss\, acceptance\, self-doubt\, accomplishment\, rejection\, fulfillment\, happiness\, and love. Email Spencer at solson@hmi.org for more info.
URL:https://hmi.org/event/metamorphosis-2/2023-03-30/
LOCATION:Hetrick-Martin Institute 3rd Floor\, 2 Astor Place 3rd Floor\, New York\, NY\, 10003\, United States
CATEGORIES:Youth Events
END:VEVENT
BEGIN:VEVENT
DTSTART;TZID=America/New_York:20230330T180000
DTEND;TZID=America/New_York:20230330T193000
DTSTAMP:20260421T202029
CREATED:20230208T124453Z
LAST-MODIFIED:20230208T124453Z
UID:10001867-1680199200-1680204600@hmi.org
SUMMARY:Soul Circle
DESCRIPTION:Calling all BIPOC LGBTQIA+ youth 13-24! Come join HMI’s Asha and El every Thursday 6-7:30pm (movie nights 5:30pm). This support group for youth of color focuses on healing and joy and meets both virtually and onsite at 2 Astor Place 3rd Floor\, room 345. \nEmail for more info\naalexander@hmi.org or elayla@hmi.org\nzoom link password: HMISoul
URL:https://hmi.org/event/soul-circle-2/2023-03-30/
LOCATION:NY
CATEGORIES:Youth Events
END:VEVENT
END:VCALENDAR