BEGIN:VCALENDAR
VERSION:2.0
PRODID:-//Hetrick-Martin Institute - ECPv6.15.20//NONSGML v1.0//EN
CALSCALE:GREGORIAN
METHOD:PUBLISH
X-ORIGINAL-URL:https://hmi.org
X-WR-CALDESC:Events for Hetrick-Martin Institute
REFRESH-INTERVAL;VALUE=DURATION:PT1H
X-Robots-Tag:noindex
X-PUBLISHED-TTL:PT1H
BEGIN:VTIMEZONE
TZID:America/New_York
BEGIN:DAYLIGHT
TZOFFSETFROM:-0500
TZOFFSETTO:-0400
TZNAME:EDT
DTSTART:20220313T070000
END:DAYLIGHT
BEGIN:STANDARD
TZOFFSETFROM:-0400
TZOFFSETTO:-0500
TZNAME:EST
DTSTART:20221106T060000
END:STANDARD
BEGIN:DAYLIGHT
TZOFFSETFROM:-0500
TZOFFSETTO:-0400
TZNAME:EDT
DTSTART:20230312T070000
END:DAYLIGHT
BEGIN:STANDARD
TZOFFSETFROM:-0400
TZOFFSETTO:-0500
TZNAME:EST
DTSTART:20231105T060000
END:STANDARD
BEGIN:DAYLIGHT
TZOFFSETFROM:-0500
TZOFFSETTO:-0400
TZNAME:EDT
DTSTART:20240310T070000
END:DAYLIGHT
BEGIN:STANDARD
TZOFFSETFROM:-0400
TZOFFSETTO:-0500
TZNAME:EST
DTSTART:20241103T060000
END:STANDARD
END:VTIMEZONE
BEGIN:VEVENT
DTSTART;TZID=America/New_York:20230201T160000
DTEND;TZID=America/New_York:20230201T170000
DTSTAMP:20260421T152832
CREATED:20230208T125246Z
LAST-MODIFIED:20230208T125246Z
UID:10001886-1675267200-1675270800@hmi.org
SUMMARY:Moving with Mykey
DESCRIPTION:New Open Group – ‘Moving With Mykey’ is an Immersive new open dance group that will be doing a deep dive on different dance styles\, in conjunction with the freedom and ability to create our own choreography. This group will be running from January 25th-March 25th\, 1 hour every Wednesday in the Cafe. Email Mykey at madme@hmi.org for more info.
URL:https://hmi.org/event/moving-with-mykey/2023-02-01/
LOCATION:Hetrick-Martin Institute 3rd Floor\, 2 Astor Place 3rd Floor\, New York\, NY\, 10003\, United States
CATEGORIES:Youth Events
END:VEVENT
BEGIN:VEVENT
DTSTART;TZID=America/New_York:20230201T160000
DTEND;TZID=America/New_York:20230201T190000
DTSTAMP:20260421T152832
CREATED:20220926T094837Z
LAST-MODIFIED:20220926T094952Z
UID:10001481-1675267200-1675278000@hmi.org
SUMMARY:College Prep Drop-In
DESCRIPTION:Are you college bound or currently in college?  Come in an speak to our College Prep Interns!  They can help you with college applications\, scholarships\, essays\, choosing a major and so much more every Wednesday…. Email Angela at Ajones@hmi.org
URL:https://hmi.org/event/college-prep-drop-in/2023-02-01/
LOCATION:Hetrick-Martin Institute 3rd Floor\, 2 Astor Place 3rd Floor\, New York\, NY\, 10003\, United States
CATEGORIES:Youth Events
END:VEVENT
BEGIN:VEVENT
DTSTART;TZID=America/New_York:20230201T160000
DTEND;TZID=America/New_York:20230201T190000
DTSTAMP:20260421T152832
CREATED:20230208T133835Z
LAST-MODIFIED:20230208T133835Z
UID:10002190-1675267200-1675278000@hmi.org
SUMMARY:College Prep Drop-In
DESCRIPTION:Every Wednesday\, 4-7pm get help with everything related to college (FAFSA\, college applications\, essays\, etc.) Email Ajones@hmi.org
URL:https://hmi.org/event/college-prep-drop-in-2/2023-02-01/
LOCATION:Hetrick-Martin Institute 3rd Floor\, 2 Astor Place 3rd Floor\, New York\, NY\, 10003\, United States
CATEGORIES:Youth Events
END:VEVENT
BEGIN:VEVENT
DTSTART;TZID=America/New_York:20230201T180000
DTEND;TZID=America/New_York:20230201T193000
DTSTAMP:20260421T152832
CREATED:20220926T095810Z
LAST-MODIFIED:20230705T005510Z
UID:10001501-1675274400-1675279800@hmi.org
SUMMARY:Open Art Studio
DESCRIPTION:A new session of Open Art Studio – every Wednesday at 6-7:30pm.  Email Ltabrizi@hmi.org for more info.
URL:https://hmi.org/event/open-art-studio-wednesdays/2023-02-01/
LOCATION:Hetrick-Martin Institute 3rd Floor\, 2 Astor Place 3rd Floor\, New York\, NY\, 10003\, United States
CATEGORIES:Youth Events
END:VEVENT
END:VCALENDAR