BEGIN:VCALENDAR
VERSION:2.0
PRODID:-//Hetrick-Martin Institute - ECPv6.15.20//NONSGML v1.0//EN
CALSCALE:GREGORIAN
METHOD:PUBLISH
X-ORIGINAL-URL:https://hmi.org
X-WR-CALDESC:Events for Hetrick-Martin Institute
REFRESH-INTERVAL;VALUE=DURATION:PT1H
X-Robots-Tag:noindex
X-PUBLISHED-TTL:PT1H
BEGIN:VTIMEZONE
TZID:America/New_York
BEGIN:DAYLIGHT
TZOFFSETFROM:-0500
TZOFFSETTO:-0400
TZNAME:EDT
DTSTART:20220313T070000
END:DAYLIGHT
BEGIN:STANDARD
TZOFFSETFROM:-0400
TZOFFSETTO:-0500
TZNAME:EST
DTSTART:20221106T060000
END:STANDARD
BEGIN:DAYLIGHT
TZOFFSETFROM:-0500
TZOFFSETTO:-0400
TZNAME:EDT
DTSTART:20230312T070000
END:DAYLIGHT
BEGIN:STANDARD
TZOFFSETFROM:-0400
TZOFFSETTO:-0500
TZNAME:EST
DTSTART:20231105T060000
END:STANDARD
BEGIN:DAYLIGHT
TZOFFSETFROM:-0500
TZOFFSETTO:-0400
TZNAME:EDT
DTSTART:20240310T070000
END:DAYLIGHT
BEGIN:STANDARD
TZOFFSETFROM:-0400
TZOFFSETTO:-0500
TZNAME:EST
DTSTART:20241103T060000
END:STANDARD
END:VTIMEZONE
BEGIN:VEVENT
DTSTART;TZID=America/New_York:20230130T081500
DTEND;TZID=America/New_York:20230130T153000
DTSTAMP:20260421T152831
CREATED:20230113T214740Z
LAST-MODIFIED:20230113T215252Z
UID:10001604-1675066500-1675092600@hmi.org
SUMMARY:GSA Summit
DESCRIPTION:HMI is excited to be presenting at two Student workshops and two Professional Development workshops. We will also have an exhibitor table so be sure to stop by and say hello. Click the image below to visit the website.
URL:https://hmi.org/event/gsa-summit/
LOCATION:High School of Fashion Industries\, 225 W 24th St\, New York\, NY\, 10011\, United States
CATEGORIES:Corporate,Youth Events
ATTACH;FMTTYPE=image/png:https://hmi.org/wp-content/uploads/2023/01/GSA-Summit-Feature-Image.png
END:VEVENT
BEGIN:VEVENT
DTSTART;TZID=America/New_York:20230130T180000
DTEND;TZID=America/New_York:20230130T193000
DTSTAMP:20260421T152832
CREATED:20220906T191823Z
LAST-MODIFIED:20220906T191827Z
UID:10001181-1675101600-1675107000@hmi.org
SUMMARY:Krafternoon
DESCRIPTION:Krafternoon is a group lead by Crimson and Abbie on Monday nights. We work on creative and collaborative crafting projects such as making beaded necklaces and bracelets\, mixing body glitter\, decorating fans and hand embroidery. Join us (in the Art Space) for snacks\, gossip and crafts!
URL:https://hmi.org/event/krafternoon/2023-01-30/
LOCATION:Hetrick-Martin Institute 3rd Floor\, 2 Astor Place 3rd Floor\, New York\, NY\, 10003\, United States
CATEGORIES:Youth Events
ATTACH;FMTTYPE=image/jpeg:https://hmi.org/wp-content/uploads/2022/08/Krafternoon-summer-2022.jpg
END:VEVENT
END:VCALENDAR