BEGIN:VCALENDAR
VERSION:2.0
PRODID:-//Hetrick-Martin Institute - ECPv6.15.20//NONSGML v1.0//EN
CALSCALE:GREGORIAN
METHOD:PUBLISH
X-ORIGINAL-URL:https://hmi.org
X-WR-CALDESC:Events for Hetrick-Martin Institute
REFRESH-INTERVAL;VALUE=DURATION:PT1H
X-Robots-Tag:noindex
X-PUBLISHED-TTL:PT1H
BEGIN:VTIMEZONE
TZID:America/New_York
BEGIN:DAYLIGHT
TZOFFSETFROM:-0500
TZOFFSETTO:-0400
TZNAME:EDT
DTSTART:20210314T070000
END:DAYLIGHT
BEGIN:STANDARD
TZOFFSETFROM:-0400
TZOFFSETTO:-0500
TZNAME:EST
DTSTART:20211107T060000
END:STANDARD
BEGIN:DAYLIGHT
TZOFFSETFROM:-0500
TZOFFSETTO:-0400
TZNAME:EDT
DTSTART:20220313T070000
END:DAYLIGHT
BEGIN:STANDARD
TZOFFSETFROM:-0400
TZOFFSETTO:-0500
TZNAME:EST
DTSTART:20221106T060000
END:STANDARD
BEGIN:DAYLIGHT
TZOFFSETFROM:-0500
TZOFFSETTO:-0400
TZNAME:EDT
DTSTART:20230312T070000
END:DAYLIGHT
BEGIN:STANDARD
TZOFFSETFROM:-0400
TZOFFSETTO:-0500
TZNAME:EST
DTSTART:20231105T060000
END:STANDARD
END:VTIMEZONE
BEGIN:VEVENT
DTSTART;TZID=America/New_York:20221228T153000
DTEND;TZID=America/New_York:20221228T180000
DTSTAMP:20260421T152925
CREATED:20220910T235154Z
LAST-MODIFIED:20221201T202951Z
UID:10000841-1672241400-1672250400@hmi.org
SUMMARY:HOTT Van Health Services - CANCELLED
DESCRIPTION:Callen Lorde’s HOTT Van visits HMI every wednesday. \n\n\nServices provided include: \n\n\n\n	Urgent medical care\n	Sexual health services\n	HIV/STI screening and treatment\n	Family planning\n	PrEP/PEP treatment and counseling\n	Transgender healthcare/hormone therapy\n	Flu shots and vaccines\n	Crisis counseling\n	Referrals\n\n\n\nEmail Tiffany at Trivera@hmi.org for more info.
URL:https://hmi.org/event/hott-van-health-services-2022-12-28/2022-12-28/
LOCATION:NY
CATEGORIES:Youth Events
ATTACH;FMTTYPE=image/png:https://hmi.org/wp-content/uploads/2022/09/Hott-Van.png
END:VEVENT
BEGIN:VEVENT
DTSTART;TZID=America/New_York:20221228T160000
DTEND;TZID=America/New_York:20221228T170000
DTSTAMP:20260421T152925
CREATED:20220816T125244Z
LAST-MODIFIED:20220825T161811Z
UID:10001146-1672243200-1672246800@hmi.org
SUMMARY:Tattoo Talk+
DESCRIPTION:In this group we will be talking all about tattooing\, piercing\, and body modification from a queer perspective. Wednesdays 4-5pm. What do we like about tattoos and piercings? How do they make us feel? What do we imagine for ourselves in the future? Is there anything we should consider before getting new work? This group will be conversational\, and informational\, with special guests and bits of history! Email Adam at ashecter@hmi.org
URL:https://hmi.org/event/tattoo-talk/2022-12-28/
LOCATION:Hetrick-Martin Institute 3rd Floor\, 2 Astor Place 3rd Floor\, New York\, NY\, 10003\, United States
CATEGORIES:Youth Events
ATTACH;FMTTYPE=image/png:https://hmi.org/wp-content/uploads/2022/08/tattoo-talk.png
END:VEVENT
BEGIN:VEVENT
DTSTART;TZID=America/New_York:20221228T160000
DTEND;TZID=America/New_York:20221228T190000
DTSTAMP:20260421T152925
CREATED:20220926T094837Z
LAST-MODIFIED:20220926T094952Z
UID:10001476-1672243200-1672254000@hmi.org
SUMMARY:College Prep Drop-In
DESCRIPTION:Are you college bound or currently in college?  Come in an speak to our College Prep Interns!  They can help you with college applications\, scholarships\, essays\, choosing a major and so much more every Wednesday…. Email Angela at Ajones@hmi.org
URL:https://hmi.org/event/college-prep-drop-in/2022-12-28/
LOCATION:Hetrick-Martin Institute 3rd Floor\, 2 Astor Place 3rd Floor\, New York\, NY\, 10003\, United States
CATEGORIES:Youth Events
END:VEVENT
BEGIN:VEVENT
DTSTART;TZID=America/New_York:20221228T180000
DTEND;TZID=America/New_York:20221228T180000
DTSTAMP:20260421T152925
CREATED:20221208T183536Z
LAST-MODIFIED:20221212T165916Z
UID:10001594-1672250400-1672250400@hmi.org
SUMMARY:6PM CLOSURE
DESCRIPTION:HMI will be closed at 6pm Dec 23rd\, 27th\, 28th\, 29th\, 30th.  We apologize for the inconvenience.
URL:https://hmi.org/event/6pm-closure-2022-12-27/2022-12-28/
LOCATION:NY
CATEGORIES:Youth Events
ATTACH;FMTTYPE=image/png:https://hmi.org/wp-content/uploads/2022/12/6pm-closure.png
END:VEVENT
BEGIN:VEVENT
DTSTART;TZID=America/New_York:20221228T180000
DTEND;TZID=America/New_York:20221228T193000
DTSTAMP:20260421T152925
CREATED:20220926T095810Z
LAST-MODIFIED:20230705T005510Z
UID:10001496-1672250400-1672255800@hmi.org
SUMMARY:Open Art Studio
DESCRIPTION:A new session of Open Art Studio – every Wednesday at 6-7:30pm.  Email Ltabrizi@hmi.org for more info.
URL:https://hmi.org/event/open-art-studio-wednesdays/2022-12-28/
LOCATION:Hetrick-Martin Institute 3rd Floor\, 2 Astor Place 3rd Floor\, New York\, NY\, 10003\, United States
CATEGORIES:Youth Events
END:VEVENT
END:VCALENDAR