BEGIN:VCALENDAR
VERSION:2.0
PRODID:-//Hetrick-Martin Institute - ECPv6.15.20//NONSGML v1.0//EN
CALSCALE:GREGORIAN
METHOD:PUBLISH
X-ORIGINAL-URL:https://hmi.org
X-WR-CALDESC:Events for Hetrick-Martin Institute
REFRESH-INTERVAL;VALUE=DURATION:PT1H
X-Robots-Tag:noindex
X-PUBLISHED-TTL:PT1H
BEGIN:VTIMEZONE
TZID:America/New_York
BEGIN:DAYLIGHT
TZOFFSETFROM:-0500
TZOFFSETTO:-0400
TZNAME:EDT
DTSTART:20210314T070000
END:DAYLIGHT
BEGIN:STANDARD
TZOFFSETFROM:-0400
TZOFFSETTO:-0500
TZNAME:EST
DTSTART:20211107T060000
END:STANDARD
BEGIN:DAYLIGHT
TZOFFSETFROM:-0500
TZOFFSETTO:-0400
TZNAME:EDT
DTSTART:20220313T070000
END:DAYLIGHT
BEGIN:STANDARD
TZOFFSETFROM:-0400
TZOFFSETTO:-0500
TZNAME:EST
DTSTART:20221106T060000
END:STANDARD
BEGIN:DAYLIGHT
TZOFFSETFROM:-0500
TZOFFSETTO:-0400
TZNAME:EDT
DTSTART:20230312T070000
END:DAYLIGHT
BEGIN:STANDARD
TZOFFSETFROM:-0400
TZOFFSETTO:-0500
TZNAME:EST
DTSTART:20231105T060000
END:STANDARD
END:VTIMEZONE
BEGIN:VEVENT
DTSTART;TZID=America/New_York:20221226T000000
DTEND;TZID=America/New_York:20221226T235959
DTSTAMP:20260421T152925
CREATED:20221014T183615Z
LAST-MODIFIED:20221014T183630Z
UID:10001578-1672012800-1672099199@hmi.org
SUMMARY:HMI CLOSED
DESCRIPTION:HMI will be closed on December 26th\, in observance of the Christmas holiday.  We apologize for the inconvenience.
URL:https://hmi.org/event/hmi-closed-4/
LOCATION:NY
CATEGORIES:Corporate,Youth Events
ATTACH;FMTTYPE=image/png:https://hmi.org/wp-content/uploads/2022/10/Copy-of-Closed-Sign.png
END:VEVENT
BEGIN:VEVENT
DTSTART;TZID=America/New_York:20221226T160000
DTEND;TZID=America/New_York:20221226T180000
DTSTAMP:20260421T152925
CREATED:20220727T125011Z
LAST-MODIFIED:20220928T130435Z
UID:10001030-1672070400-1672077600@hmi.org
SUMMARY:Open Art Studio
DESCRIPTION:HMI’s Open Art Studio offers a variety of materials for your free creative expression\, including (but not limited to) watercolor and acrylic paints\, oil and chalk pastels\, pencils\, pen and ink\, collage materials\, fiber arts\, printmaking materials\, sculpture materials (plaster\, clay\, model magic\, found objects)\, paper crafts\, glitter\, and more.  \n\n\n\nUsing materials to express yourself through art can reduce stress\, increase self-awareness\, foster growth of hands-on skills\, improve communication abilities\, and boost self-esteem too! Hosted by Leesa Tabrizi on Mondays from 4-6 pm in the art space.
URL:https://hmi.org/event/open-art-studio/2022-12-26/
LOCATION:Hetrick-Martin Institute 3rd Floor\, 2 Astor Place 3rd Floor\, New York\, NY\, 10003\, United States
CATEGORIES:Youth Events
ATTACH;FMTTYPE=image/png:https://hmi.org/wp-content/uploads/2022/07/OPEN-ART-STUDIO-Wednesday-.png
END:VEVENT
BEGIN:VEVENT
DTSTART;TZID=America/New_York:20221226T180000
DTEND;TZID=America/New_York:20221226T193000
DTSTAMP:20260421T152925
CREATED:20220906T191823Z
LAST-MODIFIED:20220906T191827Z
UID:10001176-1672077600-1672083000@hmi.org
SUMMARY:Krafternoon
DESCRIPTION:Krafternoon is a group lead by Crimson and Abbie on Monday nights. We work on creative and collaborative crafting projects such as making beaded necklaces and bracelets\, mixing body glitter\, decorating fans and hand embroidery. Join us (in the Art Space) for snacks\, gossip and crafts!
URL:https://hmi.org/event/krafternoon/2022-12-26/
LOCATION:Hetrick-Martin Institute 3rd Floor\, 2 Astor Place 3rd Floor\, New York\, NY\, 10003\, United States
CATEGORIES:Youth Events
ATTACH;FMTTYPE=image/jpeg:https://hmi.org/wp-content/uploads/2022/08/Krafternoon-summer-2022.jpg
END:VEVENT
END:VCALENDAR