BEGIN:VCALENDAR
VERSION:2.0
PRODID:-//Hetrick-Martin Institute - ECPv6.15.20//NONSGML v1.0//EN
CALSCALE:GREGORIAN
METHOD:PUBLISH
X-WR-CALNAME:Hetrick-Martin Institute
X-ORIGINAL-URL:https://hmi.org
X-WR-CALDESC:Events for Hetrick-Martin Institute
REFRESH-INTERVAL;VALUE=DURATION:PT1H
X-Robots-Tag:noindex
X-PUBLISHED-TTL:PT1H
BEGIN:VTIMEZONE
TZID:America/New_York
BEGIN:DAYLIGHT
TZOFFSETFROM:-0500
TZOFFSETTO:-0400
TZNAME:EDT
DTSTART:20210314T070000
END:DAYLIGHT
BEGIN:STANDARD
TZOFFSETFROM:-0400
TZOFFSETTO:-0500
TZNAME:EST
DTSTART:20211107T060000
END:STANDARD
BEGIN:DAYLIGHT
TZOFFSETFROM:-0500
TZOFFSETTO:-0400
TZNAME:EDT
DTSTART:20220313T070000
END:DAYLIGHT
BEGIN:STANDARD
TZOFFSETFROM:-0400
TZOFFSETTO:-0500
TZNAME:EST
DTSTART:20221106T060000
END:STANDARD
BEGIN:DAYLIGHT
TZOFFSETFROM:-0500
TZOFFSETTO:-0400
TZNAME:EDT
DTSTART:20230312T070000
END:DAYLIGHT
BEGIN:STANDARD
TZOFFSETFROM:-0400
TZOFFSETTO:-0500
TZNAME:EST
DTSTART:20231105T060000
END:STANDARD
END:VTIMEZONE
BEGIN:VEVENT
DTSTART;TZID=America/New_York:20221215T160000
DTEND;TZID=America/New_York:20221215T170000
DTSTAMP:20260421T170120
CREATED:20220912T020008Z
LAST-MODIFIED:20221208T174026Z
UID:10001440-1671120000-1671123600@hmi.org
SUMMARY:Community Meeting
DESCRIPTION:HMI staff and members come together and talk about relevant topics\, learn what’s new at HMI and play games! All attendees are entered into our weekly raffle! For more information email hmiyouth@hmi.org
URL:https://hmi.org/event/community-meeting-2022-12-15/2022-12-15/
LOCATION:NY
CATEGORIES:Youth Events
ATTACH;FMTTYPE=image/png:https://hmi.org/wp-content/uploads/2022/09/Community-Meeting-Dec-2022.png
END:VEVENT
BEGIN:VEVENT
DTSTART;TZID=America/New_York:20221215T180000
DTEND;TZID=America/New_York:20221215T190000
DTSTAMP:20260421T170120
CREATED:20220727T133857Z
LAST-MODIFIED:20221014T171446Z
UID:10001122-1671127200-1671130800@hmi.org
SUMMARY:Find Your Stanza
DESCRIPTION:Find Your Stanza! is an in-person poetry writing group. Join us for guided activities\, time to write\, and space for supportive sharing with others. Writing materials will be provided. New and experienced writers are welcome! Feel free to reach out to Elena at eofferman@hmi.org for more information or if you’d like to come to the group.
URL:https://hmi.org/event/find-your-stanza/2022-12-15/
LOCATION:Hetrick-Martin Institute 3rd Floor\, 2 Astor Place 3rd Floor\, New York\, NY\, 10003\, United States
CATEGORIES:Youth Events
ATTACH;FMTTYPE=image/png:https://hmi.org/wp-content/uploads/2022/05/Find-Your-Stanza.png
END:VEVENT
BEGIN:VEVENT
DTSTART;TZID=America/New_York:20221215T180000
DTEND;TZID=America/New_York:20221215T193000
DTSTAMP:20260421T170120
CREATED:20220911T012837Z
LAST-MODIFIED:20220911T012949Z
UID:10000981-1671127200-1671132600@hmi.org
SUMMARY:Soul Circle
DESCRIPTION:Calling all BIPOC LGBTQIA+ youth 13-24! Come join HMI’s Asha and El every Thursday 6-7pm (movie nights 5:30pm). This support group for youth of color focuses on healing and joy and meets both virtually and onsite at 2 Astor Place 3rd Floor\, room 345.Email for more info aalexander@hmi.org or elayla@hmi.orgzoom link password: HMISoul
URL:https://hmi.org/event/soul-circle/2022-12-15/
LOCATION:Hetrick-Martin Institute 3rd Floor\, 2 Astor Place 3rd Floor\, New York\, NY\, 10003\, United States
CATEGORIES:Youth Events
ATTACH;FMTTYPE=image/png:https://hmi.org/wp-content/uploads/2022/09/Soul-Circle-Flyer-General-2022.png
END:VEVENT
BEGIN:VEVENT
DTSTART;TZID=America/New_York:20221215T180000
DTEND;TZID=America/New_York:20221215T193000
DTSTAMP:20260421T170120
CREATED:20221212T184132Z
LAST-MODIFIED:20221212T184132Z
UID:10001599-1671127200-1671132600@hmi.org
SUMMARY:Holiday Pop-Up Shop
DESCRIPTION:
URL:https://hmi.org/event/holiday-pop-up-shop/
LOCATION:Hetrick-Martin Institute 3rd Floor\, 2 Astor Place 3rd Floor\, New York\, NY\, 10003\, United States
CATEGORIES:Youth Events
ATTACH;FMTTYPE=image/png:https://hmi.org/wp-content/uploads/2022/12/HOLIDAY-POP-UP-SHOP-Instagram-Post-Square-12.22-scaled.png
END:VEVENT
END:VCALENDAR