BEGIN:VCALENDAR
VERSION:2.0
PRODID:-//Hetrick-Martin Institute - ECPv6.15.20//NONSGML v1.0//EN
CALSCALE:GREGORIAN
METHOD:PUBLISH
X-WR-CALNAME:Hetrick-Martin Institute
X-ORIGINAL-URL:https://hmi.org
X-WR-CALDESC:Events for Hetrick-Martin Institute
REFRESH-INTERVAL;VALUE=DURATION:PT1H
X-Robots-Tag:noindex
X-PUBLISHED-TTL:PT1H
BEGIN:VTIMEZONE
TZID:America/New_York
BEGIN:DAYLIGHT
TZOFFSETFROM:-0500
TZOFFSETTO:-0400
TZNAME:EDT
DTSTART:20210314T070000
END:DAYLIGHT
BEGIN:STANDARD
TZOFFSETFROM:-0400
TZOFFSETTO:-0500
TZNAME:EST
DTSTART:20211107T060000
END:STANDARD
BEGIN:DAYLIGHT
TZOFFSETFROM:-0500
TZOFFSETTO:-0400
TZNAME:EDT
DTSTART:20220313T070000
END:DAYLIGHT
BEGIN:STANDARD
TZOFFSETFROM:-0400
TZOFFSETTO:-0500
TZNAME:EST
DTSTART:20221106T060000
END:STANDARD
BEGIN:DAYLIGHT
TZOFFSETFROM:-0500
TZOFFSETTO:-0400
TZNAME:EDT
DTSTART:20230312T070000
END:DAYLIGHT
BEGIN:STANDARD
TZOFFSETFROM:-0400
TZOFFSETTO:-0500
TZNAME:EST
DTSTART:20231105T060000
END:STANDARD
END:VTIMEZONE
BEGIN:VEVENT
DTSTART;TZID=America/New_York:20221115T160000
DTEND;TZID=America/New_York:20221115T170000
DTSTAMP:20260421T202842
CREATED:20220727T130343Z
LAST-MODIFIED:20220727T134226Z
UID:10001070-1668528000-1668531600@hmi.org
SUMMARY:Choose Your Own Adventure
DESCRIPTION:A space for you to share experiences and tell stories in different and empowering ways by incorporating elements of fantasy\, science fiction\, and tropes from favorite games and/or tv shows. A no pressure\, guided experience every Tuesday from 4-5pm. Email Tara at tchee@hmi.org
URL:https://hmi.org/event/choose-your-own-adventure/2022-11-15/
LOCATION:Hetrick-Martin Institute 3rd Floor\, 2 Astor Place 3rd Floor\, New York\, NY\, 10003\, United States
CATEGORIES:Youth Events
ATTACH;FMTTYPE=image/png:https://hmi.org/wp-content/uploads/2022/07/Choose-your-own-Adventure.png
END:VEVENT
BEGIN:VEVENT
DTSTART;TZID=America/New_York:20221115T160000
DTEND;TZID=America/New_York:20221115T170000
DTSTAMP:20260421T202842
CREATED:20220911T004224Z
LAST-MODIFIED:20220911T004250Z
UID:10000942-1668528000-1668531600@hmi.org
SUMMARY:Get Psyched About Games
DESCRIPTION:Get Psyched: About Games!” is a safe space to discuss mental health and psychology through the medium of video games! We will play a game together and discuss themes relating to mental health/psychology that show up. Once a month Dr. Laura joins us to share her expertise. This is an excellent time to come with questions and play games with us! In addition\, we will have video game tournaments where youth can win gift cards! Email Mako at jmontalvo@hmi.org for more info.
URL:https://hmi.org/event/get-psyched-about-games/2022-11-15/
LOCATION:Hetrick-Martin Institute 3rd Floor\, 2 Astor Place 3rd Floor\, New York\, NY\, 10003\, United States
CATEGORIES:Youth Events
ATTACH;FMTTYPE=image/png:https://hmi.org/wp-content/uploads/2022/08/Get-Psyched.png
END:VEVENT
BEGIN:VEVENT
DTSTART;TZID=America/New_York:20221115T173000
DTEND;TZID=America/New_York:20221115T190000
DTSTAMP:20260421T202842
CREATED:20220727T125651Z
LAST-MODIFIED:20221005T223542Z
UID:10001048-1668533400-1668538800@hmi.org
SUMMARY:Trans Treats & Non-Binary Bytes
DESCRIPTION:HMI’s trans and non-binary support group! Join HMI’s Salem every Tuesday from 5:30-7pm in room 301 or on zoom at https://zoom.us/my/hmicounseling Passcode: 797702 Enjoy snacks\, discussions and special guests! Email Salem at svazcones@hmi.org.
URL:https://hmi.org/event/trans-treats-non-binary-bytes/2022-11-15/
LOCATION:Hetrick-Martin Institute 3rd Floor\, 2 Astor Place 3rd Floor\, New York\, NY\, 10003\, United States
CATEGORIES:Youth Events
ATTACH;FMTTYPE=image/png:https://hmi.org/wp-content/uploads/2022/07/Trans-Treats-Non-Binary-Bytes-2022.png
END:VEVENT
END:VCALENDAR